Workbook

Sheet น้า
A1: รายละเอียดโครงการพัฒนา
A2: แผนพัฒนาท้องถิ่น (พ.ศ. ๒๕๖๑ – ๒๕๖๕)
A3: เทศบาลตำบลธาตุทอง อำเภอบ่อทอง จังหวัดชลบุรี
A4: ก. | B4: ยุทธศาสตร์จังหวัดที่ 4 พัฒนาระบบผังเมือง ระบบ Logistic โครงสร้างพื้นฐาน และแหล่งน้ำ เพื่อรับรองการขยายตัวทางเศรษฐกิจและสังคมของจังหวัด
A5: ข. | B5: ยุทธศาสตร์การพัฒนาของ อปท. ในเขตจังหวัด ที่ 1 ยุทธศาสตร์การพัฒนาโครงสร้างพื้นฐาน/สาธารณูปโภค
B6: 1. ยุทธศาสตร์การพัฒนาคุณภาพชีวิตประชาชน
B7: 1.1 แผนงานการส่งเสริมการพัฒนาโครงสร้างพื้นฐานและสาธารณูปโภคขั้นพื้นฐานให้ได้ครบถ้วน
A8: ที่ | B8: โครงการ | C8: วัตถุประสงค์ | D8: เป้าหมาย | E8: งบประมาณ | J8: ตัวชี้วัด | K8: ผลที่คาดว่า | L8: หน่วยงาน รับผิดชอบหลัก
D9: (ผลผลิตของโครงการ) | E9: 2566 | F9: 2567 | G9: 2568 | H9: 2569 | I9: 2570 | J9: (KPI) | K9: จะได้รับ
E10: (บาท) | F10: (บาท) | G10: (บาท) | H10: (บาท) | I10: (บาท)
A11: 5 | B11: โครงการขยายไฟฟ้าส่องสว่าง/และติดตั้งไฟฟ้าสาธารณะภายในเขตเทศบาลตำบลธาตุทอง | C11: เพื่อให้มีไฟฟ้าสาธารณะและพร้อมใช้งาน | D11: - สายหนองเสม็ด-บ่อทอง | I11: 150000 | J11: เพิ่มความปลอดภัยให้ประชาชน ร้อยละ 70 | K11: มีไฟฟ้าสาธารณะใช้และพร้อมใช้งานเสมอ | L11: กองช่าง
D12: - สายเจ้เพ็ญ-เขากระถิน ม.6
D13: - สายเนินหิน-เขากระถิน ม.5,ม.6
D14: - สายเนินหิน-บึงตะกู ม.1,ม.8
D15: - สายวัดธาตุทอง ม.4,ม.8
D16: - สายศาลาลุงนิด-บึงตะกู ม.4
D17: - สายหนองไม้แก่น-บึงตะกู ม.4
D18: - สายโรงงานกาว-เนินดินแดง ม.2
D19: - สายโปร่งเกตุ-อ่างสะบ้า ม.9
D20: - สายหนองบอน-บึงตะกู ม.4
D21: - สายุสานไตรคุณธรรม ม.6
D22: - สายบ้านนางเลี้ยง ม.7
D23: - สายซอยอีสานเขียวถึงบ้านชนิดา ม.5
D24: จำนวน 13 แห่ง งบประมาณ แห่งละ100,000
A25: 6 | B25: จัดทำป้ายลดความเร็วพร้อมไฟกระพริบทางแยกหมู่บ้านผสมทรัพย์ร่วมใจ หมู่ 6 | C25: เพื่อป้องกันอุบัติเหตุที่เกิดขึ้น | D25: ป้ายเตือนและสัญญาณไฟกระพริบ | E25: - | F25: - | G25: - | H25: - | I25: 50000 | J25: เพิ่มความปลอดภัย ร้อยละ 75 | K25: สามารถลดอุบัติเหตุได้อย่างมีประสิทธิภาพ | L25: กองช่าง
A26: 9 | B26: ขุดบ่อเจาะบ่อบาดาลพร้อมปั๊มซัมเมอร์สบริเวณบ้านนางสะเดา โพธิ์แสง บ้านเนินหินม.1 | C26: เพื่อให้ประชาชนได้มีน้ำสะอาดใช้อย่างเพียงพอและทั่วถึง | D26: การขุดเจาะบ่อบาดาลพร้อมปั๊มซัมเมอร์ส 1 แห่ง | E26: - | F26: - | G26: - | H26: - | I26: 300000 | J26: ลดปัญหาการขาดแคลนน้ำได้ร้อยละ 75 | K26: ประชาชนมีน้ำอุปโภคและมีน้ำสะอาดใช้อย่างทั่วถึง | L26: กองช่าง
A27: 10 | B27: โครงการก่อสร้างถนน ค.ส.ล. ถนนเทศบาล 21/2 (สายบ้านป้าเอี๋ยว) บ้านหนองเสือช่อหมู่ 7 | C27: เพื่อให้ประชาชนได้มีถนนสำหรับใช้ในการคมนาคมได้อย่างสะดวกรวดเร็วและปลอดภัย | D27: ขนาดกว้าง 4 เมตร ความยาว 700 เมตร หนา 0.15 เมตร | E27: - | F27: - | G27: - | H27: - | I27: 1540000 | J27: ถนนมีมาตรฐานเพิ่มขึ้นร้อยละ 75 | K27: เพื่อให้ประชาชนได้รับความสะดวกสบายในการสัญจรผ่านไปมา | L27: กองช่าง
A28: 11 | B28: โครงการก่อสร้างถนนลงหินคลุกสาย ซอยบ้านจันทิพย์ หมู่ 6 | C28: เพื่อให้ประชาชนสัญจรไปมาและขนส่งสินค้าสะดวก | D28: ขนาดกว้าง 6.00 เมตร ยาว 1,000 เมตร หนาเฉลี่ย 0.15 เมตร | E28: - | F28: - | G28: - | H28: - | I28: 1200000 | J28: ถนนมีมาตรฐานเพิ่มขึ้นร้อยละ 75 | K28: เพื่อให้ประชาชนได้รับความสะดวกสบายในการสัญจรผ่านไปมา | L28: กองช่าง
A29: 12 | B29: โครงการก่อสร้างถนนลงหินคลุก ถนนเทศบาล 19 ซอย 2/4 (สายหลุมตาไพร – เขาเจ้า) บ้านหนองน้ำขาว หมู่ 9 | C29: เพื่อให้ประชาชนมีความสะดวกในการสัญจรไป มา | D29: ขนาดกว้าง 5.00 เมตร ยาว 2,500 เมตร หนา เฉลี่ย 0.15 เมตร | E29: - | F29: - | G29: - | H29: - | I29: 3120000 | J29: ถนนมีมาตรฐานเพิ่มขึ้นร้อยละ 75 | K29: เพื่อให้ประชาชนได้รับความสะดวกสบายในการสัญจรผ่านไปมา | L29: กองช่าง
A30: 14 | B30: โครงการก่อสร้างถนนคสล.ถนนเทศบาล 22 ซอย 7 บ้านโปร่งเกตุ หมู่ 3 | C30: เพื่อประชาชนสัญจรไปมาและขนส่งสินค้าสะดวก | D30: ดำเนินการก่อสร้างถนน ค.ส.ล. ขนาดกว้าง 5 เมตร ยาว 600 เมตร หนา 0.15 เมตร | E30: - | F30: - | G30: - | H30: - | I30: 1650000 | J30: ถนนมีมาตรฐานเพิ่มขึ้นร้อยละ 75 | K30: เพื่อให้ประชาชนได้รับความสะดวกสบายในการสัญจรผ่านไปมา | L30: กองช่าง
A31: 16 | B31: ก่อสร้างถนนลูกรังสายบ้านป้าแมว-หนองหมีตาย ชุมชนแล่งพระรามสามัคคี หมู่ 8 | C31: เพื่อให้ประชาชนสัญจรไปมาและขนส่งสินค้าสะดวก | D31: ถนนลูกรังกว้าง 4 เมตร ยาว 200 เมตรหนาเฉลี่ย 0.15 เมตร พร้อมวางท่อระบายน้ำ | E31: - | F31: - | G31: - | H31: - | I31: 200000 | J31: ถนนมีมาตรฐานเพิ่มขึ้นร้อยละ 75 | K31: ประชาชนสัญจรไปมาและขนส่งสินค้าสะดวก | L31: กองช่าง
A32: 17 | B32: โครงการขยายท่อเมนประปาเชื่อมต่อท่อเมนประปาส่วนภูมิภาค บ้านบึงตะกู หมู่ 4 | C32: เพื่อให้ประชาชนมีน้ำประปาใช้เพื่อบริโภค-อุปโภค | D32: เชื่อมต่อและขยายท่อเมนน้ำประปาจากส่วนภูมิภาค | E32: - | F32: - | G32: - | H32: - | I32: 1000000 | J32: ลดการขาดแคลนน้ำลงร้อยละ 80 | K32: ประชาชนได้มีน้ำสำหรับอุปโภคบริโภคอย่างเพียงพอ | L32: กองช่าง
A33: 18 | B33: ขยายเขตไฟทางถนนเทศบาลตำบลธาตุทอง 9 (สายเนินหิน-บึงตะกู) | C33: เพื่อสะดวกปลอดภัยในการสัญจร | D33: ขยายเขตไฟทางช่วง กมที่ 0.500 ถึง กมที่ 2.000 ระยะทางรวม 1,500 เมตร | E33: - | F33: - | G33: - | H33: - | I33: 400000 | J33: ถนนมีมาตรฐานเพื่อขึ้นร้อยละ 75 | K33: ประชาชนได้รับความปลอดภัย | L33: กองช่าง
A34: 19 | B34: โครงการก่อสร้างถนน คสล.ถนนเทศบาล 7/1 ซอย 6 บ้านห้วยซุง หมู่ 8 | C34: เพื่อประชาชนสัญจรไปมาและขนส่งสินค้าสะดวก | D34: ขนาดกว้าง 4 เมตร ยาว 140 เมตร หนา 0.15 เมตร | E34: - | F34: - | G34: - | H34: - | I34: 400000 | J34: ถนนมีมาตรฐานเพิ่มขึ้นร้อยละ 75 | K34: ประชาชนสัญจรไปมาและขนส่งสินค้าสะดวก | L34: กองช่าง
A35: 20 | B35: โครงการปรับปรุงระบบประปาหมู่บ้านพร้อมขยายท่อเมน จำนวน 2 แห่ง บ้านบึงตะกูหมู่ 4 | C35: เพื่อประชาชนมีน้ำใช้ | D35: ดำเนินการปรับปรุงระบบประปาหมู่บ้านบึงตะกูพร้อมขยายท่อเมน จำนวน 2 แห่ง-อบจ.สร้าง SML | E35: - | F35: - | G35: - | H35: - | I35: 500000 | J35: ลดการขาดแคลนน้ำลงร้อยละ 80 | K35: ประชาชนได้มีน้ำสำหรับอุปโภคบริโภคอย่างเพียงพอ | L35: กองช่าง
A36: 21 | B36: โครงการก่อสร้างถนนลูกหินคลุก ถนนเทศบาล 5/1 บ้านบึงตะกู หมู่ 4 | C36: เพื่อประชาชนสัญจรไปมาและขนส่งสินค้าสะดวก | D36: ขนาดกว้าง 4.00 เมตร ยาว 350 เมตรหนาเฉลี่ย 0.15 | E36: - | F36: - | G36: - | H36: - | I36: 350000 | J36: ถนนมีมาตรฐานเพิ่มขึ้นร้อยละ 75 | K36: ประชาชนสัญจรไปมาและขนส่งสินค้าสะดวก | L36: กองช่าง
... A39: 26 | B39: ขยายเขตไฟงทางถนนเทศบาลตำบลธาตุทอง 4 (สายซอยผสมทรัพย์) ชุมชนเขากระถิน หนองบอนผสมทรัพย์ฯ หมู่ 6 | C39: เพื่อความปลอดภัยของประชาชนในการสัญจร | D39: ขยายเขตไฟฟ้าแสงสว่างพร้อมเพิ่มไฟส่องทาง 20 จุด | E39: - | F39: - | G39: - | H39: - | I39: 200000 | J39: เพิ่มความปลอดภัยร้อยละ 75 | K39: ประชาชนได้มีไฟฟ้าสว่างเพิ่มขึ้น | L39: กองช่าง
A40: 27 | B40: โครงการขุดลอกคู,คลอง,ห้วย,ภายในตำบลธาตุทอง ม.1-ม.9 | C40: เพื่อป้องกันน้ำท่วมและเกษตรกรมีน้ำใช้ในฤดูแล้ง | D40: ขุดลอกคูคลอง ห้วยภายในเขตเทศบาลตำบลธาตุทอง | E40: - | F40: - | G40: - | H40: - | I40: - | J40: ลดการขาดแคลนน้ำลงร้อยละ 80 | K40: ประชาชนได้มีน้ำใช้ทำการเกษตรในฤดูแล้ง | L40: ตัดออก
A41: 29 | B41: ยกระดับถนนลูกรังสายข้างบ้านนายเล็ก วรรณสุริยะ ม.4 | C41: เพื่อประชาชนสัญจรไปมาและขนส่งสินค้าสะดวก | D41: ยกระดับถนนลูกรังสายข้างบ้านนายเล็ก วรรณสุริยะ ขนาดกว้าง 4 เมตร ยาว 200 เมตร | E41: - | F41: - | G41: - | H41: - | I41: 200000 | J41: ถนนมีมาตรฐานเพิ่มขึ้นร้อยละ 75 | K41: ประชาชนสัญจรไปมาและขนส่งสินค้าสะดวก | L41: กองช่าง
A42: 35 | B42: โครงการก่อสร้างถนนหินคลุก ถนนเทศบาล 3 ซอย 5 ( ซอยบ้านผู้ใหญ่ภิรมย์) บ้านบึงตะกู หมู่ 4 | C42: เพื่อให้ประชาชนได้มีถนนสำหรับใช้ในการคมนาคมได้อย่างสะดวก รวดเร็ว และปลอดภัย | D42: ขนาดกว้าง 5.00 เมตร ยาว 250 เมตรหนาเฉลี่ย 0.15 เมตร | E42: - | F42: - | G42: - | H42: - | I42: 350000 | J42: ถนนมีมาตรฐานเพิ่มขึ้นร้อยละ 75 | K42: ประชาชนสัญจรไปมาและขนส่งสินค้าสะดวก | L42: กองช่าง
A43: 39 | B43: โครงการปรับปรุงภูมิทัศน์รอบสระน้ำหนองสังข์ พร้อมวางท่อระบายน้ำ บ้านเนินดินแดงหมู่ 2 | C43: เพื่อปรับปรุงภูมิทัศน์รอบสระน้ำหนองสังข์ | D43: ดำเนินการกำจัดวัชพืชรอบสระน้ำหนองสังข์ และวางท่อระบายน้ำ หมู่ที่ 2 จำนวน 1 แห่ง | E43: - | F43: - | G43: - | H43: - | I43: 500000 | J43: ลดการขาดแคลนน้ำลงร้อนละ 80 | K43: ประชาชนได้มีน้ำสำหรับอุปโภคบริโภคอย่างเพียงพอ | L43: กองช่าง
A44: 41 | B44: โครงการซ่อมแซมแทงค์น้ำ ฝ.99 บริเวณ รพ.สต.บ้านบึงตะกู และบ้านโปร่งเกตุ (ถ่ายโอนจาก รพช.) | C44: เพื่อให้มีน้ำอุปโภคบริโภค | D44: ซ่อมแซมแทงค์น้ำ ฝ.99 จำนวน 2 แห่ง | E44: - | F44: - | G44: - | H44: - | I44: 200000 | J44: ถนนมีมาตรฐานเพิ่มขึ้นร้อยละ 75 | K44: ประชาชนได้มีน้ำสำหรับอุปโภคบริโภคอย่างเพียงพอ | L44: กองช่าง
A45: 44 | B45: โครงการขุดเจาะบ่อบาดาลพร้อมติดตั้ง ปั๊มซัมเมอร์ส บ้านธฤตภณ (วรดิษฐ์) 1 แห่ง หมู่ 7 | C45: เพื่อให้ประชาชนมีน้ำสำหรับใช้อุปโภคอย่างเพียงพอ | D45: บ่อบาดาลพร้อมติดตั้งปั๊มซัมเมอร์ส จำนวน 1 แห่ง | E45: - | F45: - | G45: - | H45: - | I45: 300000 | J45: ลดการขาดแคลนน้ำลงร้อยละ 80 | K45: ประชาชนได้มีน้ำสำหรับอุปโภคบริโภคอย่างเพียงพอ | L45: กองช่าง
A46: 45 | B46: โครงการก่อสร้างวางท่อระบายน้ำค.ส.ล.บริเวณทางแยกหนองเสือช่อหมู่ หมู่ 7 | C46: ป้องกันไม่ให้น้ำไหลเข้าบ้านเรือนประชาชน | D46: ท่อระบายน้ำคสล.ขนาดเส้นผ่าศูนย์กลาง 1.00 เมตร ยาวด้านละ 300 เมตร พร้อมบ่อพัก คสล. | E46: - | F46: - | G46: - | H46: - | I46: 2000000 | J46: ลดปัญหาน้ำท่วมได้ร้อยละ 80 | K46: สามารถแก้ไขปัญหาน้ำท่วมได้อย่างมีประสิทธิภาพ | L46: กองช่าง
A47: 46 | B47: โครงการก่อสร้าง/จัดหาแท็งค์น้ำดื่มเพิ่มเติม (ชุมชนเขากระถินหนองบอนผสมทรัพย์ร่วมใจพัฒนา หมู่ 6) บริเวณหลังสุสานไตรคุณธรรม | C47: เพื่อให้ประชาชนมีน้ำดื่มที่เพียงพอ | D47: ดำเนินการก่อสร้าง/จัดหาแทงค์น้ำดื่ม หมู่ 6 บริเวณหลังสุสานไตรคุณธรรม | E47: - | F47: - | G47: - | H47: - | I47: 100000 | J47: ลดปัญหาการขาดแคลนน้ำร้อยละ 80 | K47: สามารถลดปัญหาการขาดแคลนน้ำของประชาชน | L47: กองช่าง
A48: 47 | B48: โครงการติดไฟฟ้าสาธารณะทางเข้าบริเวณสระน้ำหนองใหญ่ บ้านเนินดินแดง หมู่ 2 | C48: เพื่อความสะดวกในการสัญจรในเวลากลางคืน | D48: จำนวนไฟฟ้า 30 จุด พร้อมเดินสายไฟฟ้า | E48: - | F48: - | G48: - | H48: - | I48: 250000 | J48: เพิ่มความปลอดภัยร้อยละ 75 | K48: ประชาชนได้มีไฟฟ้าแสงสว่างเพิ่มขึ้น | L48: กองช่าง
A49: 48 | B49: โครงการก่อสร้างทางน้ำน้ำล้นคสล. ถนนเทศบาล 21/5 (สายอ่างสะบ้า-เขาระเบิด)บ้านหนองเสือช่อ หมู่ 7 | C49: เพื่อให้ประชาชนได้รับความสะดวกในการระบายน้ำออกจากอาคารบ้านเรือน และระบายน้ำในเขตทาง | D49: ทางน้ำล้นขนาดกว้าง 4.00 เมตร ยาว 6.00 เมตร หนา 0.15 เมตร | E49: - | F49: - | G49: - | H49: - | I49: 100000 | J49: ลดปัญหาน้ำท่วมได้ร้อยละ 80 | K49: สามารถแก้ไขปัญหาน้ำท่วมได้อย่างมีประสิทธิภาพ | L49: กองช่าง
A50: 49 | B50: โครงการก่อสร้างถนน ค.ส.ล.สายอ่างสะบ้า-เขายืด หมู่ 7 (ช่วงที่ 3) | C50: เพื่อให้ประชาชนได้มีถนนสำหรับใช้ในการคมนาคมได้อย่างสะดวก รวดเร็วและปลอดภัย | D50: ขนาดกว้าง 5 เมตร ความยาว 300 เมตร หนา 0.15 เมตร | E50: - | F50: - | G50: - | H50: - | I50: 830000 | J50: ถนนมีมาตรฐานเพิ่มขึ้นร้อยละ 75 | K50: ประชาชนสัญจรไปมาและขนส่งสินค้าสะดวก | L50: กองช่าง
A51: 50 | B51: โครงการก่อสร้างถนนหินคลุก ถนนเทศบาล 22 ซอย 1/2 หมู่ 7 (จากบ้านป้ารัตนา – ผ่านบ้านลุงบุ๊น – ถึงบ้านลุงประกอบ อยู่เย็น) พร้อมท่อระบายน้ำ | C51: เพื่อให้ประชาชนได้มีถนนสำหรับใช้ในการคมนาคมได้อย่างสะดวก รวดเร็ว และปลอดภัย | D51: ขนาดกว้าง 4 เมตร ยาว 1,200 เมตรหนา เฉลี่ย 0.15 เมตร และวางท่อระบายน้ำ ขนาด 80x100 ซม. 1 จุด ขนาด 60x100 ซม. 1 จุด | E51: - | F51: - | G51: - | H51: - | I51: 500000 | J51: ถนนมีมาตรฐานเพิ่มขึ้นร้อยละ 75 | K51: ประชาชนสัญจรไปมาและขนส่งสินค้าสะดวก | L51: กองช่าง
A54: 51 | B54: โครงการก่อสร้างถนนหินคลุก ถนนเทศบาล 3 ซอย 9 (ซอยบ้านสุกัญญาบราวน์) บ้านบึงตะกู หมู่ 4 | C54: เพื่อความสะดวกในการสัญจร ไปมา | D54: ขนาดกว้าง 4 เมตร ยาว 120 เมตร หนาเฉลี่ย 0.15 เมตร | E54: - | F54: - | G54: - | H54: - | I54: 120000 | J54: ถนนมีมาตรฐานเพิ่มขึ้นร้อยละ 75 | K54: ประชาชนสัญจรไปมาและขนส่งสินค้าสะดวก | L54: กองช่าง
A55: 52 | B55: โครงการขยายเขตไฟฟ้าจากบ้านนางลออถึงบ้านนายประทีป หมู่ 8 ชุมชนห้วยซุงสุขฤดี | C55: เพื่อให้ประชาชนได้มีไฟฟ้าใช้อย่างทั่วถึง | D55: ขยายเขตไฟฟ้า ความยาว 500 เมตร | E55: - | F55: 200000 | G55: - | H55: - | I55: - | J55: เพิ่มความปลอดภัยร้อยละ 75 | K55: ประชาชนได้มีไฟฟ้าสว่างเพิ่มขึ้น | L55: กองช่าง
A56: 53 | B56: โครงการก่อสร้าง/ปรับปรุงถนนดินสายทางเข้าบ้านยายล้วน บ้านเลขที่ 92/2 หมู่ 2 | C56: เพื่อความสะดวกในการสัญจร ไปมา | D56: ขนาดกว้าง 4.00 เมตร ยาว 150 เมตร | E56: 150000 | F56: - | G56: - | H56: - | I56: - | J56: ถนนมีมาตรฐานเพิ่มขึ้นร้อยละ 75 | K56: ประชาชนสัญจรไปมาและขนส่งสินค้าสะดวก | L56: ตัดออก
A57: 55 | B57: ขุดลอกคลองมือไทร หมู่ 1 | C57: เพื่อให้คลองสามารถเก็บน้ำได้เพียงพอต่อการเกษตร | D57: ปากคลองกว้างประมาณ 8 เมตร ยาว 1,000 เมตร | I57: 200000 | J57: ลดการขาดแคลนน้ำลงร้อยละ 80 | K57: ประชาชนมีน้ำสำหรับใช้ในการเกษตรอย่างเพียงพอ | L57: กองช่าง
A58: 56 | B58: ขยายเขตประปาชุมชนเนินหินคลองมือไทรร่วมใจพัฒนา หมู่ 1 | C58: เพื่อให้ประชาชนได้มีน้ำสะอาดใช้อย่างเพียงพอและทั่วถึง | D58: วางท่อเมนประปาพีวีซี ชั้น 8.5 ขนาดเส้นผ่าศูนย์กลาง 2 นิ้วยาว 445 เมตร | E58: - | F58: - | G58: - | H58: - | I58: 50000 | J58: ลดการขาดแคลนน้ำลงร้อยละ 80 | K58: ประชาชนได้มีน้ำสำหรับอุปโภคบริโภคอย่างเพียงพอ | L58: กองช่าง
A59: 57 | B59: โครงการก่อสร้างถนน ค.ส.ล. ถนนเทศบาล 22 ซอย 3 บ้านโปร่งเกตุ หมู่ 3 | C59: เพื่อความสะดวกในการสัญจร ไปมา | D59: ขนาดกว้าง 6 เมตร ยาว 1,200 เมตร หนา 0.15 เมตร และวางท่อระบายน้ำ จำนวน 2 แห่ง | G59: - | H59: - | I59: 3400000 | J59: ถนนมีมาตรฐานเพิ่มขึ้นร้อยละ 75 | K59: ประชาชนสัญจรไปมาและขนส่งสิค้าสะดวก | L59: กองช่าง
A60: 58 | B60: โครงการก่อสร้างถนน ค.ส.ล. ซอยบ้านลุงหวัน-บ้านลุงฟา หมู่ 5 เขต 1 | C60: เพื่อประชาชนสัญจรไปมาและขนส่งสินค้าสะดวก | D60: ขนาดกว้าง 4 เมตร ยาว 1,000 เมตร | E60: 2600000 | F60: - | G60: - | H60: - | I60: - | J60: ถนนมีมาตรฐานเพิ่มขึ้นร้อยละ 75 | K60: ประชาชนสัญจรไปมาและขนส่งสินค้าสะดวก | L60: ตัดออก
A61: 60 | B61: โครงการขุดเจาะบ่อบาดาล กลุ่มบ้านนายกิมเช็ง บ้านคลองมือไทรหมู่ 5 | C61: เพื่อให้มีน้ำสำหรับใช้อุปโภค | D61: ขุดเจาะบ่อบาดาล ขนาด 6 นิ้ว จำนวน 1 แห่ง | E61: - | F61: - | G61: - | H61: - | I61: 300000 | J61: ลดการขาดแคลนน้ำลงร้อยละ 80 | K61: ประชาชนได้มีน้ำสำหรับอุปโภคบริโภคอย่างเพียงพอ | L61: กองช่าง
A62: 64 | B62: โครงการขุดเจาะบ่อบาดาลบริเวณบ้านหลงจู๊ป๊อก หมู่ 9 | C62: เพื่อให้มีน้ำสำหรับใช้อุปโภค | D62: ขุดเจาะบ่อบาดาลขนาด 6นิ้ว จำนวน 1 แห่ง | E62: - | F62: - | G62: - | H62: - | I62: 300000 | J62: ลดการขาดแคลนน้ำลงร้อยละ 80 | K62: ประชาชนมีน้ำใช้อย่างเพียงพอ | L62: กองช่าง
A63: 65 | B63: โครงการก่อสร้างถนนหินคลุก (บริเวณบ้านลุงท้วย -เข้าสระน้ำบ้านบึงตะกู) หมู่ 4 | C63: เพื่อให้ประชาชนได้มีถนนสำหรับใช้ในการคมนาคมได้อย่างสะดวกรวดเร็ว และปลอดภัย | D63: ขนาดกว้าง 5 เมตร ยาว 400 เมตร พร้อมทำร่องระบายน้ำเข้าสระน้ำบ้านบึงตะกู หมู่ 4 | E63: - | F63: - | G63: - | H63: - | I63: 500000 | J63: ถนนมีมาตรฐานเพิ่มขึ้นร้อยละ 75 | K63: ประชาชนสัญจรไปมาและขนส่งสินค้าสะดวก | L63: กองช่าง
A64: 70 | B64: โครงการขุดบ่อน้ำตื้น ซอยบ้านลุงสน หมู่ 3 | C64: ประชาชนมีน้ำใช้ในครัวเรือนอย่างเพียงพอ | D64: ขุดบ่อน้ำตื้น หมู่ 3 จำนวน 1 แห่ง | E64: 100000 | F64: - | G64: - | H64: - | I64: - | J64: ลดการขาดแคลนน้ำลงร้อยละ 80 | K64: ประชาชนมีน้ำใช้อย่างเพียงพอ | L64: ตัดออก
A65: 71 | B65: โครงการติดตั้งกล้องวงจรปิดทางแยกเข้ากระถิน,คลองมือไทร-เนินดินแดง,ซอยฟ้าสาง(ศาลา) หมู่ 5 (เขต 1) | C65: เพื่อให้ประชาชนได้รับความสะดวกและปลอดภัย | D65: กล้องวงจรปิด | E65: - | F65: 2000000 | G65: - | H65: - | I65: - | J65: เพิ่มความปลอดภัยร้อยละ 75 | K65: ประชาชนได้มีกล้องวงจรปิดเพื่อลดปัญหาอาชญากรรม | L65: สำนักปลัด
A68: 72 | B68: โครงการขุดบ่อบาดาลบ้านดาวเรือง หมู่ 5 | C68: ประชาชนมีน้ำใช้ในครัวเรือนอย่างเพียงพอ | D68: ขุดเจาะบ่อบาดาล จำนวน 1 แห่ง หมู่ 5 | E68: 100000 | F68: - | G68: - | H68: - | I68: - | J68: ลดการขาดแคนลน้ำลงร้อยละ 80 | K68: ประชาชนมีน้ำใช้อย่างเพียงพอ | L68: ตัดออก
A69: 75 | B69: โครงการก่อสร้างถนน ค.ส.ล.ถนนเทศบาล 20 ซอย 1 ( สายซอยคูเมือง หนองเสือช่อ) หมู่ 7 | C69: เพื่อให้ประชาชนสัญจรไปมาและขนส่งสินค้าสะดวก | D69: ดำเนินการก่อสร้างถนน ค.ส.ล.ขนาดกว้าง 5 เมตร ยาว 1,360 เมตร หนา 0.15 เมตร และวางท่อระบายน้ำ | E69: - | F69: - | G69: - | H69: - | I69: 3750000 | J69: ถนนมีมาตรฐานเพิ่มขึ้นร้อยละ 75 | K69: ประชาชนสัญจรไปมาและขนส่งสินค้าสะดวก | L69: กองช่าง
A70: 76 | B70: โครงการขยายเขตไฟฟ้าทาง ถนนเทศบาล 12/1 (สายซอยอีสานเขียว) | C70: เพื่อความปลอดภัยของประชาชนในการสัญจร | D70: ขยายเขตไฟฟ้าทาง จำนวน 75 จุด | E70: - | F70: - | G70: - | H70: - | I70: 500000 | J70: เพิ่มความปลอดภัยร้อยละ 75 | K70: ประชาชนได้มีไฟฟ้าสว่างเพิ่มขึ้น | L70: กองช่าง
A71: 77 | B71: โครงการวางท่อระบายน้ำ ค.ส.ล.ถนนเทศบาลตำบลธาตุทอง 7 (สายวัดธาตุทอง) หมู่ 8 | C71: เพื่อให้สะดวกในการระบายน้ำ | D71: ก่อสร้างวางท่อระบายน้ำ ค.ส.ล. ขนาดเส้นผ่ศูนย์กลาง 0.60 เมตร 1 แถว แถวละ 10 ท่อน | E71: - | F71: - | G71: - | H71: - | I71: 70000 | J71: ลดปัญหาน้ำท่วมได้ร้อยละ ๘๐ | K71: สามารถแก้ไขปัญหาน้ำท่วมได้อย่างมีประสิทธิภาพ | L71: กองช่าง
A72: 78 | B72: โครงการก่อสร้างถนน ค.ส.ล.ถนนเทศบาล 7/1 ซอย 4 (สายซอยบ้านนายอำนาจ สุภัทรานนท์ ) หมู่ 8 ชุมชนห้วยซุงสุขฤดี | C72: เพื่อให้ประชาชนสัญจรไปมาและขนส่งสินค้าสะดวก | D72: ขนาดกว้าง 3.00 เมตร ยาว 130 เมตรหนา 0.15 เมตร พร้อมวางท่อระบายน้ำ | E72: - | F72: - | G72: - | H72: - | I72: 250000 | J72: ถนนมีมาตรฐานเพิ่มขึ้นร้อยละ 75 | K72: ประชาชนสัญจรไปมาและขนส่งสินค้าสะดวก | L72: กองช่าง
A73: 80 | B73: เปลี่ยนท่อกลมเป็นท่อบล็อกถนนสายบึงตะกู-ทุ่งศาลา(บริเวณบ้านตาชัย)ชุมชนแล่งพระรามสามัคคี หมู่ 8 | C73: เพื่อความสะดวกในการระบายน้ำ | D73: บล็อกระบายน้ำ | E73: - | F73: - | G73: - | H73: - | I73: 250000 | J73: ลดปัญหาน้ำท่วมได้ร้อยละ 80 | K73: สามารถแก้ไขปัญหาน้ำท่วมได้อย่างมีประสิทธิภาพ | L73: กองช่าง
A74: 84 | B74: โครงการก่อสร้างถนนหินคลุกุงถนนถนนเทศบาล (สายบ้านนายรอง) พร้อมซ่อมแซมท่อระบายน้ำ ชุมชนหนองเสือช่อ หมู่ 7 | C74: เพื่อให้มีความสะดวกในการสัญจร | D74: ก่อสร้างถนนหินคลุก ขนากว้าง 6 เมตร ยาว 800 เมตร ขนาดเส้นผ่าศูนย์กลาง 1.00 เมตร | E74: - | F74: - | G74: - | H74: - | I74: 1,200,00 | J74: ถนนมีมาตรฐานเพิ่มขึ้นร้อยละ 75 | K74: ประชาชนสัญจรไปมาและขนส่งสินค้าสะดวก | L74: กองช่าง
A75: 85 | B75: โครงการก่อสร้างถนนหินคลุก ถนนเทศบาล (บ้านนายไกล อังคนาวิน)ชุมชนหนองเสือช่อ หมู่ 7 | C75: เพื่อให้ประชาชนได้มีถนนสำหรับใช้ในการคมนาคมได้อย่างสะดวก รวดเร็ว และปลอดภัย | D75: ก่อสร้างถนนหินคลุก กว้าง 4 เมตร ยาว 1,091 เมตร หนาเฉลี่ย 0.15 เมตร | E75: - | F75: - | G75: - | H75: - | I75: 1100000 | J75: ถนนมีมาตรฐานเพิ่มขึ้นร้อยละ 75 | K75: เพื่อให้ประชาชนได้รับความสะดวกสบายและเพิ่มความปลอดภัยในการสัญจาผ่านไปมา | L75: กองช่าง
A76: 86 | B76: โครงการติดตั้งไฟฟ้าสาธารณะถนนสายจากสี่แยกหนองเสือช่อ-วัดโปร่งเกตุ ชุมชนหนองเสือช่อ หมู่ 7 | C76: เพื่อให้ความสะดวกในการสัญจรในเวลากลางคืน | D76: จำนวนไฟฟ้า 30 จุด | I76: 200000 | J76: มีไฟฟ้าส่องสว่างเพิ่มขึ้น | K76: ประชาชนได้รับความสะดวกและเพิ่มความปลอดภัยในการสัญจรเวลากลางคืน | L76: กองช่าง
A77: 89 | B77: โครงการก่อสร้างถนนคอนกรีตเสริมเหล็ก ถนนเทศบาลตำบลธาตุทอง 22 ซอย 3 หมู่ที่ 3 | C77: เพื่อให้ประชาชนมีถนนสำหรับใช้ในการคมนาคมได้สะดวก | D77: ขนาดกว้าง 5.00 เมตร ยาว 1,170 เมตร หนา 0.15 เมตร พร้อมวางท่อระบายน้ำตามแบบแผนผังเทศบาลตำบลธาตุทอง | E77: - | F77: - | G77: - | H77: - | I77: 3474900 | J77: มีเส้นทางที่มีมาตรฐาน | K77: เพื่อให้ประชาชนได้รับความสะดวกสบายในการสัญจรผ่านไปมา | L77: ตัดออกซ้ำข้อ 57
A78: 90 | B78: โครงการก่อสร้างถนนคอนกรีตเสริมเหล็ก ถนนเทศบาลตำบลธาตุทอง 22/1 หมู่ 7 บ้านหนองเสือช่อ | C78: เพื่อให้ประชาชนมีถนนสำหรับใช้ในการคมนาคมได้สะดวก | D78: ขนาดกว้าง 6.00 เมตร ยาว 1,400 เมตร หนา 0.15 เมตร พร้อมวางท่อระบายน้ำตามแบบแผนผังเทศบาลตำบลธาตุทอง | G78: - | H78: - | I78: 4989600 | J78: มีเส้นทางที่มีมาตรฐาน | K78: เพื่อให้ประชาชนได้รับความสะดวกสบายในการสัญจรผ่านไปมา | L78: กองช่าง
A79: 91 | B79: โครงการก่อสร้างระบบประปาหมู่บ้าน แบบผิวดินขนาดใหญ่มาก บ้านบึงตะกู หมู่ 4 | C79: เพื่อให้มีน้ำประปาใช้อุปโภคบริโภค | D79: ก่อสร้างระบบประปาหมู่บ้าน แบบผิวดินขนาดใหญ่มาก ตามแบบมาตรฐานระบบประปาผิวดินขนาดใหญ่มาก สำนักบริหารจัดการน้ำ กรมทรัพยากรน้ำ | E79: - | F79: - | G79: - | H79: - | I79: 5500000 | J79: ลดปัญหาครัวเรือนไม่มีน้ำประปาใช้ ร้อยละ 90 | K79: ประชาชนมีน้ำประปาใช้อย่างมีคุณภาพ | L79: กองช่าง
A80: 92 | B80: โครงการก่อสร้างถนน ค.ส.ล. ถนนเทศบาล 19/2 บ้านหนองน้ำขาว หมู่ 9 | C80: เพื่อให้ประชาชนมีถนนสำหรับใช้ในการคมนาคมได้สะดวก | D80: ขนาดกว้าง 6.00 เมตร ยาว 1,400 เมตร หนา 0.15 เมตร พร้อมวางท่อระบายน้ำตามแบบแผนผังเทศบาลตำบลธาตุทอง | E80: - | F80: - | G80: - | H80: 4989600 | I80: - | J80: มีเส้นทางที่มีมาตรฐาน | K80: เพื่อให้ประชาชนได้รับความสะดวกสบายในการสัญจรผ่านไปมา | L80: ตัดออก
A81: 93 | B81: โครงการติดตั้งไฟฟ้าแสงสว่าง ริมถนนเทศบาลตำบลธาตุทอง 7 หมู่ 4,8 | C81: เพื่อความสะดวกในการสัญจรในเวลากลางคืน | D81: ติดตั้งไฟฟ้าแสงสว่างเสาไฟฟ้าแบบกิ่งเดี่ยวสูง 9.00 เมตร ชนิดหลอด 250 W.HPS. ติดตั้งแบบริมถนนเทศบาลตำบลธาตุทอง 7 หมู่ 4,8 จำนวน ตามแบบเทศบาลตำบลธาตุทองกำหนด | E81: - | F81: - | G81: - | I81: 3,400,00 | J81: เพื่อความปลอดภัยร้อยละ 90 | K81: ประชาชนได้มีไฟฟ้าแสงสว่างเพิ่มขึ้น | L81: กองช่าง
A82: 94 | B82: โครงการติดตั้งไฟฟ้าแสงสว่าง ริมถนนเทศบาลตำบลธาตุทอง 8 ซอย 4 หมู่ 5,6 | C82: เพื่อความสะดวกในการสัญจรในเวลากลางคืน | D82: ติดตั้งไฟฟ้าแสงสว่างเสาไฟฟ้าแบบกิ่งเดี่ยวสูง 9.00 เมตร ชนิดหลอด 250 W.HPS. ติดตั้งแบบริมถนนเทศบาลตำบลธาตุทอง 8 ซอย 4 หมู่ 5,6 ตามแบบเทศบาลตำบลธาตุทองกำหนด | E82: - | F82: - | G82: - | I82: 2531000 | J82: เพื่อความปลอดภัยร้อยละ 90 | K82: ประชาชนได้มีไฟฟ้าแสงสว่างเพิ่มขึ้น | L82: กองช่าง
A83: 95 | B83: โครงการขุดลอกสระน้ำบ้านโปร่งเกตุ หมู่ 3 | C83: เพื่อปรับปรุงคุณภาพน้ำใช้ในกิจการประปาหมู่บ้านและกักเก็บน้ำให้มีปริมาณเพิ่มมาก | D83: ขุดลอกก้นคลอง กว้าง 8 เมตร ยาว 211 เมตร ลึก 2 เมตร | E83: - | F83: - | G83: - | H83: - | I83: 1180000 | J83: ลดการขาดแคลนน้ำ ร้อยละ 75 | K83: ประชาชนได้รับการพัฒนาแหล่งน้ำ | L83: กองช่าง
A84: 96 | B84: โครงการปรับปรุงตีเส้นจราจร ถนนภายในเขตเทศบาลตำบลธาตุทอง | C84: เพื่อความปลอดภัยในการสัญจรไปมา | D84: ตีเส้นจราจร ขนาดกว้าง 0.15 เมตร ตามแบบเทศบาลตำบลธาตุทองกำหนด | E84: - | F84: - | I84: 783600 | J84: เพื่อความปลอดภัย ร้อยละ 50 | K84: ประชาชนได้มีความปลอดภัยในการใช้ถนน | L84: กองช่าง
D85: - ถนนเทศบาลตำบลธาตุ 4
D86: - ถนนเทศบาลตำบลธาตุ 7
D87: - ถนนเทศบาลตำบลธาตุ 8
D88: - ถนนเทศบาลตำบลธาตุ 9
A89: 97 | B89: โครงการก่อสร้างท่อลอดเหลี่ยม คสล. ถนนสายเทศบาล ๑๗ สายน้ำตกร่มไทรทอง หมู่ ๒ | C89: เพื่อระบายน้ำให้ไหลสะดวก และทดแทนของเดิมที่ชำรุด | D89: ดำเนินการก่อสร้างท่อลอดเหลี่ยม ขนาด ศก. ๑.๕๐ X ๑.๕๐ เมตร ๒ ช่องๆละ ๙ท่อน ตามแบบแปลนแผนผังเทศบาลตำบลธาตุทอง | E89: - | F89: - | G89: - | H89: - | I89: 550000 | J89: ลดอุบัติเหตุ | K89: ประชาชนได้รับความสะดวกสบายในการสัญจรผ่านไปมา | L89: กองช่าง
A90: 98 | B90: โครงการก่อสร้างทางน้ำล้น คสล.สระน้ำบ้านเนินดินแดง หมู่ที่ ๒ | C90: เพื่อระบายน้ำล้นออกจากสระและทดแทนของเดิมที่ชำรุด | D90: ดำเนินการก่อสร้างทางน้ำล้นขนาดกว้าง ๕.๐๐ เมตร ยาว ๒๑ เมตร ตามแบบแปลนแผนผังเทศบาลตำบลธาตุทองกำหนด | E90: - | F90: - | G90: - | H90: - | I90: 400000 | J90: ลดการขาดแคลนน้ำร้อยละ ๗๕ | K90: ประชาชนมีน้ำใช้อย่างเพียงพอ | L90: กองช่าง
A91: 100 | B91: โครงการก่อสร้างลงถนนหินคลุกถนนเทศบาล ๑๑/๑ ซอย ๔ (กลุ่มบ้านนางอุไร แผ่คุณ) หมู่ ๑ | C91: เพื่อให้ประชาชนได้มีถนนสำหรับใช้ในการคมนาคมได้สะดวก | D91: ดำเนินการก่อสร้างถนนหินคลุก หมู่ ๑ ขนาดกว้าง ๔ เมตร ยาว ๓๐0 เมตรหนาเฉลี่ย 0.15 เมตร | E91: - | F91: - | G91: - | H91: - | I91: 300000 | J91: ถนนมีมาตรฐานเพิ่มขึ้น | K91: ประชาชนได้รับความสะดวกสบายในการสัญจรผ่านไปมา | L91: กองช่าง
A92: 111 | B92: โครงการก่อสร้างถนน ค.ส.ล.ถนนเทศบาล ๓ ซอย ๑ (ช่วงที่ 2) บ้านบึงตะกู หมู่ ๔ | C92: เพื่อให้ประชาชนได้มีถนนสำหรับใช้ในการคมนาคมได้สะดวก | D92: ขนาดกว้าง 4.00 เมตร ยาว 300 เมตร หนา 0.15 เมตร | E92: - | F92: - | G92: - | H92: - | I92: 660000 | J92: ถนนมีมาตรฐานเพิ่มขึ้น | K92: ประชาชนได้รับความสะดวก สบายในการสัญจรผ่านไปมา | L92: กองช่าง
A93: 112 | B93: โครงการก่อสร้างท่อระบายน้ำถนนเทศบาล ๕ (สายหนองไม้แก่น – บึงตะกู) หมู่ ๔ | C93: เพื่อให้การระบายน้ำในพื้นที่มีประสิทธิภาพเพิ่มขึ้น | D93: ดำเนินการก่อสร้างท่อระบายน้ำถนนเทศบาล ๕ (สายหนองไม้แก่น – บึงตะกู) หมู่ ๔ จำนวน ๑ แห่ง | E93: - | F93: - | G93: - | H93: - | I93: 70000 | J93: ถนนมีมาตรฐานเพิ่มขึ้น | K93: ลดปัญหาน้ำท่วมบริเวณดังกล่าว | L93: กองช่าง
A96: 113 | B96: โครงการก่อสร้างถนน คสล.ถนนเทศบาล ๕ ซอย ๒ (เข้าสระบึงตะกู) หมู่ ๔ | C96: เพื่อให้ประชาชนได้มีถนนสำหรับใช้ในการคมนาคมได้สะดวก | D96: ก่อสร้างถนนคสล.ถนนเทศบาล ๕ ซอย ๒ ขนาดกว้าง ๔ เมตรหนา 0.15 เมตร ยาว ๓๗๐ เมตร | E96: - | F96: - | G96: - | H96: - | I96: 1100000 | J96: ถนนมีมาตรฐานเพิ่มขึ้น | K96: ประชาชนได้รับความสะดวก สบายในการสัญจรผ่านไปมา | L96: กองช่าง
A97: 115 | B97: โครงการก่อสร้างถนน คสล.ถนนเทศบาล ๘/๑ หมู่ ๕ | C97: เพื่อให้ประชาชนได้มีถนนสำหรับใช้ในการคมนาคมได้สะดวก | D97: ดำเนินการก่อสร้างถนน คสล.ถนนเทศบาล ๘/๑ หมู่ ๕ ขนาดกว้าง ๕ เมตร ยาว หนา 0.15 เมตร ๒๐๐ เมตร | E97: - | F97: - | G97: - | H97: - | I97: 550000 | J97: ถนนมีมาตรฐานเพิ่มขึ้น | K97: ประชาชนได้รับความสะดวก สบายในการสัญจรผ่านไปมา | L97: กองช่าง
A98: 119 | B98: โครงการก่อสร้างถนน คสล.ถนนเทศบาล ๑๒ ซอย ๕ หมู่ ๕ | C98: เพื่อให้ประชาชนได้มีถนนสำหรับใช้ในการคมนาคมได้สะดวก | D98: ดำเนินการก่อสร้างถนนคสล .ถนนเทศบาล ๑๒ ซอย ๕ ขนาดกว้าง ๔ เมตร ยาว ๔๐๐ เมตร หนา 0.15 เมตร | E98: - | F98: - | G98: - | H98: - | I98: 1100000 | J98: ถนนมีมาตรฐานเพิ่มขึ้น | K98: ประชาชนได้รับความสะดวก สบายในการสัญจรผ่านไปมา | L98: กองช่าง
A100: 120 | B100: โครงการก่อสร้างถนน คสล.ถนนเทศบาล ๑๒ ซอย ๒ หมู่ ๕ | C100: เพื่อให้ประชาชนได้มีถนนสำหรับใช้ในการคมนาคมได้สะดวก | D100: ก่อสร้างถนน คสล. ถนนเทศบาล ๑๒ ซอย ๒ ขนาดกว้าง ๔ เมตร ยาว ๓๐๐ เมตร หนา 0.15 เมตร | E100: - | F100: - | G100: - | H100: - | I100: 660000 | J100: ถนนมีมาตรฐานเพิ่มขึ้น | K100: ประชาชนได้รับความสะดวก สบายในการสัญจรผ่านไปมา | L100: กองช่าง
A102: 121 | B102: โครงการก่อสร้างถนนคสล.เทศบาล ๘ ซอย ๕ หมู่ ๕ | C102: เพื่อให้ประชาชนได้มีถนนสำหรับใช้ในการคมนาคมได้สะดวก | D102: ก่อสร้างถนน คสล.เทศบาล ๘ ซอย ๕ ขนาดกว้าง ๔ เมตร ยาว ๓๐๐ เมตร หนา 0.15 เมตร | E102: - | F102: - | G102: - | H102: - | I102: 660000 | J102: ถนนมีมาตรฐานเพิ่มขึ้น | K102: ประชาชนได้รับความสะดวก สบายในการสัญจรผ่านไปมา | L102: กองช่าง
A104: 122 | B104: โครงการก่อสร้างถนนลงหินคลุกถนนเทศบาล ๑๕/๑ หมู่ ๖ | C104: เพื่อให้ประชาชนได้มีถนนสำหรับใช้ในการคมนาคมได้สะดวก | D104: ก่อสร้างถนนลงหินคลุกถนนเทศบาล ๑๕/๑ หมู่ ๖ ขนาดกว้าง ๕ เมตร ยาว 1,๐๐๐ เมตร | E104: - | F104: - | G104: - | H104: - | I104: 1250000 | J104: ถนนมีมาตรฐานเพิ่มขึ้น | K104: ประชาชนได้รับความสะดวก สบายในการสัญจรผ่านไปมา | L104: กองช่าง
A105: 123 | B105: โครงการก่อสร้างถนนลงหินคลุก ถนนเทศบาล ๒ ซอย 5 หมู่ ๖ | C105: เพื่อให้ประชาชนได้มีถนนสำหรับใช้ในการคมนาคมได้สะดวก | D105: ก่อสร้างถนนลงหินคลุกถนนเทศบาล ๒ ซอย 5 ขนาดกว้าง ๔ เมตร ยาว ๕๐๐ เมตร หรา 0.15 เมตร | E105: - | F105: - | G105: - | H105: - | I105: 500000 | J105: ถนนมีมาตรฐานเพิ่มขึ้น | K105: ประชาชนได้รับความสะดวก สบายในการสัญจรผ่านไปมา | L105: กองช่าง
... A114: 135 | B114: โครงการก่อสร้างถนนลงหินคลุกถนนเทศบาล ๗/๑ ซอย ๓ หมู่ ๘ | C114: เพื่อให้ประชาชนได้มีถนนสำหรับใช้ในการคมนาคมได้สะดวก | D114: ดำเนินการก่อสร้าง ถนนลงหินคลุกถนนเทศบาล ๗/๑ ซอย ๓ กว้าง 4.00 เมตร ยาว 50 เมตร หนาเฉลี่ย 0.15 เมตร หมู่ ๘ | E114: - | F114: - | G114: - | H114: - | I114: 55000 | J114: ถนนมีมาตรฐานเพิ่มขึ้น | K114: ประชาชนได้รับความสะดวก สบายในการสัญจรผ่านไปมา | L114: กองช่าง
A115: 145 | B115: โครงการขยายเขตไฟทางถนนสายหนองเสม็ด – บ่อทอง ช่วงระหว่างโรงเรียนบ้านตลาดเนินหิน – โรงเรียนบ้านคลองมือไทร | C115: เพื่อความปลอดภัยของประชาชนในการสัญจรไป-มา | D115: ขยายเขตไฟทางถนนสายหนองเสม็ด-บ่อทองช่วงระหว่างโรงเรียนบ้านตลาดเนินหิน -โรงเรียนบ้านคลองมือไทร ยาว 3,600 เมตร ติดไฟทางจำนวน 180 จุด | E115: - | F115: - | G115: - | H115: - | I115: 9,900,00 | J115: มีความปลอดภัยเพิ่มขึ้น | K115: เพิ่มความปลอดภัยในชีวิตและทรัพย์สินของประชาชน | L115: กองช่าง
A116: 146 | B116: โครงการขยายเขตไฟทางถนนเทศบาล 9/1 (ซอยสุเหร่า) หมู่ ๑ จำนวน 5 จุด | C116: เพื่อความปลอดภัยของประชาชนในการสัญจรไป-มา | D116: ขยายเขตไฟทางถนนเทศบาล (ซอยสุเหร่า) หมู่ ๑ จำนวน 5 จุด | E116: - | F116: - | G116: - | H116: - | I116: 25000 | J116: มีความปลอดภัยเพิ่มขึ้น | K116: เพิ่มความปลอดภัยในชีวิตและทรัพย์สินของประชาชน | L116: กองช่าง
A117: 147 | B117: โครงการขยายเขตไฟฟ้าทางถนนเทศบาล ๘ ซอย ๒ บ้านคลองมือไทร หมู่ ๕ | C117: เพื่อความปลอดภัยของประชาชนในการสัญจรไป-มา | D117: ขยายเขตไฟทางถนนเทศบาล ๘ ซอย ๒ ยาว 1,200 เมตร ติดไฟทางจำนวน 60 จุด | E117: - | F117: - | G117: - | H117: - | I117: 500000 | J117: มีความปลอดภัยเพิ่มขึ้น | K117: เพิ่มความปลอดภัยในชีวิตและทรัพย์สินของประชาชน | L117: กองช่าง
A118: 148 | B118: โครงการขยายเขตไฟฟ้าแรงต่ำถนนเทศบาล 12/1 (ซอยอีสานเขียว) หมู่ ๕ | C118: เพื่อความปลอดภัยของประชาชนในการสัญจรไป-มา | D118: ขยายเขตไฟฟ้าแรงต่ำถนนเทศบาล 12/1 ยาว 1,500 เมตร หมู่ ๕ | E118: - | G118: - | H118: - | I118: 750000 | J118: มีความปลอดภัยเพิ่มขึ้น | K118: เพิ่มความปลอดภัยในชีวิตและทรัพย์สินของประชาชน | L118: กองช่าง
A119: 149 | B119: โครงการขยายเขตไฟฟ้าสาธารณะถนนเทศบาลซอยอีสานเขียวและถนนเทศบาล ๑๒ หมู่ ๕ | C119: เพื่อความปลอดภัยของประชาชนในการสัญจรไป-มา | D119: ดำเนินการขยายเขตไฟฟ้าสาธารณะถนนเทศบาลซอยอีสานเขียวและถนนเทศบาล ๑๒ | E119: - | F119: 120000 | G119: - | H119: - | I119: - | J119: มีความปลอดภัยเพิ่มขึ้น | K119: เพิ่มความปลอดภัยในชีวิตและทรัพย์สินของประชาชน | L119: ซ้ำ ข้อ 76
...

Sheet ผ.01
A1: บัญชีสรุปโครงการพัฒนา
A2: แผนพัฒนาท้องถิ่น (พ.ศ.๒๕๖6 – ๒๕70)
A3: เทศบาลตำบลธาตุทอง อำเภอบ่อทอง จังหวัดชลบุรี
A4: ยุทธศาสตร์ | B4: ปี ๒๕๖๖ | D4: ปี ๒๕๖๗ | F4: ปี ๒๕๖๘ | H4: ปี ๒๕๖๙ | J4: ปี ๒๕๗๐ | L4: รวมโครงการ
B5: จำนวน โครงการ | C5: งบประมาณ | D5: จำนวน โครงการ | E5: งบประมาณ | F5: จำนวน โครงการ | G5: งบประมาณ | H5: จำนวน โครงการ | I5: งบประมาณ | J5: จำนวน โครงการ | K5: งบประมาณ | L5: จำนวน โครงการ | M5: งบประมาณ
C6: (บาท) | E6: (บาท) | G6: (บาท) | I6: (บาท) | K6: (บาท) | M6: (บาท)
A7: ๑. ยุทธศาสตร์การพัฒนาคุณภาพชีวิตของประชาชน
A8: ๑.๑ แผนงานการส่งเสริมการพัฒนาโครงสร้างพื้นฐานและสาธารณูปโภคขั้นพื้นฐานให้ได้ครบถ้วน | B8: 34 | C8: =+'1.1'!E170 -> 31014600 | D8: 33 | E8: =+'1.1'!F170 -> 35168600 | F8: 26 | G8: =+'1.1'!G170 -> 25123600 | H8: 18 | I8: =+'1.1'!H170 -> 19671000 | J8: 34 | K8: =+'1.1'!I170 -> 24555000 | L8: =+B8+D8+F8+H8+J8 -> 145 | M8: =+C8+E8+G8+I8+K8 -> 135532800
A9: ๑.๒ แผนงานการจัดการศึกษาระดับก่อนประถมวัยให้มีคุณภาพมาตรฐานศูนย์พัฒนาเด็กเล็ก | B9: 17 | C9: =+'1.2'!E28 -> 3175000 | D9: 17 | E9: =+'1.2'!F28 -> 3175000 | F9: 17 | G9: =+'1.2'!G28 -> 3175000 | H9: 17 | I9: =+'1.2'!H28 -> 3175000 | J9: 17 | K9: =+'1.2'!I28 -> 3175000 | L9: =+B9+D9+F9+H9+J9 -> 85 | M9: =+C9+E9+G9+I9+K9 -> 15875000
A10: ๑.๓ แผนงานการสนับสนุนการพัฒนาการศึกษาทุกระดับ เพื่อเข้าสู่การเป็นประชาคมอาเซียน | B10: 5 | C10: =+'1.3'!E17 -> 2450000 | D10: 5 | E10: =+'1.3'!F17 -> 1650000 | F10: 6 | G10: =+'1.3'!G17 -> 2580000 | H10: 5 | I10: =+'1.3'!H17 -> 2550000 | J10: 5 | K10: =+'1.3'!I17 -> 2550000 | L10: =+B10+D10+F10+H10+J10 -> 26 | M10: =+C10+E10+G10+I10+K10 -> 11780000
A11: ๑.๔ แผนงานการส่งเสริมการเรียนรู้ของประชาชน | B11: 4 | C11: =+'1.4'!E16 -> 1040000 | D11: 4 | E11: =+'1.4'!F16 -> 1040000 | F11: 5 | G11: =+'1.4'!G16 -> 1740000 | H11: 4 | I11: =+'1.4'!H16 -> 1040000 | J11: 4 | K11: =+'1.4'!I16 -> 1040000 | L11: =+B11+D11+F11+H11+J11 -> 21 | M11: =+C11+E11+G11+I11+K11 -> 5900000
A12: ๑.๕ แผนงานการจัดการสิ่งแวดล้อมในตำบลให้ได้มาตรฐาน | B12: 6 | C12: =+'1.5'!E17 -> 560000 | D12: 6 | E12: =+'1.5'!F17 -> 560000 | F12: 6 | G12: =+'1.5'!G17 -> 560000 | H12: 6 | I12: =+'1.5'!H17 -> 560000 | J12: 6 | K12: =+'1.5'!I17 -> 560000 | L12: =+B12+D12+F12+H12+J12 -> 30 | M12: =+C12+E12+G12+I12+K12 -> 2800000
A13: ๑.๖ แผนงานการส่งเสริมสุขภาพของประชาชน | B13: 17 | C13: =+'1.6'!E34 -> 1435000 | D13: 22 | E13: =+'1.6'!F34 -> 11715000 | F13: 17 | G13: =+'1.6'!G34 -> 1435000 | H13: 18 | I13: =+'1.6'!H34 -> 1475000 | J13: 18 | K13: =+'1.6'!I34 -> 1485000 | L13: =+B13+D13+F13+H13+J13 -> 92 | M13: =+C13+E13+G13+I13+K13 -> 17545000
A14: ๑.๗ แผนงานการส่งเสริมการให้ความช่วยเหลือแก่ผู้ด้อยโอกาส คนชรา เด็กและคนพิการ | B14: 14 | C14: =+'1.7'!E25 -> 1250000 | D14: 14 | E14: =+'1.7'!F25 -> 1250000 | F14: 14 | G14: =+'1.7'!G25 -> 1250000 | H14: 14 | I14: =+'1.7'!H25 -> 1250000 | J14: 14 | K14: =+'1.7'!I25 -> 1250000 | L14: =+B14+D14+F14+H14+J14 -> 70 | M14: =+C14+E14+G14+I14+K14 -> 6250000
A15: รวม | B15: =+B14+B13+B12+B11+B10+B9+B8 -> 97 | C15: =+C14+C13+C12+C11+C10+C9+C8 -> 40924600 | D15: =+D14+D13+D12+D11+D10+D9+D8 -> 101 | E15: =+E14+E13+E12+E11+E10+E9+E8 -> 54558600 | F15: =+F14+F13+F12+F11+F10+F9+F8 -> 91 | G15: =+G14+G13+G12+G11+G10+G9+G8 -> 35863600 | H15: =+H14+H13+H12+H11+H10+H9+H8 -> 82 | I15: =+I14+I13+I12+I11+I10+I9+I8 -> 29721000 | ... M15: =+M14+M13+M12+M11+M10+M9+M8 -> 195682800
A21: ๒. ยุทธศาสตร์การพัฒนาเศรษฐกิจตามปรัชญาเศรษฐกิจพอเพียง
A22: ๒.๑ แผนงานการส่งเสริมกิจกรรมการพัฒนาและส่งเสริมการประกอบอาชีพ | B22: 3 | C22: =+'2.1'!E16 -> 130000 | D22: 5 | E22: =+'2.1'!F16 -> 140000 | F22: 3 | G22: =+'2.1'!G16 -> 130000 | H22: 3 | I22: =+'2.1'!H16 -> 130000 | J22: 3 | K22: =+'2.1'!I16 -> 130000 | L22: =+B22+D22+F22+H22+J22 -> 17 | M22: =+C22+E22+G22+I22+K22 -> 660000
A23: ๒.๒ แผนงานการจัดการทรัพยากรน้ำเพื่อการพัฒนาอาชีพ | B23: 3 | C23: =+'2.2'!E38 -> 2350000 | D23: 11 | E23: =+'2.2'!F38 -> 4100000 | F23: 7 | G23: =+'2.2'!G38 -> 1550000 | H23: 2 | I23: =+'2.2'!H38 -> 3800000 | J23: 6 | K23: =+'2.2'!I38 -> 1650000 | L23: =+B23+D23+F23+H23+J23 -> 29 | M23: =+C23+E23+G23+I23+K23 -> 13450000
A24: ๒.๓ แผนงานการพัฒนาและส่งเสริมอาชีพภูมิปัญญาท้องถิ่น | B24: 4 | C24: =+'2.3'!E15 -> 560000 | D24: 4 | E24: =+'2.3'!F15 -> 560000 | F24: 4 | G24: =+'2.3'!G15 -> 560000 | H24: 4 | I24: =+'2.3'!H15 -> 560000 | J24: 4 | K24: =+'2.3'!I15 -> 560000 | L24: =+B24+D24+F24+H24+J24 -> 20 | M24: =+C24+E24+G24+I24+K24 -> 2800000
A25: ๒.๔ แผนงานการพัฒนาการคมนาคมเพื่อส่งเสริมอาชีพ | B25: 0 | C25: =+'2.4'!E14 -> 0 | D25: 2 | E25: =+'2.4'!F14 -> 2200000 | F25: 1 | G25: =+'2.4'!G14 -> 750000 | H25: 0 | I25: =+'2.4'!H14 -> 0 | J25: 0 | K25: =+'2.4'!I14 -> 0 | L25: =+B25+D25+F25+H25+J25 -> 3 | M25: =+C25+E25+G25+I25+K25 -> 2950000
A26: รวม | B26: =+B22+B23+B24+B25 -> 10 | C26: =+C22+C23+C24+C25 -> 3040000 | D26: =+D22+D23+D24+D25 -> 22 | E26: =+E22+E23+E24+E25 -> 7000000 | F26: =+F22+F23+F24+F25 -> 15 | G26: =+G22+G23+G24+G25 -> 2990000 | H26: =+H22+H23+H24+H25 -> 9 | I26: =+I22+I23+I24+I25 -> 4490000 | ... K26: =+K22+K23+K24+K25 -> 2340000 | L26: =SUM(L22:L25) -> 69 | M26: =SUM(M22:M25) -> 19860000
A27: ๓. ยุทธศาสตร์การพัฒนาการให้บริการตามหลักบริหารจัดการบ้านเมืองที่ดี
A28: ๓.๑ แผนงานการส่งเสริมการให้บริการประชาชนให้ได้มาตรฐาน | B28: 20 | C28: =+'3.1'!E47 -> 7980000 | D28: 22 | E28: =+'3.1'!F47 -> 6630000 | F28: 17 | G28: =+'3.1'!G47 -> 5360000 | H28: 16 | I28: =+'3.1'!H47 -> 5175000 | J28: 13 | K28: =+'3.1'!I47 -> 4750000 | L28: =+B28+D28+F28+H28+J28 -> 88 | M28: =+C28+E28+G28+I28+K28 -> 29895000
A29: ๓.๒ แผนงานการส่งเสริมกิจกรรมพัฒนาบุคลากร | B29: 6 | C29: =+'3.2'!E17 -> 2400000 | D29: 6 | E29: =+'3.2'!F17 -> 2400000 | F29: 6 | G29: =+'3.2'!G17 -> 2400000 | H29: 6 | I29: =+'3.2'!H17 -> 2400000 | J29: 6 | K29: =+'3.2'!I17 -> 2400000 | L29: =+B29+D29+F29+H29+J29 -> 30 | M29: =+C29+E29+G29+I29+K29 -> 12000000
A30: ๓.๓ แผนงานการพัฒนาอุปกรณ์ เครื่องมือให้สะดวก และส่งเสริมการให้บริการ | B30: 18 | C30: =+'3.3'!E37 -> 7115000 | D30: 18 | E30: =+'3.3'!F37 -> 5690200 | F30: 14 | G30: =+'3.3'!G37 -> 6210000 | H30: 12 | I30: =+'3.3'!H37 -> 1280000 | J30: 11 | K30: =+'3.3'!I37 -> 1180000 | L30: =+B30+D30+F30+H30+J30 -> 73 | M30: =+C30+E30+G30+I30+K30 -> 21475200
A31: ๓.๔ แผนงานการเผยแพร่ข้อมูลข่าวสารแก่ประชาชน | B31: 8 | C31: =+'3.4'!E22 -> 1250000 | D31: 9 | E31: =+'3.4'!F22 -> 1850000 | F31: 7 | G31: =+'3.4'!G22 -> 1200000 | H31: 7 | I31: =+'3.4'!H22 -> 1200000 | J31: 8 | K31: =+'3.4'!I22 -> 2200000 | L31: =+B31+D31+F31+H31+J31 -> 39 | M31: =+C31+E31+G31+I31+K31 -> 7700000
A32: ๓.๕ แผนงานการส่งเสริมการมีส่วนร่วมในการบริหารจัดการของประชาชน | B32: 4 | C32: =+'3.5'!E15 -> 1700000 | D32: 4 | E32: =+'3.5'!F15 -> 1700000 | F32: 4 | G32: =+'3.5'!G15 -> 1700000 | H32: 4 | I32: =+'3.5'!H15 -> 1700000 | J32: 4 | K32: =+'3.5'!I15 -> 1700000 | L32: =+B32+D32+F32+H32+J32 -> 20 | M32: =+C32+E32+G32+I32+K32 -> 8500000
A33: รวม | B33: =+B32+B31+B30+B29+B28 -> 56 | C33: =+C32+C31+C30+C29+C28 -> 20445000 | D33: =+D32+D31+D30+D29+D28 -> 59 | E33: =+E32+E31+E30+E29+E28 -> 18270200 | F33: =+F32+F31+F30+F29+F28 -> 48 | G33: =+G32+G31+G30+G29+G28 -> 16870000 | H33: =+H32+H31+H30+H29+H28 -> 45 | I33: =+I32+I31+I30+I29+I28 -> 11755000 | ... M33: =+M32+M31+M30+M29+M28 -> 79570200
A37: ๔. ยุทธศาสตร์การพัฒนาจริยธรรมและคุณธรรม
A38: ๔.๑ แผนงานการส่งเสริมกิจกรรมการพัฒนาจริยธรรมและคุณธรรม | B38: 4 | C38: =+'4.1'!E15 -> 130000 | D38: 4 | E38: =+'4.1'!F15 -> 130000 | F38: 4 | G38: =+'4.1'!G15 -> 130000 | H38: 4 | I38: =+'4.1'!H15 -> 130000 | J38: 4 | K38: =+'4.1'!I15 -> 130000 | L38: =+B38+D38+F38+H38+J38 -> 20 | M38: =+C38+E38+G38+I38+K38 -> 650000
A39: ๔.๒ แผนงานการพัฒนาโครงสร้างพื้นฐานเพื่อส่งเสริมการดำเนินกิจกรรมพัฒนาคุณธรรมและจริยธรรม | B39: 1 | C39: =+'4.2'!E16 -> 3000000 | D39: 1 | E39: =+'4.2'!F16 -> 100000 | F39: 1 | G39: =+'4.2'!G16 -> 200000 | H39: 1 | I39: =+'4.2'!H16 -> 20000 | J39: 1 | K39: =+'4.2'!I16 -> 1600000 | L39: =+B39+D39+F39+H39+J39 -> 5 | M39: =+C39+E39+G39+I39+K39 -> 4920000
A40: ๔.๓ แผนงานการมีส่วนร่วมในการบริหารตรวจสอบการทำงานของ เทศบาล | B40: 8 | C40: =+'4.3'!E19 -> 2090000 | D40: 8 | E40: =+'4.3'!F19 -> 2090000 | F40: 8 | G40: =+'4.3'!G19 -> 2090000 | H40: 8 | I40: =+'4.3'!H19 -> 2090000 | J40: 8 | K40: =+'4.3'!I19 -> 2090000 | L40: =+B40+D40+F40+H40+J40 -> 40 | M40: =+C40+E40+G40+I40+K40 -> 10450000
A41: ๔.๔ แผนงานทางการส่งเสริมกิจกรรมประเพณีท้องถิ่นและการอนุรักษ์วัฒนธรรม | B41: 8 | C41: =+'4.4'!E19 -> 1110000 | D41: 8 | E41: =+'4.4'!F19 -> 1110000 | F41: 8 | G41: =+'4.4'!G19 -> 1110000 | H41: 8 | I41: =+'4.4'!H19 -> 1110000 | J41: 8 | K41: =+'4.4'!I19 -> 1110000 | L41: =+B41+D41+F41+H41+J41 -> 40 | M41: =+C41+E41+G41+I41+K41 -> 5550000
A42: รวม | B42: =+B41+B40+B39+B38 -> 21 | C42: =+C41+C40+C39+C38 -> 6330000 | D42: =+D41+D40+D39+D38 -> 21 | E42: =+E41+E40+E39+E38 -> 3430000 | F42: =+F41+F40+F39+F38 -> 21 | G42: =+G41+G40+G39+G38 -> 3530000 | H42: =+H41+H40+H39+H38 -> 21 | I42: =+I41+I40+I39+I38 -> 3350000 | ... M42: =+M41+M40+M39+M38 -> 21570000
A43: ๕. ยุทธศาสตร์การพัฒนาการส่งเสริมการลงทุนด้านอุตสาหกรรมที่เป็นมิตรต่อสิ่งแวดล้อม
A44: ๕.๑ แผนงานพัฒนาโครงสร้างพื้นฐานเพื่อการลงทุนด้านอุตสาหกรรม | B44: 1 | C44: =+'5.1'!E12 -> 3000000 | D44: 1 | E44: =+'5.1'!F12 -> 3000000 | F44: 1 | G44: =+'5.1'!G12 -> 3000000 | H44: 1 | I44: =+'5.1'!H12 -> 3000000 | J44: 1 | K44: =+'5.1'!I12 -> 3000000 | L44: =+B44+D44+F44+H44+J44 -> 5 | M44: =+C44+E44+G44+I44+K44 -> 15000000
A45: ๕.๒ แผนงานการพัฒนาบุคลากรในด้านอุตสาหกรรม | B45: 2 | C45: =+'5.2'!E13 -> 100000 | D45: 2 | E45: =+'5.2'!F13 -> 100000 | F45: 2 | G45: =+'5.2'!G13 -> 100000 | H45: 2 | I45: =+'5.2'!H13 -> 100000 | J45: 2 | K45: =+'5.2'!I13 -> 100000 | L45: =+B45+D45+F45+H45+J45 -> 10 | M45: =+C45+E45+G45+I45+K45 -> 500000
A46: ๕.๓ แผนงานทางการพัฒนาสิ่งแวดล้อมให้ได้มาตรฐานด้านอุตสาหกรรม | B46: 1 | C46: =+'5.3'!E12 -> 100000 | D46: 1 | E46: =+'5.3'!F12 -> 100000 | F46: 1 | G46: =+'5.3'!G12 -> 100000 | H46: 1 | I46: =+'5.3'!H12 -> 100000 | J46: 1 | K46: =+'5.3'!I12 -> 100000 | L46: =+B46+D46+F46+H46+J46 -> 5 | M46: =+C46+E46+G46+I46+K46 -> 500000
A47: รวม | B47: =+B46+B45+B44+B43 -> 4 | C47: =+C46+C45+C44+C43 -> 3200000 | D47: =+D46+D45+D44+D43 -> 4 | E47: =+E46+E45+E44+E43 -> 3200000 | F47: =+F46+F45+F44+F43 -> 4 | G47: =+G46+G45+G44+G43 -> 3200000 | H47: =+H46+H45+H44+H43 -> 4 | I47: =+I46+I45+I44+I43 -> 3200000 | ... M47: =+M46+M45+M44+M43 -> 16000000
A48: รวมทั้งสิ้น | B48: =+B47+B42+B33+B26+B15 -> 188 | C48: =+C47+C42+C33+C26+C15 -> 73939600 | D48: =+D47+D42+D33+D26+D15 -> 207 | E48: =+E47+E42+E33+E26+E15 -> 86458800 | F48: =+F47+F42+F33+F26+F15 -> 179 | G48: =+G47+G42+G33+G26+G15 -> 62453600 | H48: =+H47+H42+H33+H26+H15 -> 161 | I48: =+I47+I42+I33+I26+I15 -> 52516000 | ... M48: =+M47+M42+M33+M26+M15 -> 332683000

Sheet ผ.01.1
A1: บัญชีสรุปโครงการพัฒนา ที่นำมาจากแผนพัฒนาหมู่บ้าน
A2: เทศบาลตำบลธาตุทอง อำเภอบ่อทอง จังหวัดชลบุรี
A4: โครงการพัฒนาที่นำมาจากแผนพัฒนาหมู่บ้าน | B4: ปี ๒๕๖๖ | D4: ปี ๒๕๖๗ | F4: ปี ๒๕๖๘ | H4: ปี ๒๕๖๙ | J4: ปี ๒๕๗๐ | L4: รวมโครงการ
B5: จำนวน โครงการ | C5: งบประมาณ | D5: จำนวน โครงการ | E5: งบประมาณ | F5: จำนวน โครงการ | G5: งบประมาณ | H5: จำนวน โครงการ | I5: งบประมาณ | J5: จำนวน โครงการ | K5: งบประมาณ | L5: จำนวน โครงการ | M5: งบประมาณ
C6: (บาท) | E6: (บาท) | G6: (บาท) | I6: (บาท) | K6: (บาท) | M6: (บาท)
B8: 10 | C8: =+'ผ.02.1'!E54 -> 9015000 | D8: 8 | E8: =+'ผ.02.1'!F54 -> 3760000 | F8: 10 | G8: =+'ผ.02.1'!G54 -> 10210000 | H8: 8 | I8: =+'ผ.02.1'!H54 -> 22690000 | J8: 8 | K8: =+'ผ.02.1'!I54 -> 7170000 | L8: =+B8+D8+F8+H8+J8 -> 44 | M8: =+C8+E8+G8+I8+K8 -> 52845000
A10: รวม | B10: =SUM(B8:B9) -> 10 | C10: =SUM(C8:C9) -> 9015000 | D10: =SUM(D8:D9) -> 8 | E10: =SUM(E8:E9) -> 3760000 | F10: =SUM(F8:F9) -> 10 | G10: =SUM(G8:G9) -> 10210000 | H10: =SUM(H8:H9) -> 8 | I10: =SUM(I8:I9) -> 22690000 | ... M10: =SUM(M8:M9) -> 52845000

Sheet 1.1
A1: รายละเอียดโครงการพัฒนา
A2: แผนพัฒนาท้องถิ่น (พ.ศ. ๒๕๖๖ – ๒๕๗๐)
A3: เทศบาลตำบลธาตุทอง อำเภอบ่อทอง จังหวัดชลบุรี
A4: ก. | B4: ยุทธศาสตร์จังหวัดที่ 4 ยกระดับประสิทธิภาพการบริหารจัดการภาครัฐ เทคโนโลยี โครงสร้างพื้นฐาน โครงข่ายคมนาคมรองรับเขตพัฒนาพิเศษภาคตะวันออก
A5: ข. | B5: ยุทธศาสตร์การพัฒนาของ อปท. ในเขตจังหวัด ที่ 1 การพัฒนาโครงสร้างพื้นฐาน / สาธารณูปโภค
B6: 1. ยุทธศาสตร์การพัฒนาคุณภาพชีวิตประชาชน
B7: 1.1 แผนงานการส่งเสริมการพัฒนาโครงสร้างพื้นฐานและสาธารณูปโภคขั้นพื้นฐานให้ได้ครบถ้วน
A8: ที่ | B8: โครงการ | C8: วัตถุประสงค์ | D8: เป้าหมาย (ผลผลิตของโครงการ) | E8: งบประมาณ | J8: ตัวชี้วัด(KPI) | K8: ผลที่คาดว่าจะได้รับ | L8: หน่วยงานรับผิดชอบหลัก
E9: 2566 | F9: 2567 | G9: 2568 | H9: 2569 | I9: 2570
E10: (บาท) | F10: (บาท) | G10: (บาท) | H10: (บาท) | I10: (บาท)
A11: 1 | B11: โครงการขยายไฟฟ้าส่องสว่าง/และติดตั้งไฟฟ้าสาธารณะภายในเขตเทศบาลตำบลธาตุทอง | C11: เพื่อให้มีไฟฟ้าสาธารณะและพร้อมใช้งาน | D11: - สายหนองเสม็ด-บ่อทอง | E11: 130000 | F11: 130000 | G11: 130000 | H11: 130000 | I11: 130000 | J11: จำนวนเส้นทางที่ได้รับการพัฒนา | K11: มีไฟฟ้าสาธารณะใช้และพร้อมใช้งานเสมอ | L11: กองช่าง
D12: - สายเจ้เพ็ญ-เขากระถิน ม.6
D13: - สายเนินหิน-เขากระถิน ม.5,ม.6
D14: - สายเนินหิน-บึงตะกู ม.1,ม.8
D15: - สายวัดธาตุทอง ม.4,ม.8
D16: - สายศาลาลุงนิด-บึงตะกู ม.4
D17: - สายหนองไม้แก่น-บึงตะกู ม.4
D18: - สายโรงงานกาว-เนินดินแดง ม.2
D19: - สายโปร่งเกตุ-อ่างสะบ้า ม.9
D20: - สายหนองบอน-บึงตะกู ม.4
D21: - สายุสานไตรคุณธรรม ม.6
D22: - สายบ้านนางเลี้ยง ม.7
D23: - สายซอยอีสานเขียวถึงบ้านชนิดา ม.5
D24: จำนวน 13 แห่ง งบประมาณ แห่งละ100,000
A25: 2 | B25: โครงการปรับปรุงตีเส้นจราจร ถนนภายในเขตเทศบาลตำบลธาตุทอง | C25: เพื่อความปลอดภัยในการสัญจรไปมา | D25: ตีเส้นจราจร ขนาดกว้าง 0.15 เมตร | E25: - | F25: 783600 | G25: 783600 | H25: - | I25: - | J25: ถนนได้รับการพัฒนาตามเป้าหมาย | K25: ประชาชนมีความปลอดภัยในการ ใช้ถนน | L25: กองช่าง
D26: - ถนนเทศบาลตำบลธาตุ 4
D27: - ถนนเทศบาลตำบลธาตุ 7
D28: - ถนนเทศบาลตำบลธาตุ 8
D29: - ถนนเทศบาลตำบลธาตุ 9
A30: 3 | B30: โครงการซ่อมแซม/ปรับปรุง แท็งค์น้ำ ฝ.99 บริเวณ รพ.สต.บ้านบึงตะกู และบ้านโปร่งเกตุ (ถ่ายโอนจาก รพช.) | C30: เพื่อให้มีน้ำอุปโภคบริโภค | D30: ซ่อมแซม/ปรับปรุง แท็งค์น้ำ ฝ.99 จำนวน 2 แห่ง | E30: - | F30: - | G30: - | H30: - | I30: 200000 | J30: จำนวน 2 แห่ง | K30: ประชาชนได้มีน้ำสำหรับอุปโภคบริโภคอย่างเพียงพอ | L30: กองช่าง
A31: 4 | B31: โครงการก่อสร้างระบบประปา บริเวณเทศบาลตำบลธาตุทอง (สระน้ำบ้านเนินหิน) | C31: เพื่อให้มีน้ำประปาใช้เพื่ออุปโภคบริโภค | D31: ก่อสร้างระบบประปาหมู่บ้านแบบผิวดินตามแบบมาตรฐาน | E31: 500000 | F31: - | G31: - | H31: - | I31: - | J31: ระบบประปาได้รับการพัฒนาตามเป้าหมาย | K31: พนักงานและประชาชนมีน้ำประปาใช้อย่างมีคุณภาพ | L31: กองช่าง
A32: 5 | B32: โครงการเปลี่ยนหอถังเหล็ก ส่งน้ำประปาโรงเรียนบ้านโปร่งเกตุ | C32: เพื่อให้นักเรียนได้มีน้ำใช้อุปโภคและบริโภคอย่างมีคุณภาพ | D32: เปลี่ยนหอถังเหล็กส่งน้ำประปาโรงเรียนบ้านโปร่งเกตุ | E32: 25000 | F32: - | G32: - | H32: - | I32: - | J32: ระบบประปาได้รับการพัฒนาตามเป้าหมาย | K32: นักเรียนมีน้ำอุปโภค บริโภคอย่างเพียงพอ | L32: กองช่าง
A33: 6 | B33: โครงการติดตั้งไฟฟ้าแสงสว่าง ริมถนนเทศบาลตำบลธาตุทอง 7 หมู่ที่ 4,8 | C33: เพื่อความสะดวกในการสัญจรในเวลากลางคืน | D33: ติดตั้งไฟฟ้าแสงสว่างเสาไฟฟ้าแบบกิ่งเดี่ยวสูง 9.00 เมตร ชนิดหลอด 250 W.HPS. | E33: - | F33: - | G33: - | H33: - | I33: 3,400,00 | J33: ระบบไฟฟ้างได้รับการพัฒนาตามเป้าหมาย | K33: ประชาชนมีความสะดวกสบายในการเดินทาง | L33: กองช่าง
A34: 7 | B34: โครงการติดตั้งไฟฟ้าแสงสว่าง ริมถนนเทศบาลตำบลธาตุทอง 8 ซอย 4 หมู่ที่ 5,6 | C34: เพื่อความสะดวกในการสัญจรในเวลากลางคืน | D34: ติดตั้งไฟฟ้าแสงสว่างเสาไฟฟ้าแบบกิ่งเดี่ยวสูง 9.00 เมตร ชนิดหลอด 250 W.HPS. | E34: - | F34: - | G34: - | H34: 2531000 | I34: - | J34: ระบบไฟฟ้าได้รับการพัฒนาตามเป้าหมาย | K34: ประชาชนมีความสะดวกสบายในการเดินทาง | L34: กองช่าง
A35: 8 | B35: โครงการก่อสร้างระบบประปา แบบบาดาล และขยายท่อเมนประปา บ้านเนินหิน หมู่ที่ 1 | C35: เพื่อให้ประชาชนได้มีน้ำสะอาดใช้อย่างเพียงพอและทั่วถึง | D35: ขุดเจาะบ่อบาดาลท่อกรุ 6 นิ้ว ก่อสร้างระบบประปาหอถังเหล็กสูง 20 เมตร และขยายท่อเมนประปา พี.วี.ซี ชั้น 8.5 ขนาด เส้นผ่าศูนย์กลาง 2 นิ้ว ยาว 1,000 เมตร และขยายเขตไฟฟ้า | E35: 950000 | F35: - | G35: - | H35: - | I35: - | J35: ระบบประปาได้รับการพัฒนาตามเป้าหมาย | K35: ประชาชนมีน้ำอุปโภคและมีน้ำสะอาดใช้อย่างทั่วถึง | L35: กองช่าง.
A36: 9 | B36: โครงการขุดบ่อเจาะบ่อบาดาลพร้อมปั๊มซัมเมอร์ส บ้านเนินหิน หมู่ที่ 1 | C36: เพื่อให้ประชาชนได้มีน้ำสะอาดใช้อย่างเพียงพอและทั่วถึง | D36: ขุดเจาะบ่อบาดาลพร้อมปั๊มซัมเมอร์ส 1 แห่ง (บริเวณบ้านนางสะเดา โพธิ์แสง) | E36: - | F36: 300000 | G36: - | H36: - | I36: - | J36: ขุดเจาะบ่อบาดาล 1 แห่ง | K36: ประชาชนมีน้ำอุปโภคและมีน้ำสะอาดใช้อย่างทั่วถึง | L36: กองช่าง
A37: 10 | B37: โครงการขุดเจาะบ่อบาดาล พร้อมติดตั้งปั้มซัมเมอร์ส บ้านเนินหิน หมู่ที่ ๑ | C37: เพื่อให้ประชาชนมีน้ำใช้สำหรับทำการเกษตร | D37: ขุดเจาะบ่อบาดาล ขนาด 6 นิ้ว พร้อมติดตั้งปั้มซัมเมอร์ส (บริเวณบ้านนายสกล กิจเจริญทรัพย์ดี) | E37: - | F37: - | G37: 300000 | H37: - | I37: - | J37: ระบบประปาได้รับการพัฒนาตามเป้าหมาย | K37: ประชาชนมีน้ำสำหรับใช้ในการเกษตรและอุปโภคอย่างเพียงพอ | L37: กองช่าง
A38: 11 | B38: โครงการขยายเขตประปาเชื่อมต่อท่อเมนประปาส่วนภูมิภาค บ้านเนินหิน หมู่ที่ 1 | C38: เพื่อให้ประชาชนมีน้ำประปาใช้เพื่อบริโภค-อุปโภค | D38: เชื่อมต่อและขยายท่อเมนน้ำประปาจากส่วนภูมิภาค | E38: - | F38: - | G38: - | H38: 1000000 | I38: - | J38: ระบบประปาได้รับการัฒนาตามเป้าหมาย | K38: ประชาชนได้มีน้ำสำหรับอุปโภคบริโภคอย่างเพียงพอ | L38: กองช่าง
A39: 12 | B39: โครงการขยายเขตประปา บ้านเนินหิน หมู่ที่ 1 | C39: เพื่อให้ประชาชนได้มีน้ำสะอาดใช้อย่างเพียงพอและทั่วถึง | D39: วางท่อเมนประปาพีวีซี ชั้น 8.5 ขนาดเส้นผ่าศูนย์กลาง 2 นิ้วยาว 445 เมตร | E39: - | F39: - | G39: - | H39: - | I39: 50000 | J39: ระบบประปาได้รับการัฒนาตามเป้าหมาย | K39: ประชาชนได้มีน้ำสำหรับอุปโภคบริโภคอย่างเพียงพอ | L39: กองช่าง
A40: 13 | B40: โครงการขยายเขตท่อเมนประปา ถนนเทศบาล 9/1 (ซอยสุเหล่าแขก) บ้านเนินหิน หมู่ที่ 1 | C40: เพื่อให้ประชาชนได้มีน้ำสะอาดใช้อย่างเพียงพอและทั่วถึง | D40: ขยายท่อเมนประปา พี.วี.ซี ชั้น 8.5 ขนาด เส้นผ่าศูนย์กลาง 2 นิ้ว ยาว 700 เมตร | E40: - | F40: - | G40: - | H40: 80000 | I40: - | J40: ระบบประปาได้รับการัฒนาตามเป้าหมาย | K40: ประชาชนได้มีน้ำสำหรับอุปโภคบริโภคอย่างเพียงพอ | L40: กองช่าง.
A41: 14 | B41: โครงการก่อสร้างระบบประปาหมู่บ้าน แบบน้ำผิวดิน (บริเวณเทศบาลตำบลธาตุทอง) บ้านเนินหิน หมู่ที่ 1 | C41: เพื่อให้ประชาชนได้มีน้ำสะอาดใช้อย่างเพียงพอและทั่วถึง | D41: ก่อสร้างระบบประปาหอถังเหล็กส่งน้ำสูง 20 เมตร (ทรงแชมเปญ) | E41: - | F41: - | G41: 360000 | H41: - | I41: - | J41: ระบบประปาได้รับการัฒนาตามเป้าหมาย | K41: ประชาชนได้มีน้ำสำหรับอุปโภคบริโภคอย่างเพียงพอ | L41: กองช่าง.
A42: 15 | B42: โครงการก่อสร้างโรงสูบน้ำบริเวณสระน้ำบ้านเนินหิน หมู่ที่ ๑ | C42: เพื่อสูบน้ำเข้ารถบรรทุกน้ำเทศบาลตำบลธาตุทอง | D42: ติดตั้งเครื่องสูบน้ำ ขนาด 4 นิ้ว พร้อมท่อส่งน้ำ | E42: 35000 | F42: - | G42: - | H42: - | I42: - | J42: จำนวน ๑ แห่ง | K42: สามารถส่งน้ำให้ประชาชน ที่มาขอรับการสนับสนุนน้ำ และการดำเนินการอื่นๆ | L42: กองช่าง
A43: 16 | B43: โครงการก่อสร้างลงถนนหินคลุกถนนเทศบาล ๑๑/๑ ซอย ๔ บ้านเนินหิน หมู่ที่ ๑ | C43: เพื่อให้ประชาชนได้มีถนนสำหรับใช้ในการคมนาคมได้สะดวก | D43: - ถนนกว้าง ๔ เมตร ยาว ๓๐0 เมตร หนาเฉลี่ย 0.15 เมตร - กลุ่มบ้านนางอุไร แผ่คุณ | E43: - | F43: 300000 | G43: - | H43: - | I43: - | J43: ถนนได้รับการพัฒนาตามเป้าหมาย | K43: ประชาชนได้รับความสะดวกสบายในการสัญจรผ่านไปมา | L43: กองช่าง
A44: 17 | B44: โครงการก่อสร้างรางระบายน้ำ บ้านเนินหิน หมู่ที่ 1 | C44: เพื่อป้องกันปัญหาน้ำท่วมขังบริเวณบ้านเรือนประชาชน | D44: ก่อสร้างรางระบายน้ำขนาดกว้างประมาณ 30 ซม. (บล็อกตัวU) หรือท่อระบายน้ำ ความยาว 235 ม. (บริเวณบ้านนาง ลำไย) | E44: 400000 | F44: - | G44: - | H44: - | I44: - | J44: ระบบระบายน้ำได้รับการพัฒนาตามเป้าหมาย | K44: สามารถป้องกันปัญหาน้ำท่วมขังบริเวณบ้านเรือนประชาชนได้ | L44: กองช่าง
A45: 18 | B45: โครงการขยายติดตั้งไฟทางถนนเทศบาล 9/1 (ซอยสุเหร่าแขก) บ้านเนินหิน หมู่ที่ 1 | C45: เพื่อให้ประชาชนได้รับความปลอดภัยในการคมนาคมเวลากลางคืน | D45: ติดตั้งไฟทางชนิดโคมไฟยึดกับเสาไฟฟ้า จำนวน 10 จุด | E45: - | F45: 100000 | G45: - | H45: - | I45: - | J45: ระบบไฟฟ้าได้รับการพัฒนาตามเป้าหมาย | K45: ประชาชนมีความปลอดภัยในการคมนาคมเวลากลางคืน | L45: กองช่าง.
A46: 19 | B46: โครงการก่อสร้างท่อลอดเหลี่ยม คสล. ถนนสายเทศบาล ๑๗ สายน้ำตกร่มไทรทอง บ้านเนินดินแดง หมู่ที่ ๒ | C46: เพื่อระบายน้ำให้ไหลสะดวก และทดแทนของเดิมที่ชำรุด | D46: ก่อสร้างท่อลอดเหลี่ยม ขนาด ศก. ๑.๕๐ X ๑.๕๐ เมตร ๒ ช่องๆละ ๙ท่อน ตามแบบแปลนแผนผังเทศบาลตำบลธาตุทอง | E46: - | F46: - | G46: 550000 | H46: - | I46: - | J46: ระบบระบายน้ำได้รับการพัฒนาตามเป้าหมาย | K46: สามารถระบายน้ำได้สะดวก | L46: กองช่าง
A47: 20 | B47: โครงการวางท่อระบายน้ำ พร้อมบ่อพักน้ำ ถนนเทศบาลตำบลธาตุทอง 14 บ้านเนินดินแดง หมู่ที่ 2 | C47: เพื่อระบายน้ำท่วมขัง | D47: วางท่อระบายน้ำ ค.ส.ล. ขนาดเส้นผ่าศูนย์กลาง 0.60 เมตร พร้อมบ่อพักน้ำค.ส.ล. ยาวรวม 230 เมตร | E47: - | F47: - | G47: - | H47: - | I47: 420000 | J47: ระบบระบายน้ำได้รับการพัฒนาตามเป้าหมาย | K47: เพื่อถูกสุขลักษณะ และป้องกันน้ำท่วมพื้นที่การเกษตร | L47: กองช่าง
A48: 21 | B48: โครงการขุดลอกคลองตะแบก บ้านเนินดินแดง หมู่ที่ 2 | C48: เพื่อกักเก็บน้ำให้มีปริมาณเพิ่มมากขึ้น | D48: ขุดลอกปากคลองกว้าง 5.00 เมตร ยาว 2 กิโลเมตร | E48: 450000 | F48: - | G48: - | H48: - | I48: - | J48: แหล่งน้ำได้รับการพัฒนาตามเป้าหมาย | K48: ประชาชนได้รับประโยชน์การพัฒนาแหล่งน้ำ | L48: กองช่าง.
A49: 22 | B49: โครงการขุดลอกและขยายสระน้ำหนองใหญ่ บ้านเนินดินแดง หมู่ที่ ๒ | C49: เพื่อปรับปรุงคุณภาพน้ำใช้ในกิจการประปาหมู่บ้านและกักเก็บน้ำให้มีปริมาณเพิ่มมากขึ้น | D49: ขุดลอกก้นสระ กว้าง 90 เมตร ยาว 90 เมตร ลึกเฉลี่ย 2 เมตร และขุดขยายสระ ประมาณ 3,000 ตรม. | E49: 1000000 | F49: - | G49: - | H49: - | I49: - | J49: แหล่งน้ำได้รับการพัฒนาตามเป้าหมาย | K49: ประชาชนได้รับประโยชน์การพัฒนาแหล่งน้ำ | L49: กองช่าง
A50: 23 | B50: โครงการก่อสร้างทางน้ำล้น คสล.สระน้ำบ้านเนินดินแดง หมู่ที่ ๒ | C50: เพื่อระบายน้ำล้นออกจากสระและทดแทนของเดิมที่ชำรุด | D50: ก่อสร้างทางน้ำล้นขนาดกว้าง ๕.๐๐ เมตร ยาว ๒๑ เมตร ตามแบบแปลนแผนผังเทศบาลตำบลธาตุทองกำหนด | E50: - | F50: - | G50: 400000 | H50: - | I50: - | J50: ระบบระบายน้ำได้รับการพัฒนาตามเป้าหมาย | K50: ประชาชนมีน้ำใช้อย่างเพียงพอ | L50: กองช่าง
A51: 24 | B51: โครงการขยายเขตท่อเมนประปา บ้านหนองสังข์ หมู่ที่ ๒ | C51: เพื่อให้ประชาชนมีน้ำใช้สำหรับทำการเกษตร | D51: ขยายท่อเมนประปา พี.วี.ซี ชั้น 8.5 ขนาด เส้นผ่าศูนย์กลาง 2 นิ้ว ยาว 1,000 เมตร | E51: - | F51: - | G51: - | H51: - | I51: 250000 | J51: ระบบประปาได้รับการพัฒนาตามเป้าหมาย | K51: ประชาชนได้รับประโยชน์การพัฒนาแหล่งน้ำ | L51: กองช่าง.
A52: 25 | B52: โครงการปรับปรุงภูมิทัศน์รอบสระน้ำหนองสังข์ หมู่ที่ 2 | C52: เพื่อปรับปรุงภูมิทัศน์รอบสระน้ำหนองสังข์ | D52: ปรับปรุงภูมิทัศ์รอบสระน้ำ และวางท่อระบายน้ำ คสล.ขนาดเส้นผ่าศูนยืกลาง 1.00 เมตร ยาว 100 เมตร | E52: - | F52: 550000 | G52: - | H52: - | I52: - | J52: แหล่งน้ำได้รับการพัฒนาตามเป้าหมาย | K52: ประชาชนมีน้ำใช้อย่างมีคุณภาพ | L52: กองช่าง.
A53: 26 | B53: โครงการติดตั้งไฟฟ้าสาธารณะทางเข้าบริเวณสระน้ำหนองใหญ่ บ้านเนินดินแดง หมู่ที่ 2 | C53: เพื่อความสะดวกในการสัญจรในเวลากลางคืน | D53: จำนวนไฟฟ้า 30 จุด พร้อมเดินสายไฟฟ้า | E53: - | F53: - | G53: 250000 | H53: - | I53: - | J53: ไฟฟ้าสาธารณะได้รับการพัฒนาตามเป้าหมาย | K53: ประชาชนได้มีไฟฟ้าแสงสว่างเพิ่มขึ้น | L53: กองช่าง
A54: 27 | B54: โครงการก่อสร้างถนนลูกรังถนนเทศบาล 8 ซอย 10 บ้านเนินดินแดง หมู่ที่ 2 | C54: เพื่อให้ประชาชนมีถนนสำหรับใช้ในการคมนาคมได้สะดวก | D54: ถนนลูกรัง กว้าง 4.00 เมตร ยาว 2,145 เมตร หนาเฉลี่ย 0.15 เมตร พร้มอวางท่อระบายน้ำ คสล. ขนาดเส้นผ่าศูนย์กลาง 0.40 เมตร จำนวน 2 จุด | E54: - | F54: - | G54: - | H54: 600000 | I54: - | J54: ถนนได้รับการพัฒนาตามเป้าหมาย | K54: ประชาชนได้รับความสะดวกสบายในการสัญจรผ่านไป มา | L54: กองช่าง.
A55: 28 | B55: โครงการก่อสร้างถนน คสล.ถนนเทศบาล 12/2 บ้านเนินดินแดง หมู่ที่ 2 | C55: เพื่อให้ประชาชนมีถนนสำหรับใช้ในการคมนาคมได้สะดวก | D55: ถนนกว้าง 4.00 เมตร ยาว 176 เมตร หนา 0.15 เมตร พร้อมวางท่อระบายน้ำ คสล.ขนาดเส้นผ่าศูนย์กลาง 0.60 เมตร ยาว 180 เมตร | E55: 600000 | F55: - | G55: - | H55: - | I55: - | J55: ถนนได้รับการพัฒนาตามเป้าหมาย | K55: ประชาชนได้รับความสะดวกสบายในการสัญจรผ่านไป มา | L55: กองช่าง.
A56: 29 | B56: โครงการก่อสร้างถนน ค.ส.ล. ถนนเทศบาล 14 ซอย 1 (ช่วงที่ 3) บ้านเนินดินแดง หมู่ที่ 2 | C56: เพื่อให้ประชาชนมีถนนสำหรับใช้ในการคมนาคมได้สะดวก | D56: ถนนกว้าง 5.00 เมตร ยาว 100 เมตร หนา 0.15 เมตร | E56: 300000 | F56: - | G56: - | H56: - | I56: - | J56: ถนนได้รับการพัฒนาตามเป้าหมาย | K56: ประชาชนได้รับความสะดวกสบายในการสัญจรผ่านไป มา | L56: กองช่าง
A57: 30 | B57: โครงการก่อสร้างถนน ค.ส.ล. ถนนเทศบาล 16/1 (ช่วงที่ 2) บ้านเนินดินแดง หมู่ที่ 2 | C57: เพื่อความปลอดภัยของประชาชนในการสัญจรไป-มา | D57: ถนนกว้าง 4.00 เมตร ยาว 200 เมตร หนา 0.15 เมตร พร้อมท่อระบายน้ำ (บริเวณบ้านเจ้ซิ้ม เฮียวินัย) | E57: - | F57: - | G57: - | H57: - | I57: 450000 | J57: ถนนได้รับการพัฒนาตามเป้าหมาย | K57: ประชาชนได้รับความสะดวก สบายในการสัญจรผ่านไปมา | L57: กองช่าง
A58: 31 | B58: โครงการก่อสร้างถนน คสล.ถนนเทศบาล 17/1 บ้านเนินดินแดง หมู่ที่ 2 | C58: เพื่อความปลอดภัยของประชาชนในการสัญจรไป-มา | D58: ถนนกว้าง 5.00 เมตร ยาว 1,210 เมตร หนา 0.15 เมตร พร้อมวางท่อระบายน้ำคสล. 0.60 เมตร จำนวน 2 จุด | E58: - | F58: - | G58: 3750000 | H58: - | I58: - | J58: ถนนได้รับการพัฒนาตามเป้าหมาย | K58: ประชาชนได้รับความสะดวก สบายในการสัญจรผ่านไปมา | L58: กองช่าง.
A59: 32 | B59: โครงการก่อสร้างอาคารอเนกประสงค์ บ้านเนินดินแดง หมู่ที่ 2 | C59: เพื่อมีอาคารสำหรับให้ประชาชนในพื้นที่ใช้ประโยชน์ | D59: ก่อสร้างอาคารอเนกประสงค์คสล.ชั้นเดียวกว้าง 8.00 เมตร ยาว 16 เมตร พร้อมถมดินบริเวณพื้นที่ไม่น้อยกว่า 400 ตารางเมตร | E59: - | F59: 1500000 | G59: - | H59: - | I59: - | J59: จำนวน ๑ แห่ง | K59: มีอาคารสำหรับให้ประชาชนในพื้นที่ใช้ประโยชน์ | L59: กองช่าง.
A60: 33 | B60: โครงการก่อสร้างถนน คสล.ถนนเทศบาล 20 ซอย 1 บ้านโปร่งเกตุ หมู่ที่ 3 | C60: เพื่อความสะดวกในการสัญจร ไปมา | D60: ถนนกว้าง 5.00 เมตร ยาว 1,300 เมตร หนา 0.15 เมตร พร้อมวางท่อ คสล.ขนาดเส้นผ่าศูนย์กลาง 0.60 เมตร จำนวน 2 จุด | E60: - | F60: - | G60: - | H60: 3570000 | I60: - | J60: ถนนได้รับการพัฒนาตามเป้าหมาย | K60: ประชาชนสัญจรไปมาและขนส่งสิค้าสะดวก | L60: กองช่าง.
A61: 34 | B61: โครงการก่อสร้างถนน คสล.ถนนเทศบาล 22 ซอย 3 บ้านโปร่งเกตุ หมู่ที่ 3 | C61: เพื่อความสะดวกในการสัญจร ไปมา | D61: ถนนกว้าง 4.00 เมตร ยาว 1,100 เมตร หนา 0.15 เมตร พร้อมวางท่อ คสล.ขนาดเส้นผ่าศูนย์กลาง 0.60 เมตร จำนวน 3 จุด | E61: - | F61: - | G61: 3100000 | H61: - | I61: - | J61: ถนนได้รับการพัฒนาตามเป้าหมาย | K61: ประชาชนสัญจรไปมาและขนส่งสิค้าสะดวก | L61: กองช่าง.
A62: 35 | B62: โครงการก่อสร้างถนน คสล.ถนนเทศบาล 22 ซอย 7 บ้านโปร่งเกตุ หมู่ที่ 3 | C62: เพื่อประชาชนสัญจรไปมาและขนส่งสินค้าสะดวก | D62: ถนนกว้าง 4.00 เมตร ยาว 1,000 เมตร หนา 0.15 เมตร พร้อมวางท่อ คสล.ขนาดเส้นผ่าศูนย์กลาง 0.40 เมตร จำนวน 1 จุด | E62: - | F62: 2200000 | G62: - | H62: - | I62: - | J62: ถนนได้รับการพัฒนาตามเป้าหมาย | K62: เพื่อให้ประชาชนได้รับความสะดวก สบายในการสัญจรผ่านไปมา | L62: กองช่าง.
A63: 36 | B63: โครงการขุดลอกสระน้ำบ้านโปร่งเกตุ บ้านโปร่งเกตุ หมู่ที่ 3 | C63: เพื่อปรับปรุงคุณภาพน้ำใช้ในกิจการประปาหมู่บ้านและกักเก็บน้ำ ให้มีปริมาณเพิ่มมากขึ้น | D63: ขุดลอกก้นสระกว้าง 88 เมตร ยาว 211 เมตร ลึกเฉลี่ย 2 เมตร | E63: - | F63: - | G63: 1200000 | H63: - | I63: - | J63: แหล่งน้ำได้รับการพัฒนาตามเป้าหมาย | K63: ประชาชนได้รับประโยชน์การพัฒนาแหล่งน้ำ | L63: กองช่าง
A64: 37 | B64: โครงการขยายเขตท่อเมนประปา บ้านโปร่งเกตุ หมู่ที่ 3 | C64: เพื่อให้ประชาชนมีน้ำประปาใช้เพื่อบริโภค-อุปโภค | D64: ขยายเขตท่อเมนประปาพี.วี.ซีชั้น 8.5 ขนาด เส้นผ่าศูนย์กลาง 2 นิ้ว ช่วงบ้านนางไพบูลย์ พันพลุ ยาว ๒,๐๐๐ เมตร และช่วงบ้านนางจรรยา คูหา ยาว ๑,๕๐๐ เมตร | E64: 400000 | F64: - | G64: - | H64: - | I64: - | J64: ระบบประปาได้รับการพัฒนาตามเป้าหมาย | K64: ประชาชนมีน้ำประปาใช้เพื่อบริโภค-อุปโภค | L64: กองช่าง.
A65: 38 | B65: โครงการขยายเขตไฟฟ้า ถนนเทศบาล ๑๘ ศาลา ๑ เนินดินแดง หมู่ที่ ๓ | C65: เพื่อให้ประชาชนได้รับมีคุณภาพชีวิตที่ดีขึ้น | D65: ขยายเขตไฟฟ้า ยาว ๔๐๐ เมตรจำนวน ๒ ครัวเรือน | E65: - | F65: 500000 | G65: - | H65: - | I65: - | J65: ระบบไฟฟ้าได้รับการพัฒนาตามเป้าหมาย | K65: ครัวเรือนมีไฟฟ้าใช้ | L65: กองช่าง
A66: 39 | B66: โครงการขยายเขตไฟทาง ถนนสาย โปร่งเกตุ - อมพนม บ้านโปร่งเกตุ หมู่ที่ ๓ | C66: เพื่อให้ประชาชนสัญจรไป มาสะดวกในเวลากลางคืน | D66: ขยายเขตไฟทางแบบโคมกิ่ง จำนวน 50 ต้น | E66: - | F66: - | G66: - | H66: - | I66: 2750000 | J66: ระบบไฟฟ้าได้รับการพัฒนาตามเป้าหมาย | K66: ประชาชนสัญจรไป มาสะดวกในเวลากลางคืน | L66: กองช่าง.
A67: 40 | B67: โครงการขยายท่อเมนประปาเชื่อมต่อท่อเมนประปาส่วนภูมิภาค บ้านบึงตะกู หมู่ที่ 4 | C67: เพื่อให้ประชาชนมีน้ำประปาใช้เพื่อบริโภค-อุปโภค | D67: เชื่อมต่อและขยายท่อเมนน้ำประปาจากส่วนภูมิภาค | E67: 1000000 | F67: - | G67: - | H67: - | I67: - | J67: ระบบประปาได้รับการัฒนาตามเป้าหมาย | K67: ประชาชนมีน้ำสำหรับอุปโภคบริโภคอย่างเพียงพอ | L67: กองช่าง
A68: 41 | B68: โครงการปรับปรุงระบบประปาหมู่บ้านพร้อมขยายท่อเมน บ้านบึงตะกู หมู่ที่ 4 | C68: เพื่อประชาชนมีน้ำใช้ | D68: ปรับปรุงระบบประปาหมู่บ้านบึงตะกูพร้อมขยายท่อเมน จำนวน 2 แห่ง-อบจ.สร้าง SML | E68: - | F68: - | G68: 500000 | H68: - | I68: - | J68: ระบบประปาได้รับการัฒนาตามเป้าหมาย | K68: ประชาชนได้มีน้ำสำหรับอุปโภคบริโภคอย่างเพียงพอ | L68: กองช่าง
A69: 42 | B69: โครงการก่อสร้างระบบประปาหมู่บ้าน แบบผิวดินขนาดใหญ่มาก บ้านบึงตะกู หมู่ที่ 4 | C69: เพื่อให้มีน้ำประปาใช้อุปโภคบริโภค | D69: ก่อสร้างระบบประปาหมู่บ้าน แบบผิวดินขนาดใหญ่มาก ตามแบบมาตรฐานระบบประปาผิวดินขนาดใหญ่มาก สำนักบริหารจัดการน้ำ กรมทรัพยากรน้ำ | E69: - | F69: 5500000 | G69: - | H69: - | I69: - | J69: ระบบประปาได้รับการพัฒนาตามเป้าหมาย | K69: ประชาชนมีน้ำประปาใช้อย่างมีคุณภาพ | L69: กองช่าง
A70: 43 | B70: โครงการขุดลอกสระหลวง บ้านบึงตะกู หมู่ที่ 4 | C70: เพื่อให้ประชาชนได้มีน้ำใช้อุปโภคและบริโภคอย่างมีคุณภาพ | D70: ขุดลอกสระหลวง เพื่อใช้เป็นแหล่งน้ำสำรองในการทำประปาหมู่บ้านขนาดพื้นที่ 12,400 ตร.ม ลึก 2.00 เมตร | E70: - | F70: - | G70: - | H70: - | I70: 1100000 | J70: แหล่งน้ำได้รับการพัฒนาตามเป้าหมาย | K70: ประชาชนมีน้ำอุปโภค บริโภคอย่างมีคุณภาพ | L70: กองช่าง
A71: 44 | B71: โครงการขุดลอกคลองบึงตะกู บ้านบึงตะกู หมู่ที่ 4 | C71: เพื่อให้ประชาชนมีน้ำประปาใช้เพื่อบริโภค-อุปโภค | D71: ปากคลองกว้าง 6.00 เมตร ยาว 500 กิโลเมตร | E71: - | F71: - | G71: - | H71: 200000 | I71: - | J71: แหล่งน้ำได้รับการพัฒนาตามเป้าหมาย | K71: ประชาชนได้มีน้ำสำหรับอุปโภคบริโภคอย่างเพียงพอ | L71: กองช่าง.
A72: 45 | B72: โครงการก่อสร้างถนน ค.ส.ล.ถนนเทศบาล ๓ ซอย ๑ (ช่วงที่ 2) บ้านบึงตะกู หมู่ที่ ๔ | C72: เพื่อให้ประชาชนได้มีถนนสำหรับใช้ในการคมนาคมได้สะดวก | D72: ถนนกว้าง 4.00 เมตร ยาว 300 เมตร หนา 0.15 เมตร | E72: 660000 | F72: - | G72: - | H72: - | I72: - | J72: ถนนได้รับการพัฒนาตามเป้าหมาย | K72: ประชาชนได้รับความสะดวก สบายในการสัญจรผ่านไปมา | L72: กองช่าง
A73: 46 | B73: โครงการก่อสร้างถนนหินคลุก ถนนเทศบาล 3 ซอย 5 บ้านบึงตะกู หมู่ที่ 4 | C73: เพื่อให้ประชาชนได้มีถนนสำหรับใช้ในการคมนาคมได้อย่างสะดวก รวดเร็ว และปลอดภัย | D73: ถนนกว้าง 5.00 เมตร ยาว 250 เมตร หนาเฉลี่ย 0.15 เมตร ( ซอยบ้านผู้ใหญ่ภิรมย์) | E73: - | F73: 350000 | G73: - | H73: - | I73: - | J73: ถนนได้รับการพัฒนาตามเป้าหมาย | K73: ประชาชนสัญจรไปมาและขนส่งสินค้าสะดวก | L73: กองช่าง
A74: 47 | B74: โครงการก่อสร้างถนนลูกหินคลุก ถนนเทศบาล 5/1 บ้านบึงตะกู หมู่ที่ 4 | C74: เพื่อประชาชนสัญจรไปมาและขนส่งสินค้าสะดวก | D74: ถนนกว้าง 4.00 เมตร ยาว 350 เมตร หนาเฉลี่ย 0.15 เมตร | E74: - | F74: - | G74: 350000 | H74: - | I74: - | J74: ถนนได้รับการพัฒนาตามเป้าหมาย | K74: ประชาชนสัญจรไปมาและขนส่งสินค้าสะดวก | L74: กองช่าง
A75: 48 | B75: โครงการก่อสร้างถนน คสล.ถนนเทศบาล ๕ ซอย ๒ บ้านบึงตะกู หมู่ที่ ๔ (เข้าสระบึงตะกู) | C75: เพื่อให้ประชาชนได้มีถนนสำหรับใช้ในการคมนาคมได้สะดวก | D75: ถนนกว้าง ๔ เมตร ยาว ๓๗๐ เมตร หนา 0.15 เมตร | E75: - | F75: 1100000 | G75: - | H75: - | I75: - | J75: ถนนได้รับการพัฒนาตามเป้าหมาย | K75: ประชาชนได้รับความสะดวก สบายในการสัญจรผ่านไปมา | L75: กองช่าง
A76: 49 | B76: โครงการก่อสร้างถนน ค.ส.ล. ถนนเทศบาล 5 ซอย 4 บ้านบึงตะกู หมู่ที่ 4 (ทางเข้าสระหลวงบึงตะกู) พร้อมวางท่อระบายน้ำ | C76: เพื่อความปลอดภัยของประชาชนในการสัญจรไป-มา | D76: ถนนกว้าง 4 เมตร ยาว 370 เมตร หนา ๐.๑๕ เมตร พร้อมวางท่อระบายน้ำ | E76: - | F76: - | G76: - | H76: - | I76: 820000 | J76: ถนนได้รับการพัฒนาตามเป้าหมาย | K76: ประชาชนได้รับความสะดวก สบายในการสัญจรผ่านไปมา | L76: กองช่าง
A77: 50 | B77: โครงการยกระดับถนนลูกรัง สายข้างบ้านนายเล็ก วรรณสุริยะ บ้านบึงตะกู หมู่ที่ 4 | C77: เพื่อประชาชนสัญจรไปมาและขนส่งสินค้าสะดวก | D77: ถนนกว้าง 4 เมตร ยาว 200 เมตร | E77: - | F77: - | G77: 200000 | H77: - | I77: - | J77: ถนนได้รับการพัฒนาตามเป้าหมาย | K77: ประชาชนสัญจรไปมาและขนส่งสินค้าสะดวก | L77: กองช่าง
A78: 51 | B78: โครงการก่อสร้างถนนหินคลุก ถนนเทศบาล 3 ซอย 9 บ้านบึงตะกู หมู่ที่ 4 (ซอยบ้านสุกัญญาบราวน์) | C78: เพื่อความสะดวกในการสัญจร ไปมา | D78: ถนนกว้าง 4 เมตร ยาว 120 เมตร หนาเฉลี่ย 0.15 เมตร | E78: - | F78: - | G78: - | H78: 120000 | I78: - | J78: ถนนได้รับการพัฒนาตามเป้าหมาย | K78: ประชาชนสัญจรไปมาและขนส่งสินค้าสะดวก | L78: กองช่าง
A79: 52 | B79: โครงการก่อสร้างถนนหินคลุก (บริเวณบ้านลุงท้วย -เข้าสระน้ำบ้านบึงตะกู) หมู่ที่ 4 | C79: เพื่อให้ประชาชนได้มีถนนสำหรับใช้ในการคมนาคมได้อย่างสะดวกรวดเร็ว และปลอดภัย | D79: ถนนกว้าง 5 เมตร ยาว 400 เมตร พร้อมทำร่องระบายน้ำเข้าสระน้ำบ้านบึงตะกู หมู่ 4 | E79: - | F79: - | G79: - | H79: - | I79: 500000 | J79: ถนนได้รับการพัฒนาตามเป้าหมาย | K79: ประชาชนสัญจรไปมาและขนส่งสินค้าสะดวก | L79: กองช่าง
A80: 53 | B80: โครงการปรับปรุงท่อระบายน้ำ ซอยเทศบาล 1 หมู่ที่ 4 | C80: ป้องกันน้ำท่วมขังบ้านเรือนประชาชน | D80: ดำเนินการปรับปรุงท่อระบายน้ำ ซอยเทศบาล 1 หมู่ที่ 4 | E80: - | F80: - | G80: 25000 | H80: - | I80: - | J80: ระบบระบายน้ำได้รับการพัฒนาตามเป้าหมาย | K80: ป้องกันน้ำท่วมขังบ้านเรือนประชาชน | L80: กองช่าง
A81: 54 | B81: โครงการก่อสร้างท่อระบายน้ำถนนเทศบาล ๕ (สายหนองไม้แก่น – บึงตะกู) บ้านบึงตะกู หมู่ที่ ๔ | C81: เพื่อให้การระบายน้ำในพื้นที่มีประสิทธิภาพเพิ่มขึ้น | D81: ก่อสร้างท่อระบายน้ำถนนเทศบาล ๕ (สายหนองไม้แก่น – บึงตะกู) หมู่ที่ ๔ จำนวน ๑ แห่ง | E81: - | F81: - | G81: - | H81: - | I81: 70000 | J81: ระบบระบายน้ำได้รับการพัฒนาตามเป้าหมาย | K81: ลดปัญหาน้ำท่วมบริเวณดังกล่าว | L81: กองช่าง
A82: 55 | B82: โครงการวางท่อระบายน้ำ บริเวณแยกหนองบอน บ้านบึงตะกู หมู่ที่ 4 | C82: เพื่อให้การระบายน้ำในพื้นที่มีประสิทธิภาพเพิ่มขึ้น | D82: างท่อระบายน้ำ คสล.ขนาดเส้นผ่าศูนย์กลาง 1.00 เมตร ยาว 180 เมตร พร้อมบ่อพักคสล.จำนวน 18 บ่อ | E82: 900000 | F82: - | G82: - | H82: - | I82: - | J82: ระบบระบายน้ำได้รับการพัฒนาตามเป้าหมาย | K82: ลดปัญหาน้ำท่วมบริเวณดังกล่าว | L82: กองช่าง.
A83: 56 | B83: โครงการวางท่อระบายน้ำ (บริเวณบ้านนายสมคิด กิมกวาง) บ้านบึงตะกู หมู่ที่ 4 | C83: เพื่อให้การระบายน้ำในพื้นที่มีประสิทธิภาพเพิ่มขึ้น | D83: วางท่อระบายน้ำ คสล.ขนาดเส้นผ่าศูนย์กลาง 0.40 เมตร ยาว 50 เมตร พร้อมบ่อพักคสล.จำนวน 5 บ่อ | E83: - | F83: 100000 | G83: - | H83: - | I83: - | J83: ระบบระบายน้ำได้รับการพัฒนาตามเป้าหมาย | K83: ลดปัญหาน้ำท่วมบริเวณดังกล่าว | L83: กองช่าง.
A84: 57 | B84: โครงการปรับปรุงซ่อมแซมอาคารอเนกประสงค์ บ้านบึงตะกู หมู่ที่ 4 | C84: เพื่อให้ประชาชนได้ใช้ประโยชน์ในการทำกิจกรรมต่างๆ | D84: ปรับปรุงซ่อมแซม อาคารเอนกประสงค์-เปลี่ยนฝ้าเพดาน , ผนังอาคาร , ระบบไฟฟ้า , ห้องน้ำ | E84: - | F84: - | G84: 500000 | H84: - | I84: - | J84: จำนวน ๑ แห่ง | K84: ประชาชนได้ใช้ประโยชน์ในการทำกิจกรรมต่างๆ | L84: กองช่าง.
A85: 58 | B85: โครงการขยายเขตไฟทางภายในหมู่บ้านบึงตะกู หมู่ที่ 4 เพิ่มเติม | C85: เพื่อให้ประชาชนมีความปลอดภัยในการสัญจรเวลากลางคืน | D85: ขยายเขตไฟทาง - ถนนสายเจริญโชคดี จำนวน 10 จุด - ถนนนเทศบาลตำบลธาตุทอง 5 จำนวน 20 จุด - ถนนเทศบาลตำบลธาตุทอง 3 จำนวน30 จุด - ถนนเทศบาลตำบลธาตุทอง 1 จำนวน30 จุด - ถนนเทศบาล 1 ซอย 4 จำนวน 20 จุด | E85: - | F85: - | G85: - | H85: - | I85: 650000 | J85: ระบบไฟฟ้าได้รับการพัฒนาตามเป้าหมาย | K85: ประชาชนมีความปลอดภัยในการสัญจรเวลากลางคืน | L85: กองช่าง.
A86: 59 | B86: โครงการก่อสร้างถนน ค.ส.ล. ถนนเทศบาล 8/1 ช่วงที่ 2 บ้านคลองมือไทร หมู่ที่ 5 | C86: เพื่อความปลอดภัยของประชาชนในการสัญจรไป-มา | D86: ถนนกว้าง 5 เมตร ยาว 400 เมตร หนา 0.15 เมตร วางท่อระบายน้ำ 1 จุด (ซอยเข้าบ้านนายสมชาย ทองสุข) | E86: 800000 | F86: - | G86: - | H86: - | I86: - | J86: ถนนได้รับการพัฒนาตามเป้าหมาย | K86: ประชาชนได้รับความสะดวก สบายในการสัญจรผ่านไปมา | L86: กองช่าง
A87: 60 | B87: โครงการก่อสร้างถนน คสล.ถนนเทศบาล 8 ซอย 3 บ้านคลองมือไทร หมู่ 5 | C87: เพื่อความปลอดภัยของประชาชนในการสัญจรไป-มา | D87: ถนนกว้าง 4.00 เมตร ยาว 200 เมตร หนา 0.15 เมตร และวางท่อระบายน้ำ คสล.ขนาดเส้นผ่าศูนย์กลาง 0.40 เมตร จำนวน 1 จุด | E87: - | F87: - | G87: 500000 | H87: - | I87: - | J87: ถนนได้รับการพัฒนาตามเป้าหมาย | K87: ประชาชนได้รับความสะดวก สบายในการสัญจรผ่านไปมา | L87: กองช่าง.
A88: 61 | B88: โครงการก่อสร้างถนน คสล.เทศบาล ๘ ซอย ๕ บ้านคลองมือไทร หมู่ที่ ๕ | C88: เพื่อให้ประชาชนได้มีถนนสำหรับใช้ในการคมนาคมได้สะดวก | D88: ถนนกว้าง ๔ เมตร ยาว ๓๐๐ เมตร หนา 0.15 เมตร | E88: - | F88: 660000 | G88: - | H88: - | I88: - | J88: ถนนได้รับการพัฒนาตามเป้าหมาย | K88: ประชาชนได้รับความสะดวก สบายในการสัญจรผ่านไปมา | L88: กองช่าง
A89: 62 | B89: โครงการก่อสร้างถนน ค.ส.ล. ถนนเทศบาล 8 ซอย 6/1 บ้านคลองมือไทร หมู่ที่ 5 | C89: เพื่อความปลอดภัยของประชาชนในการสัญจรไป-มา | D89: ถนนกว้าง 5 เมตร ยาว 300 เมตร หนา 0.15 เมตร (ซอยบ้านนายโจก พิมาย) | E89: - | F89: - | G89: - | H89: 830000 | I89: - | J89: ถนนได้รับการพัฒนาตามเป้าหมาย | K89: ประชาชนได้รับความสะดวก สบายในการสัญจรผ่านไปมา | L89: กองช่าง
A90: 63 | B90: โครงการก่อสร้างถนน คสล. ถนนเทศบาล 8 ซอย 6/2 บ้านคลองมือไทร หมู่ที่ 5 | C90: เพื่อความปลอดภัยของประชาชนในการสัญจรไป-มา | D90: ถนนกว้าง 4.00 เมตร ยาว 520 เมตร หนา 0.15 เมตร และวางท่อระบายน้ำ คสล.ขนาดเส้นผ่าศูนย์กลาง 0.40 เมตร จำนวน 2 จุด | E90: - | F90: - | G90: 1200000 | H90: - | I90: - | J90: ถนนได้รับการพัฒนาตามเป้าหมาย | K90: ประชาชนได้รับความสะดวก สบายในการสัญจรผ่านไปมา | L90: กองช่าง.
A91: 64 | B91: โครงการก่อสร้างถนน ค.ส.ล. ถนนเทศบาล 10 ซอย 1 บ้านคลองมือไทร หมู่ที่ 5 | C91: เพื่อความปลอดภัยของประชาชนในการสัญจรไป-มา | D91: ถนนกว้าง 5.00 เมตร ยาว 1,000 เมตร หนา 0.15 เมตร และวางท่อระบายน้ำขนาดเส้นผ่าศูนย์กลาง 0.40 เมตร จำนวน 1 จุด | E91: - | F91: - | G91: - | H91: - | I91: 2800000 | J91: ถนนได้รับการพัฒนาตามเป้าหมาย | K91: ประชาชนได้รับความสะดวก สบายในการสัญจรผ่านไปมา | L91: กองช่าง.
A92: 65 | B92: โครงการก่อสร้างถนน คสล. ถนนเทศบาล 10 ซอย 1/1 บ้านคลองมือไทร หมู่ที่ 5 | C92: เพื่อให้ประชาชนได้มีถนนสำหรับใช้ในการคมนาคมได้สะดวก | D92: ถนนกว้าง 4.00 เมตร ยาว 320 เมตร หนา 0.15 เมตร และวางท่อระบายน้ำ คสล.ขนาดเส้นผ่าศูนย์กลาง 0.40 เมตร จำนวน 1 จุด | E92: - | F92: 725000 | G92: - | H92: - | I92: - | J92: ถนนได้รับการพัฒนาตามเป้าหมาย | K92: ประชาชนได้รับความสะดวก สบายในการสัญจรผ่านไปมา | L92: กองช่าง.
A93: 66 | B93: โครงการก่อสร้าง ถนน ค.ส.ล. ถนนเทศบาล 12 ซอย 2 บ้านคลองมือไทร หมู่ที่ 5 พร้อมท่อระบายน้ำ | C93: เพื่อความปลอดภัยของประชาชนในการสัญจรไป-มา | D93: ถนนกว้าง 5 เมตร ยาว 320 เมตร หนา ๐.๑๕ เมตร พร้อมท่อระบายน้ำ (ถนนบ้านลุงหลิน ) | E93: - | F93: - | G93: - | H93: - | I93: 720000 | J93: ถนนได้รับการพัฒนาตามเป้าหมาย | K93: ประชาชนได้รับความสะดวก สบายในการสัญจรผ่านไปมา | L93: กองช่าง
A94: 67 | B94: โครงการก่อสร้างถนน คสล. ถนนเทศบาล 12/2 บ้านคลองมือไทร หมู่ที่ 5 | C94: เพื่อความปลอดภัยของประชาชนในการสัญจรไป-มา | D94: ถนนกว้าง 4.00 เมตร ยาว 350 เมตร หนา ๐.๑๕ เมตร และวางท่อระบายน้ำ คสล.ขนาดเส้นผ่าศูนย์กลาง 0.60 ยาวรวม 355 เมตร พร้อมบ่อพัก คสล.จำนวน 35 ท่อน | E94: - | F94: - | G94: - | H94: 1300000 | I94: - | J94: ถนนได้รับการพัฒนาตามเป้าหมาย | K94: ประชาชนได้รับความสะดวก สบายในการสัญจรผ่านไปมา | L94: กองช่าง.
A95: 68 | B95: โครงการก่อสร้างถนน คสล.ถนนเทศบาล ๑๒ ซอย ๕ บ้านคลองมือไทร หมู่ที่ ๕ | C95: เพื่อให้ประชาชนได้มีถนนสำหรับใช้ในการคมนาคมได้สะดวก | D95: ถนนกว้าง ๔ เมตร ยาว ๔๐๐ เมตร หนา 0.15 เมตร | E95: - | F95: - | G95: - | H95: - | I95: 1100000 | J95: ถนนได้รับการพัฒนาตามเป้าหมาย | K95: ประชาชนได้รับความสะดวก สบายในการสัญจรผ่านไปมา | L95: กองช่าง
A96: 69 | B96: โครงการก่อสร้างถนน คสล.ถนนเทศบาล 12 ซอย 7 บ้านคลองมือไทร หมู่ที่ 5 | C96: เพื่อความปลอดภัยของประชาชนในการสัญจรไป-มา | D96: ถนนกว้าง 4.00 เมตร ยาว 560 เมตร หนา 0.15 เมตร และวางท่อระบายน้ำ คสล.ขนาดเส้นผ่าศูนย์กลาง 0.40 เมตร จำนวน 2 จุด | E96: - | F96: 1250000 | G96: - | H96: - | I96: - | J96: ถนนได้รับการพัฒนาตามเป้าหมาย | K96: ประชาชนได้รับความสะดวก สบายในการสัญจรผ่านไปมา | L96: กองช่าง.
A97: 70 | B97: โครงการขยายเขตไฟทาง ถนนเทศบาล 8 ซอย 1/4 บ้านคลองมือไทร หมู่ที่ 5 | C97: เพื่อความปลอดภัยของประชาชนในการสัญจรไป-มา | D97: ขยายเขตไฟทาง จำนวน 20 จุด | E97: 150000 | F97: - | G97: - | H97: - | I97: - | J97: ระบบไฟฟ้าได้รับการพัฒนาตามเป้าหมาย | K97: ประชาชนได้รับความสะดวก สบายในการสัญจรผ่านไปมา | L97: กองช่าง.
A98: 71 | B98: โครงการขยายเขตไฟฟ้าทาง ถนนเทศบาล ๘ ซอย ๒ บ้านคลองมือไทร หมู่ที่ ๕ | C98: เพื่อความปลอดภัยของประชาชนในการสัญจรไป-มา | D98: ขยายเขตไฟทาง ยาวประมาณ 1,200 เมตร ติดไฟทางจำนวน 60 จุด | E98: - | F98: 500000 | G98: - | H98: - | I98: - | J98: ระบบไฟฟ้าได้รับการพัฒนาตามเป้าหมาย | K98: เพิ่มความปลอดภัยในชีวิตและทรัพย์สินของประชาชน | L98: กองช่าง
A99: 72 | B99: โครงการติดตั้งไฟทาง ถนนเทศบาล 8 ซอย 4 บ้านคลองมือไทร หมู่ที่ 5 | C99: เพื่อความปลอดภัยของประชาชนในการสัญจรไป-มา | D99: ติดตั้งไฟทาง จำนวน 120 จุด | E99: - | F99: - | G99: - | H99: 1300000 | I99: - | J99: ระบบไฟฟ้าได้รับการพัฒนาตามเป้าหมาย | K99: เพิ่มความปลอดภัยในชีวิตและทรัพย์สินของประชาชน | L99: กองช่าง.
A100: 73 | B100: โครงการขยายเขตไฟทาง ถนนเทศบาล 12/1 (ซอยอีสานเขียว) บ้านคลองมือไทร หมู่ที่ 5 | C100: เพื่อความปลอดภัยของประชาชนในการสัญจร | D100: ขยายเขตไฟทาง จำนวน 60 จุด | E100: 450000 | F100: - | G100: - | H100: - | I100: - | J100: ระบบไฟฟ้าได้รับการพัฒนาตามเป้าหมาย | K100: ประชาชนได้มีไฟฟ้าสว่างเพิ่มขึ้น | L100: กองช่าง.
...

Sheet 1.2
A1: รายละเอียดโครงการพัฒนา
A2: แผนพัฒนาท้องถิ่น (พ.ศ. ๒๕๖๖ – ๒๕๗๐)
A3: เทศบาลตำบลธาตุทอง อำเภอบ่อทอง จังหวัดชลบุรี
A4: ก. | B4: ยุทธศาสตร์จังหวัดที่ ๕ พัฒนาคนและชุมชนให้สังคมมั่นคง มีคุณภาพและยั่งยืน ตามหลักปรัชญาของเศรษฐกิจพอเพียง
A5: ข. | B5: ยุทธศาสตร์การพัฒนาของ อปท. ในเขตจังหวัด ที่ 4 การพัฒนาคุณภาพชีวิตสู่เมืองนวัตกรรม น้อมนำหลักเศรษฐกิจพอเพียง
B6: 1. ยุทธศาสตร์การพัฒนาคุณภาพชีวิตประชาชน
B7: ๑.๒ แผนงานการจัดการศึกษาระดับก่อนประถมวัยให้มีคุณภาพมาตรฐานศูนย์พัฒนาเด็กเล็ก
A8: ที่ | B8: โครงการ | C8: วัตถุประสงค์ | D8: เป้าหมาย (ผลผลิตของโครงการ) | E8: งบประมาณ | J8: ตัวชี้วัด(KPI) | K8: ผลที่คาดว่าจะได้รับ | L8: หน่วยงานรับผิดชอบหลัก
E9: 2566 | F9: 2567 | G9: 2568 | H9: 2569 | I9: 2570
E10: (บาท) | F10: (บาท) | G10: (บาท) | H10: (บาท) | I10: (บาท)
A11: 1 | B11: โครงการปรับปรุงซ่อมแซม อาคารสถานที่และปรับปรุงภูมิทัศน์ทั้งภายในและภายนอกบริเวณศูนย์พัฒนาเด็กเล็กฯ | C11: เพื่อจัดสภาพแวดล้อมอาคารสถานที่ให้มีความมั่นคงแข็งแรงและเหมาะสมตรงตามมาตรฐานของศูนย์พัฒนาเด็กเล็ก | D11: ศูนย์พัฒนาเด็กเล็กเทศบาลตำบลธาตุทอง 1 และ 2 | E11: 500000 | F11: 500000 | G11: 500000 | H11: 500000 | I11: 500000 | J11: ศพด. มีอาคารสถานที่มั่นคงแข็งแรง | K11: ศพด. มีอาคารสถานที่เหมาะสำหรับจัดกิจกรรมการเรียนการสอน | L11: กองการศึกษาฯ
A12: 2 | B12: โครงการสนับสนุนกิจกรรมวันสำคัญต่าง ๆ ของศูนย์พัฒนาเด็กเล็ก | C12: เพื่ออนุรักษ์ประเพณีและวัฒนธรรมให้คงอยู่สืบไป | D12: ศูนย์พัฒนาเด็กเล็กเทศบาลตำบลธาตุทอง 1 และ 2 | E12: 100000 | F12: 100000 | G12: 100000 | H12: 100000 | I12: 100000 | J12: ความพึงพอใจของเด็กที่เข้าร่วมกิจกรรม | K12: นักเรียนเห็นถึงความสำคัญของกิจกรรมที่จัดขึ้น | L12: กองการศึกษาฯ
A13: 3 | B13: โครงการจัดซื้อสื่อการเรียน การสอนศูนย์พัฒนาเด็กเล็ก | C13: ส่งเสริมให้เด็กมีการพัฒนาการ ทั้ง ๔ ด้าน | D13: ศูนย์พัฒนาเด็กเล็กเทศบาลตำบลธาตุทอง ๑ และ ๒ | E13: 100000 | F13: 100000 | G13: 100000 | H13: 100000 | I13: 100000 | J13: จำนวนสื่อการสอนที่ใช้ใน ศพด. | K13: ศพด.มีสื่อการสอนเพื่อพัฒนาเด็กอย่างมีประสิทธิภาพ | L13: กองการศึกษาฯ
A14: 4 | B14: โครงการพัฒนาสื่อระดับปฐมวัยของศูนย์พัฒนาเด็กเล็ก | C14: เพื่อพัฒนาและปรับปรุงสื่อการเรียนการสอนเพื่ออำนวยในการจัดกิจกรรมการเรียนรู้ | D14: ศูนย์พัฒนาเด็กเล็กเทศบาลตำบลธาตุทอง 1 และ 2 | E14: 20000 | F14: 20000 | G14: 20000 | H14: 20000 | I14: 20000 | J14: ศพด.ทต.ธาตุทองทุกแห่งมีสื่อการสอนครบถ้วนตามความต้องการ | K14: ศูนย์พัฒนาเด็กเล็กมีสื่อในการจัดการเรียนรู้ตลอดปีการศึกษา | L14: กองการศึกษาฯ
A15: 5 | B15: โครงการฟันสวย ยิ้มใส ศูนย์พัฒนาเด็กเล็ก | C15: เพื่อส่งเสริมให้เด็กมีสุขภาพฟันที่แข็งแรง | D15: ศูนย์พัฒนาเด็กเล็กเทศบาลตำบลธาตุทอง 1 และ 2 | E15: 20000 | F15: 20000 | G15: 20000 | H15: 20000 | I15: 20000 | J15: จัดกิจกรรม ปีละ 1 ครั้ง | K15: เด็กนักเรียนมีสุขภาพฟันที่ดี | L15: กองการศึกษาฯ
A16: 6 | B16: โครงการกีฬาสีภายในศูนย์พัฒนาเด็กเล็กฯ | C16: เพื่อส่งเสริมพัฒนาการเด็กให้ครบทุกด้าน | D16: ศูนย์พัฒนาเด็กเล็กเทศบาลตำบลธาตุทอง 1 และ 2 | E16: 20000 | F16: 20000 | G16: 20000 | H16: 20000 | I16: 20000 | J16: จัดกิจกรรม ปีละ 1 ครั้ง | K16: เด็กมีพัฒนาการครบทุกด้าน | L16: กองการศึกษาฯ
A17: 7 | B17: โครงการผู้สูงวัยใส่ใจลูกหลาน | C17: เพื่อให้เด็กมีความสัมพันธ์ที่ดีกับครอบครัว | D17: ศูนย์พัฒนาเด็กเล็กเทศบาลตำบลธาตุทอง 1 และ 2 | E17: 10000 | F17: 10000 | G17: 10000 | H17: 10000 | I17: 10000 | J17: จัดกิจกรรม ปีละ 1 ครั้ง | K17: เด็กมีความสัมพันธ์ที่ดีกับครอบครัว | L17: กองการศึกษาฯ
A18: 8 | B18: โครงการจัดซื้ออาหารเสริม (นม) ศูนย์พัฒนาเด็กเล็ก ทต.ธาตุทอง | C18: เพื่อให้เด็กได้รับสารอาหารเสริมนมที่เพียงพอต่อการเจริญเติบโต | D18: จำนวนเด็กนักเรียน ในศูนย์พัฒนาเด็กเล็กฯของเทศบาล | E18: 200000 | F18: 200000 | G18: 200000 | H18: 200000 | I18: 200000 | J18: เด็กใน ศพด.ได้รับอาหารเสริม(นม) 100% | K18: เด็กเล็กมีสุขภาพร่างกายแข็งแรง | L18: กองการศึกษาฯ
A19: 9 | B19: โครงการปฐมนิเทศผู้ปกครองนักเรียนใหม่ | C19: เพื่อให้ผู้ปกครองมีความรู้ความเข้าใจในกฎระเบียบของศูนย์พัฒนาเด็กเล็ก | D19: ศูนย์พัฒนาเด็กเล็กเทศบาลตำบลธาตุทอง 1 และ 2 | E19: 5000 | F19: 5000 | G19: 5000 | H19: 5000 | I19: 5000 | J19: จัดกิจกรรม ปีละ 1 ครั้ง | K19: ผู้ปกครองปฏิบัติตามกฏของ ศพด. อย่างถูกต้อง | L19: กองการศึกษาฯ
A20: 10 | B20: โครงการเปิดโลกกว้างการเรียนรู้นอกสถานที่ | C20: เพื่อให้เด็กได้มีพัฒนาการที่เหมาะสมกับวัย | D20: ศูนย์พัฒนาเด็กเล็กเทศบาลตำบลธาตุทอง 1 และ 2 | E20: 30000 | F20: 30000 | G20: 30000 | H20: 30000 | I20: 30000 | J20: จัดกิจกรรม ปีละ 1 ครั้ง | K20: เด็กนักเรียนมีพัฒนาการที่เหมาะสมกับวัย | L20: กองการศึกษาฯ
A21: 11 | B21: โครงการปัจฉิมนิเทศเด็กและรายงานผลการเรียนนักเรียน | C21: เพื่อแสดงความยินดีผลการเรียนของนักเรียน | D21: ศูนย์พัฒนาเด็กเล็กเทศบาลตำบลธาตุทอง 1 และ 2 | E21: 20000 | F21: 20000 | G21: 20000 | H21: 20000 | I21: 20000 | J21: จัดกิจกรรม ปีละ 1 ครั้ง | K21: เด็กมีความภาคภูมิใจ | L21: กองการศึกษาฯ
A22: 12 | B22: โครงการปรับปรุงพื้นที่สนามเด็กเล่น จัดซื้อเครื่องเล่นพร้อมปูพื้นยาง ศูนย์พัฒนาเด็กเล็กเทศบาลตำบลธาตุทอง 1 และ 2 | C22: เพื่อให้เด็กมีพัฒนาการตามวัยโดยผ่านการเล่น | D22: ศูนย์พัฒนาเด็กเล็กเทศบาลตำบลธาตุทอง 1 และ 2 มีสนามเด็กเล่นพร้อมอุปกรณ์การเล่นได้มาตรฐาน | E22: 200000 | F22: 200000 | G22: 200000 | H22: 200000 | I22: 200000 | J22: ศพด.มีสนามเด็กเล่นและเครื่องเล่นครบถ้วนตามความต้องการ | K22: นักเรียนมีพัฒนาการทางร่างกายสมวัยอย่างพอเพียงและทั่วถึง | L22: กองการศึกษาฯ
... A27: 17 | B27: โครงการสนับสนุนค่าใช้จ่ายการบริหารสถานศึกษา | C27: เพื่อจ่ายเป็นค่าสนับสนุนค่าใช้จ่ายในการบริหารสถานศึกษาให้แก่ศูนย์พัฒนาเด็กเล็กเทศบาลตำบลธาตุทอง | D27: จัดสรรเป็นค่าอาหารกลางวัน ค่าจัดการเรียนการสอน ค่าหนังสือ ค่าอุปกรณ์การเรียน ค่าเครื่องแบบนักเรียน ค่ากิจกรรมพัฒนาผู้เรียน ค่าสื่อการเรียนการสอน วัสดุการศึกษา เครื่องเล่นพัฒนาการเด็ก และค่าใช้จ่ายในการพัฒนาครูผู้ดูแลเด็ก ทั้งนี้จะเบิกจ่ายต่อเมื่อได้รับการจัดสรรจากกรมส่งเสริมการปกครองท้องถิ่น | E27: 500000 | F27: 500000 | G27: 500000 | H27: 500000 | I27: 500000 | J27: จัดสรรตามเป้าหมาย | K27: เด็กนักเรียนได้รับอาหารอย่างถูกหลักอนามัย และได้รับความรู้อย่างครบถ้วน | L27: กองการศึกษาฯ
A28: รวม | E28: =SUM(E11:E27) -> 3175000 | F28: =SUM(F11:F27) -> 3175000 | G28: =SUM(G11:G27) -> 3175000 | H28: =SUM(H11:H27) -> 3175000 | I28: =SUM(I11:I27) -> 3175000

Sheet 1.3
A1: รายละเอียดโครงการพัฒนา
A2: แผนพัฒนาท้องถิ่น (พ.ศ. ๒๕๖๖ – ๒๕๗๐)
A3: เทศบาลตำบลธาตุทอง อำเภอบ่อทอง จังหวัดชลบุรี
A4: ก. | B4: ยุทธศาสตร์จังหวัดที่ ๕ พัฒนาคนและชุมชนให้สังคมมั่นคง มีคุณภาพและยั่งยืน ตามหลักปรัชญาของเศรษฐกิจพอเพียง
A5: ข. | B5: ยุทธศาสตร์การพัฒนาของ อปท. ในเขตจังหวัด ที่ 4 การพัฒนาคุณภาพชีวิตสู่เมืองนวัตกรรม น้อมนำหลักเศรษฐกิจพอเพียง
B6: 1. ยุทธศาสตร์การพัฒนาคุณภาพชีวิตประชาชน
B7: 1.3 แผนงานสนับสนุนการพัฒนาการศึกษาทุกระดับ เพื่อเข้าสู่การเป็นประชาคมอาเซียน
A8: ที่ | B8: โครงการ | C8: วัตถุประสงค์ | D8: เป้าหมาย (ผลผลิตของโครงการ) | E8: งบประมาณ | J8: ตัวชี้วัด(KPI) | K8: ผลที่คาดว่าจะได้รับ | L8: หน่วยงานรับผิดชอบหลัก
E9: 2566 | F9: 2567 | G9: 2568 | H9: 2569 | I9: 2570
E10: (บาท) | F10: (บาท) | G10: (บาท) | H10: (บาท) | I10: (บาท)
A11: 1 | B11: โครงการอาหารเสริม (นม) ของโรงเรียนสังกัด สพฐ.ในเขตเทศบาลตำบลธาตุทอง และศูนย์พัฒนาเด็กเล็กเทศบาลตำบลธาตุทอง ๑ และ ๒ | C11: เพื่อจัดซื้ออาหารเสริม (นม)โรงเรียนให้กับนักเรียนตั้งแต่ระดับอนุบาล-ประถมศึกษาปีที่ 6 สำหรับโรงเรียนสังกัด สพฐ.และ ศพด.ในเขตเทศบาลตำบลธาตุทอง | D11: โรงเรียนสังกัด สพฐ. ในเขตเทศบาลตำบลธาตุทอง 4 แห่ง และ ศพด.ทต.ธาตุทองทุกแห่ง | E11: 800000 | F11: ๘๐๐,๐๐ | G11: 900000 | H11: 900000 | I11: 900000 | J11: นักเรียนได้รับอาหารเสริม(นม) จำนวน 100 % | K11: เด็กนักเรียนมีอาหารเสริมนมครบตามหลักโภชนา การและมีสุขภาพแข็งแรง | L11: กองการศึกษาฯ
A12: 2 | B12: โครงการอาหารกลางวันเด็กนักเรียนโรงเรียนสังกัด สพฐ. ในเขตเทศบาลตำบลธาตุทอง | C12: เพื่อให้เด็กได้รับอาหารกลางวันที่เพียงพอต่อการเจริญเติบโต | D12: โรงเรียนสังกัด สพฐ.ในเขตเทศบาลตำบลธาตุทอง จำนวน 4 แห่ง | E12: 1500000 | F12: 1500000 | G12: 1500000 | H12: 1500000 | I12: 1500000 | J12: นักเรียน ได้รับการจัดสรร 100 % | K12: เด็กนักเรียนมีอาหารกลางวันครบตามหลักโภชนาการและมีสุขภาพแข็งแรง | L12: กองการศึกษาฯ
A13: 3 | B13: โครงการส่งเสริมสนับสนุน การเรียนรู้ทุกระดับในเทศบาลตำบลธาตุทอง | C13: เพื่อส่งเสริมสนับสนุนการเรียนรู้ทุกระดับ | D13: โรงเรียนสังกัด สพฐ.ในเขตเทศบาลตำบลธาตุทอง จำนวน 4 แห่ง | E13: 100000 | F13: 100000 | G13: 100000 | H13: 100000 | I13: 100000 | J13: จำนวนนักเรียนที่เข้าร่วม ร้อยละ ๘๐ | K13: สามารถยก ระดับคุณภาพทางการศึกษาได้ | L13: กองการศึกษาฯ
A14: 4 | B14: โครงการอบรมให้ความรู้สภาเด็กและเยาวชน เทศบาลตำบลธาตุทอง | C14: เพื่อให้เด็กและเยาวชนได้รับความรู้ ความสามารถนำความรู้ที่ได้รับไปปรับใช้ในชีวิตประจำวัน | D14: เด็กและเยาวชนในเขตเทศบาลตำบลธาตุทอง | E14: 20000 | F14: 20000 | G14: 20000 | H14: 20000 | I14: 20000 | J14: เด็กและเยาวชนที่เข้าร่วมโครงการ | K14: เด็กและเยาวชนในเขตเทศบาลตำบลธาตุทองมีความรู้เพิ่มขึ้น | L14: กองการศึกษาฯ
A15: 5 | B15: โครงการติดไฟกระพริบหน้าโรงเรียนบ้านคลองมือไทร (สว่างไสวราษฎร์บำรุง) หมู่ที่ 5 | C15: เพื่อความปลอดภัยของนักเรียนและผู้สัญจรไปมา | D15: ไฟกระพริบ 1 จุด | E15: - | F15: - | G15: 30000 | H15: - | I15: - | J15: ไฟกระพริบ 1 จุด | K15: นักเรียนและผู้สัญจรไปมา ได้รับความปลอดภัย | L15: กองช่าง
A16: 6 | B16: โครงการอบรมให้ความรู้เรื่องภัยในเด็กปฐมวัย | C16: เพื่อให้เด็กและเยาวชนตระหนักถึงภัยอันตรายใกล้ตัว สามารถแก้ไขปัญหาเฉพาะหน้าได้เมื่อต้องเผชิญภัยอันตรายต่างๆ | D16: เด็กและเยาวชนในเขตเทศบาลตำบลธาตุทอง | E16: 30000 | F16: 30000 | G16: 30000 | H16: 30000 | I16: 30000 | J16: จำนวนเด็กและเยาวชนที่เข้าร่วมโครงการ | K16: เด็กและเยาวชนสามารถแก้ไขปัญหาเฉพาะหน้าได้เมื่อต้องเผชิญภัยอันตรายต่างๆ | L16: สำนักปลัด
A17: รวม | E17: =SUM(E11:E16) -> 2450000 | F17: =SUM(F11:F16) -> 1650000 | G17: =SUM(G11:G16) -> 2580000 | H17: =SUM(H11:H16) -> 2550000 | I17: =SUM(I11:I16) -> 2550000

Sheet 1.4
A1: รายละเอียดโครงการพัฒนา
A2: แผนพัฒนาท้องถิ่น (พ.ศ. ๒๕๖๖ – ๒๕๗๐)
A3: เทศบาลตำบลธาตุทอง อำเภอบ่อทอง จังหวัดชลบุรี
A4: ก. | B4: ยุทธศาสตร์จังหวัดที่ ๕ พัฒนาคนและชุมชนให้สังคมมั่นคง มีคุณภาพและยั่งยืน ตามหลักปรัชญาของเศรษฐกิจพอเพียง
A5: ข. | B5: ยุทธศาสตร์การพัฒนาของ อปท. ในเขตจังหวัด ที่ 4 การพัฒนาคุณภาพชีวิตสู่เมืองนวัตกรรม น้อมนำหลักเศรษฐกิจพอเพียง
B6: 1. ยุทธศาสตร์การพัฒนาคุณภาพชีวิตประชาชน
B7: 1.4 แผนงานการส่งเสริมการเรียนรู้ของประชาชน
A8: ที่ | B8: โครงการ | C8: วัตถุประสงค์ | D8: เป้าหมาย (ผลผลิตของโครงการ) | E8: งบประมาณ | J8: ตัวชี้วัด(KPI) | K8: ผลที่คาดว่าจะได้รับ | L8: หน่วยงานรับผิดชอบหลัก
E9: 2566 | F9: 2567 | G9: 2568 | H9: 2569 | I9: 2570
E10: (บาท) | F10: (บาท) | G10: (บาท) | H10: (บาท) | I10: (บาท)
A11: 1 | B11: โครงการศูนย์เรียนรู้เศรษฐกิจพอเพียงส่งเสริมการเรียนรู้ของประชาชน | C11: เพื่อพัฒนาความเป็นอยู่ของเกษตรกร เพื่อตอบสนองนโยบายของรัฐบาล | D11: จัดศูนย์การเรียนรู้หรืออุดหนุนโครงการ | E11: 400000 | F11: 400000 | G11: 400000 | H11: 400000 | I11: 400000 | J11: จำนวน ๑ แห่ง | K11: ประชาชนมีความเข้าใจและสามารถดำเนินการตามโครงการได้ | L11: สำนักปลัด
A12: 2 | B12: โครงการห้องสมุดประชาชน | C12: เพื่อเป็นแหล่งการเรียนรู้ของประชาชน | D12: จัดสร้างห้องสมุดประชาชน | E12: - | F12: - | G12: 700000 | H12: - | I12: - | J12: จำนวน ๑ แห่ง | K12: ประชาชนมีแหล่งความรู้มากขึ้น | L12: สำนักปลัด/กองช่าง
A13: 3 | B13: โครงการส่งเสริมการเรียนรู้คอมพิวเตอร์ | C13: เพื่อเป็นแหล่งการเรียนรู้ของประชาชน | D13: จัดอบรมสอนคอมพิวเตอร์พื้นฐาน | E13: 50000 | F13: 50000 | G13: 50000 | H13: 50000 | I13: 50000 | J13: จัดกิจกรรมปีละ ๑ ครั้ง | K13: ประชาชนมีแหล่งความรู้มากขึ้น | L13: สำนักปลัด
A14: 4 | B14: โครงการส่งเสริมและพัฒนาศักยภาพคณะกรรมการหมู่บ้านผู้นำท้องที่ และผู้นำท้องถิ่น ทต.ธาตุทอง | C14: เพื่อส่งเสริมและพัฒนาศักยภาพคณะกรรมการหมู่บ้าน ผู้นำท้องที่ และผู้นำท้องถิ่น ทต.ธาตุทอง | D14: จัดอบรมเพื่อพัฒนาศักยภาพคณะกรรมการหมู่บ้าน ทั้ง ๙หมู่บ้านและผู้นำท้องถิ่น | E14: 500000 | F14: 500000 | G14: 500000 | H14: 500000 | I14: 500000 | J14: จัดกิจกรรมปีละ ๑ ครั้ง | K14: ประสิทธิภาพในการทำงานคณะกรรมการหมู่บ้าน ผู้นำท้องที่และผู้นำท้องถิ่นเพิ่มขึ้น | L14: สำนักปลัด
A15: 5 | B15: โครงการศูนย์เรียนรู้ประวัติศาสตร์ วัฒนธรรม สังคมไทย เพื่อส่งเสริมการท่องเที่ยวของอำเภอบ่อทอง | C15: - จัดนิทรรศการพระกรณียกิจที่สำคัญของสถาบันพระมหากษัตริย์ - จัดนิทรรศการแสดงองค์ความรู้ด้านเศษฐกิจพอเพียง จิตอาสาพระราชทาน โครงการพัชรสุธาคชานุรักษ์ ฯลฯ - จัดนิทรรศการแสดงประวัติศาสตร์ชาติไทย เครื่องดนตรี วัฒนธรรมไทย - จัดนิทรรศการแร่และวิถีชาวอำเภอบ่อทอง - ระบบการบริหารจัดการ การจราจร การรักษาความปลอดภัย ฯลฯ - ห้องน้ำ/ห้องสุขา/จุดบริการประชาสัมพันธ์ ฯลฯ | D15: อุดหนุนอำเภอบ่อทอง | E15: 90000 | F15: 90000 | G15: 90000 | H15: 90000 | I15: 90000 | J15: จำนวนเงินที่ได้รับการอุดหนุน | K15: ประชาชนมีศูนย์เรียนรู้เกี่ยวกับประวัติศาสตร์ความเป็นมาของอำเภอบ่อทอง | L15: สำนักปลัด
A16: รวม | E16: =SUM(E11:E15) -> 1040000 | F16: =SUM(F11:F15) -> 1040000 | G16: =SUM(G11:G15) -> 1740000 | H16: =SUM(H11:H15) -> 1040000 | I16: =SUM(I11:I15) -> 1040000

Sheet 1.5
A1: รายละเอียดโครงการพัฒนา
A2: แผนพัฒนาท้องถิ่น (พ.ศ. ๒๕๖๖ – ๒๕๗๐)
A3: เทศบาลตำบลธาตุทอง อำเภอบ่อทอง จังหวัดชลบุรี
A4: ก. | B4: ยุทธศาสตร์จังหวัดที่ 6 บริหารจัดการทรัพยากรธรรมชาติและสิ่งแวดล้อมให้เกิด ความสมดุลอย่างมีส่วนร่วม
A5: ข. | B5: ยุทธศาสตร์การพัฒนาของ อปท. ในเขตจังหวัด ที่ ๕ การอนุรักษ์ / ฟื้นฟูสิ่งแวดล้อมและพลังงาน
B6: 1. ยุทธศาสตร์การพัฒนาคุณภาพชีวิตประชาชน
B7: 1.5 แผนงานการจัดการสิ่งแวดล้อมในตำบลให้ได้มาตรฐาน
A8: ที่ | B8: โครงการ | C8: วัตถุประสงค์ | D8: เป้าหมาย (ผลผลิตของโครงการ) | E8: งบประมาณ | J8: ตัวชี้วัด(KPI) | K8: ผลที่คาดว่าจะได้รับ | L8: หน่วยงานรับผิดชอบหลัก
E9: 2566 | F9: 2567 | G9: 2568 | H9: 2569 | I9: 2570
E10: (บาท) | F10: (บาท) | G10: (บาท) | H10: (บาท) | I10: (บาท)
A11: 1 | B11: ติดตามตรวจสถานประกอบการ และฟาร์มในพื้นที่เทศบาลตำบลธาตุทอง | C11: เพื่อการจัดการสิ่งแวดล้อมให้มีคุณภาพ | D11: ตรวจสถานประกอบการ และฟาร์มในพื้นที่ อย่างน้อยเดือนละครั้ง | E11: 10000 | F11: 10000 | G11: 10000 | H11: 10000 | I11: 10000 | J11: ตรวจสถานประกอบการ และฟาร์มตามเป้าหมาย | K11: สถานประกอบการและฟาร์มในพื้นที่มีคุณภาพด้านสิ่งแวดล้อม | L11: กองสาธารณสุขฯ
A12: 2 | B12: โครงการดูแลรักษาสิ่งแวดล้อม | C12: เพื่อส่งเสริมและกระตุ้นให้ประชาชนมีส่วนร่วมในการดูแลรักษาสิ่งแวดล้อม | D12: จัดอบรม/กิจกรรมให้กับประชาชน เพื่อมีส่วนร่วมในการดูแลสิ่งแวดล้อม | E12: 200000 | F12: 200000 | G12: 200000 | H12: 200000 | I12: 200000 | J12: จัดกิจกรรม ปีละ ๑ ครั้ง | K12: ประชาชนมีส่วนร่วมในการดูแลรักษาสิ่งแวดล้อม | L12: กองสาธารณสุขฯ
A13: 3 | B13: โครงการพัฒนาสถานที่สาธารณะในวันสำคัญแห่งชาติ | C13: เพื่อพัฒนาและปรับปรุงภูมิทัศน์ในเขตเทศบาล | D13: ปลูกต้นไม้ในวันสำคัญต่างๆ เช่นวันต้นไม่แห่งชาติ ฯลฯ | E13: 100000 | F13: 100000 | G13: 100000 | H13: 100000 | I13: 100000 | J13: จัดกิจกรรม ปีละ ๑ ครั้ง | K13: ประชาชนในเขตเทศบาลมีจิตสำนึกในการอนุรักษ์ธรรมชาติและสิ่งแวดล้อม | L13: กองสาธารณสุขฯ
A14: 4 | B14: โครงการกำจัดขยะมูลฝอย สิ่งปฏิกูลและน้ำเสีย เพื่อควบคุมและกำจัดภาวะมลพิษที่มีผลต่อสุขภาพ อนามัย สวัสดิภาพ และคุณภาพชีวิตของประชาชน | C14: เพื่อกำจัดขยะมูลฝอย สิ่งปฏิกูล รวมถึงน้ำเสีย ซึ่งเป็นแหล่งสะสมและแพร่กระจายของเชื้อโรคต่างๆ | D14: จัดอบรม/กิจกรรม เกี่ยวกับการกำจัดขยะมูลฝอย สิ่งปฏิกูลและน้ำเสียในครัวเรือน เพื่อลดการแพร่ระบาดของเชื้อโรค | E14: 100000 | F14: 100000 | G14: 100000 | H14: 100000 | I14: 100000 | J14: จัดกิจกรรม ปีละ ๑ ครั้ง | K14: ประชาชนในตำบลธาตุทอง มีความรู้ในการกำจัดขยะมูลฝอย สิ่งปฏิกูลและน้ำเสียอย่างถูกวิธี | L14: กองสาธารณสุขฯ
A15: 5 | B15: โครงการคุ้มครอง ดูแลบำรุงรักษาทรัพยากรธรรมชาติ และสิ่งแวดล้อม ควบคุมและลดมลพิษ เป็นมิตรกับสิ่งแวดล้อม | C15: เพื่อบำรุงรักษา ลดมลพิษ ให้กับสิ่งแวดล้อมและทรัพยากรธรรมชาติ | D15: จัดอบรม/กิจกรรมเกี่ยวกับการดูแลรักษาสิ่งแวดล้อม | E15: 100000 | F15: 100000 | G15: 100000 | H15: 100000 | I15: 100000 | J15: จัดกิจกรรม ปีละ ๑ ครั้ง | K15: ผู้ได้รับการอบรมมีความรู้ ความเข้าใจและสามารถนำไปเผยแพร่ได้ | L15: กองสาธารณสุขฯ
A16: 6 | B16: โครงการรักษ์น้ำ รักษ์ป่า รักษาแผ่นดิน | C16: เพื่อส่งเสริมประชาชนในพื้นที่อนุรักษ์ ฟื้นฟู ทรัพยากรป่าไม้ ดินและน้ำรวมถึงระบบนิเวศน์ | D16: ประชาชนในเขตเทศบาลตำบลธาตุทอง | E16: 50000 | F16: 50000 | G16: 50000 | H16: 50000 | I16: 50000 | J16: ประชาชนที่เข้าร่วมโครงการ จำนวน 50 คน | K16: ประชาชนในพื้นที่ได้มีส่วนร่วมในการอนุรักษ์ ฟื้นฟู สิ่งแวดล้อม | L16: สำนักปลัด
A17: รวม | E17: =SUM(E11:E16) -> 560000 | F17: =SUM(F11:F16) -> 560000 | G17: =SUM(G11:G16) -> 560000 | H17: =SUM(H11:H16) -> 560000 | I17: =SUM(I11:I16) -> 560000

Sheet 1.6
A1: รายละเอียดโครงการพัฒนา
A2: แผนพัฒนาท้องถิ่น (พ.ศ. ๒๕๖๖ – ๒๕๗๐)
A3: เทศบาลตำบลธาตุทอง อำเภอบ่อทอง จังหวัดชลบุรี
A4: ก. | B4: ยุทธศาสตร์จังหวัดที่ 6 บริหารจัดการทรัพยากรธรรมชาติและสิ่งแวดล้อมให้เกิดความสมดุลอย่างมีส่วนร่วม
A5: ข. | B5: ยุทธศาสตร์การพัฒนาของ อปท. ในเขตจังหวัด ที่ 5 การอนุรักษ์ / ฟื้นฟูสิ่งแวดล้อมและพลังงาน
B6: 1. ยุทธศาสตร์การพัฒนาคุณภาพชีวิตประชาชน
B7: 1.6 แผนงานการส่งเสริมสุขภาพของประชาชน
A8: ที่ | B8: โครงการ | C8: วัตถุประสงค์ | D8: เป้าหมาย (ผลผลิตของโครงการ) | E8: งบประมาณ | J8: ตัวชี้วัด(KPI) | K8: ผลที่คาดว่าจะได้รับ | L8: หน่วยงานรับผิดชอบหลัก
E9: 2566 | F9: 2567 | G9: 2568 | H9: 2569 | I9: 2570
E10: (บาท) | F10: (บาท) | G10: (บาท) | H10: (บาท) | I10: (บาท)
A11: 1 | B11: โครงการป้องกันและควบคุมโรคที่เกิดจากยุงลายเป็นพาหะ | C11: 1. เพื่อป้องกันและควบคุมการระบาดของโรคที่เกิดจากยุงลายเป็นพาหะ 2. เพื่อเสริมสร้างความร่วมมือในการป้องกันโรคกับชุมชน | D11: จัดอบรม/กิจกรรมโครงการในการให้ความรู้,การรณรงค์ป้องกันและควบคุมการเกิดโรคที่มียุงลายเป็นพาหะ | E11: 100000 | F11: 100000 | G11: 100000 | H11: 100000 | I11: 100000 | J11: จัดอบรม/กิจกรรม ปีละ ๑ ครั้ง | K11: สามารถควบคุมและป้องกันการเกิดโรคที่มียุงเป็นพาหะได้ | L11: กองสาธารณสุขฯ
A12: 2 | B12: โครงการป้องกันและควบคุมโรคพิษสุนัขบ้า | C12: - เพื่อป้องกันการแพร่ระบาดของโรคพิษสุนัขบ้าในพื้นที่ - เพื่อลดจำนวนสุนัขและแมวในพื้นที่ | D12: 1. รณรงค์ฉีดวัคซีนป้องกันโรคพิษสุนัขบ้า 2. ดำเนินการร่วมกับปศุสัตว์จังหวัดในการคุมกำเนิด | E12: 250000 | F12: 250000 | G12: 250000 | H12: 250000 | I12: 250000 | J12: จัดกิจกรรม ปีละ ๑ ครั้ง | K12: ประชาชน/เจ้าของสัตว์เลี้ยง มีส่วนร่วมในการดูแลสัตว์เลี้ยงของตนเอง | L12: กองสาธารณสุขฯ
A13: 3 | B13: โครงการจัดหาครุภัณฑ์ (เครื่องพ่นยา ULV) | C13: เพื่อป้องกันและควบคุมโรคติดต่อต่าง ๆ อย่างต่อเนื่อง โดยเฉพาะไข้เลือดออก | D13: จัดซื้อเครื่องพ่นยา ULV จำนวน ๔ เครื่อง | E13: _ | F13: 40000 | G13: _ | H13: 40000 | I13: _ | J13: เครื่องพ่นยา ๔เครื่อง | K13: ประชาชนในตำบลธาตุทองมีสุขภาพร่างกายแข็งแรงปลอดภัยจากโรค | L13: กองสาธารณสุขฯ
A14: 4 | B14: โครงการอบรมคุ้มครองผู้บริโภค | C14: เพื่ออบรมให้ความรู้แก่ผู้ประกอบการจำหน่ายอาหาร และแกนนำสุขภาพ ให้ความรู้เกี่ยวกับหลักสุขาภิบาลที่ถูกต้องและการเลือกซื้ออาหารที่ปราศจากสารปนเปื้อน | D14: ผู้ประกอบการจำหน่ายอาหารในเทศบาลตำบลธาตุทอง และประชาชนได้บริโภคอาหารที่ถูกหลักสุขาภิบาล | E14: 30000 | F14: 30000 | G14: 30000 | H14: 30000 | I14: 30000 | J14: ผู้ประกอบการจำหน่ายอาหารผ่านเกณฑ์การตรวจสารปนเปื้อนในอาหาร | K14: กลุ่มเครือข่ายคุ้มครองผู้บริโภคมีความรู้เพิ่มขึ้นและสามารถนำไปใช้ประโยชน์แก่ตนเองและชุมชนได้อย่างน้อยร้อยละ 80 | L14: กองสาธารณสุขฯ
A15: 5 | B15: โครงการพัฒนางานสาธารณสุขมูลฐานของหมู่บ้าน/ชุมชน | C15: เพื่อให้ อสม.มีความรู้และพัฒนาศักยภาพด้านงานสาธารณสุขมูลฐาน | D15: จัดอบรมความรู้ให้แก่ อสม.และแกนนำชุมชน | E15: 165000 | F15: 165000 | G15: 165000 | H15: 165000 | I15: 165000 | J15: จัดกิจกรรม ปีละ 1 ครั้ง | K15: อสม.มีศักยภาพเพิ่มขึ้นดูแลสุขภาพเบื้องต้นแก่ชุมชนได้ | L15: กองสาธารณสุขฯ
A16: 6 | B16: โครงการอบรมการจัดการขยะมูลฝอย | C16: - เพื่อให้ชุมชนมีความรู้และสามารถคัดแยกขยะที่ถูกต้องได้ - ปลูกจิตสำนึกในการคัดแยกขยะก่อนทิ้ง | D16: - ลดปริมาณขยะ - สิ่งแวดล้อมในชุมชนสะอาด | E16: 50000 | F16: 50000 | G16: 50000 | H16: 50000 | I16: 50000 | J16: ปริมาณขยะลดลงร้อยละ ๕๐ จากปีที่ผ่านมา | K16: - ประชาชนมีความรู้ในการคัดแยกขยะ - ลดปริมาณขยะ | L16: กองสาธารณสุขฯ
A17: 7 | B17: โครงการอบรมเครือข่ายอาสาสมัครท้องถิ่นรักษ์โลก (อถล.) | C17: เพื่อเป็นการสร้างจิตสำนึกที่ดีในการอนุรักษ์ธรรมชาติและสิ่งแวดล้อม และร่วมกันลดภาวะโลกร้อน และปฏิบัติตัวเป็นแบบอย่างในด้านสิ่งแวดล้อม เช่น คัดแยกขยะ ลดการใช้ถุงพลาสติกและโฟม ฯลฯ และสามารถประชาสัมพันธ์การดำเนินการรักษาสิ่งแวดล้อม | D17: สมาชิก อถล. ในเขตเทศบาลตำบลธาตุทอง | E17: 100000 | F17: 100000 | G17: 100000 | H17: 100000 | I17: 100000 | J17: จำนวนครัวเรือนในตำบลธาตุทอง สมาชิก อถล. ร้อยละ 80 | K17: ประชาชนในตำบลธาตุทองเป็นสมาชิก อถล.และมีจิตสำนึกที่ดีในการดูแลรักษาสิ่งแวดล้อม | L17: กองสาธารณสุขฯ
A18: 8 | B18: เงินอุดหนุนสำหรับงานตามแนวพระราชดำริด้านสาธารณสุข | C18: เพื่อสนับสนุนให้ชุมชนดำเนินการตามแนวทางของโครงการ | D18: สนับสนุนงบประมาณให้กับหมู่บ้าน จำนวน ๙ หมู่ หมู่บ้านละ 20,000 บาท | E18: 180000 | F18: 180000 | G18: 180000 | H18: 180000 | I18: 180000 | J18: จำนวนหมู่บ้านที่ได้รับการสนับสนุน | K18: ประชาชนในตำบลธาตุทองมีสุขภาพอนามัยที่ดี | L18: กองสาธารณสุขฯ /คกก.หมู่บ้าน
A19: 9 | B19: เงินอุดหนุนสำหรับสำรวจข้อมูลจำนวนสัตว์และขึ้นทะเบียนสัตว์ตามโครงการสัตว์ปลอดโรค คนปลอดภัย จากโรคพิษสุนัขบ้า ตามพระปณิธานของศาสตราจารย์ ดร.สมเด็จพระเจ้าน้องนางเธอ เจ้าฟ้าจุลาภรณวลัยลักษณ์ อัครราชกุมารี กรมพระศรีสรางควัฒนวรขัตติยราชนารี | C19: เพื่อสนับสนุนให้ประชาชนสำรวจจำนวนสัตว์เลี้ยงเพื่อขึ้นทะเบียนตามโครงการสัตว์ปลอดโรค คนปลอดภัย จากโรคพิษสุนัขบ้าฯ | D19: ผู้ที่สำรวจจำนวนสัตว์เลี้ยงได้รับค่าตอบแทนในการสำรวจฯ | E19: 20000 | F19: 20000 | G19: 20000 | H19: 20000 | I19: 20000 | J19: ผู้ที่สำรวจจำนวนสัตว์เลี้ยงได้รับค่าตอบแทนร้อยละ 100 | K19: สัตว์เลี้ยง(สุนัขและแมว)ได้รับการขึ้นทะเบียนตามโครงการสัตว์ปลอดโรค คนปลอดภัยจากโรคพิษสุนัขบ้าฯ | L19: กองสาธารณสุขฯ
A20: 10 | B20: เงินอุดหนุนสำหรับขับเคลื่อนตามโครงการสัตว์ปลอดโรค คนปลอดภัย จากโรคพิษสุนัขบ้า ตามพระปณิธานของศาสตราจารย์ ดร.สมเด็จพระเจ้าน้องนางเธอ เจ้าฟ้าจุลาภรณวลัยลักษณ์ อัครราชกุมารี กรมพระศรีสรางควัฒนวรขัตติยราชนารี | C20: 1. เพื่อดำเนินการฉีดวัคซีนป้องกันโรคพิษสุนัขบ้า ควบคุมการเกิดโรคพิษสุนัขบ้าในสัตว์ ๒. เพื่อป้องกันการเกิดโรคพิษสุนัขบ้าในคน กรณีที่ถูกสัตว์เลี้ยงกัด | D20: สัตว์เลี้ยงที่ได้รับการขึ้นทะเบียน ได้รับการฉีดวัคซีน จากปศุสัตว์อำเภอ/จังหวัด หรือผู้ที่ได้รับมอบหมาย | E20: 200000 | F20: 200000 | G20: 200000 | H20: 200000 | I20: 200000 | J20: สัตว์เลี้ยงที่ได้รับการขึ้นทะเบียน ได้รับการฉีดวัคซีนฯ ร้อยละ ๙๐ | K20: 1. ไม่พบสัตว์เลี้ยงป่วยด้วยโรคพิษสุนัขบ้า ๒. คนที่ถูกสัตว์กัด/ข่วน ไม่ป่วยด้วยโรคพิษสุนัขบ้า | L20: กองสาธารณสุขฯ
A21: 11 | B21: โครงการป้องกันและแก้ไขปัญหาโรคขาดสารไอโอดีนอย่างเข้มแข็งและยั่งยืน | C21: เพื่อเป็นการป้องกันการเกิดโรคขาดสารไอโอดีนในช่วงวัยต่างๆ | D21: จัดอบรมให้ความรู้การป้องกันโรคขาดสารไอโอดีน กับแกนนำสุขภาพในพื้นที่ตำบลธาตุทอง | E21: 30000 | F21: 30000 | G21: 30000 | H21: 30000 | I21: 30000 | J21: จัดกิจกรรม ปีละ 1 ครั้ง | K21: ประชาชนในตำบลธาตุทองไม่ป่วยด้วยโรคขาดสารไอโอดีน | L21: กองสาธารณสุขฯ
A22: 12 | B22: โครงการ การบริหารจัดการเพื่อการสงเคราะห์สัตว์และการจัดสวัสดิภาพสัตว์ในการแก้ไขปัญหาสุนัขจรจัด ในจังหวัดชลบุรี | C22: - เพื่อแก้ไขปัญหาสุนัขจรจัดและสัตว์จรจัดหรือปัญหาที่อาจเกิดขึ้นจากโรคระบาดของสัตว์ที่แพร่เชื้อสู่มนุษย์ - เพื่อช่วยเหลืออภิบาลสัตว์ที่ถูกทอดทิ้ง หรือทารุณกรรม - เพื่อลดภาระในการดำเนินงาน ตามภารกิจของหน่วยงานต่างๆ ในการจัดสวัดิภาพของสัตว์ | D22: สนับสนุนเงินอุดหนุนในการบริหารจัดการศูนย์พักพิงสุนัขจรจัด จังหวัดชลบุรี | E22: 80000 | F22: 80000 | G22: 80000 | H22: 80000 | I22: 80000 | J22: ศูนย์พักพิงสุนัขจรจัดจังหวัดชลบุรี ได้รับเงินอุดหนุนเพื่อดำเนินการตามวัตถุประสงค์ | K22: - สุนัขจรจัดและสัตว์จรจัดที่เจ็บป่วย ได้รับการดูแลรักษาอย่างเป็นระบบและเหมาะสม - สุนัขจรจัดและสัตว์จรจัดในพื้นที่จังหวัดชลบุรีมีที่อยู่อาศัย หรือสถานพักพิงที่เหมาะสม ไม่ส่งผลกระทบต่อการเป็นเมืองท่องเที่ยว - สุนัขจรจัดและสัตว์จรจัดในพื้นที่จังหวัดชลบุรี ได้รับการช่วยเหลือป้องกัน จากการถูกทำร้ายและทารุณกรรม | L22: กองสาธารณสุขฯ/มูลนิธิศูนย์พักพิงสุนัขจรจัด
A23: 13 | B23: โครงการป้องกันและระงับโรคติดต่อ | C23: เพื่อป้องกันและระงับโรคติดต่อที่มีการระบาดในชุมชน | D23: ประชาชนในเขตเทศบาลตำบลธาตุทอง - อบรมให้ความรู้เกี่ยวกับโรคติดต่อให้กับแกนนำสุขภาพและประชาชนในพื้นที่ | E23: 50000 | F23: 50000 | G23: 50000 | H23: 50000 | I23: 50000 | J23: ประชาชนมีความรู้ ความเข้าใจ ร้อยละ 80 | K23: สามารถป้องกันและระงับโรคติดต่อที่มีการระบาดในชุมชน | L23: กองสาธารณสุข
A24: 14 | B24: โครงการสร้างศูนย์กีฬาอเนกประสงค์ | C24: เพื่อส่งเสริมการเล่นกีฬา | D24: สร้างศูนย์กีฬาบริเวณเทศบาลธาตุทอง - ซื้อที่ดิน สร้างศูนย์ | E24: - | F24: 5000000 | G24: - | H24: - | I24: - | J24: ศูนย์กีฬา ๑ แห่ง | K24: ประชาชนตระหนักถึงการออกกำลังกายและสร้างความสามัคคี | L24: กองช่าง
A25: 15 | B25: โครงการสวนสุขภาพบริเวณสระน้ำ หมู่ที่ ๑ | C25: เพื่อให้บริการด้านคุณภาพชีวิตของประชาชนและเป็นที่ออกกำลังกาย | D25: ปรับปรุงบริเวณสระน้ำเป็นสวนสุขภาพ (หลังเทศบาล) | E25: - | F25: 5000000 | G25: - | H25: - | I25: - | J25: ประชาชนมีความพึงพอใจร้อยละ ๘๐ | K25: ประชาชนมีสถานที่ออกกำลังกายและพักผ่อนเพิ่มขึ้น | L25: กองช่าง
A26: 16 | B26: โครงการก่อสร้างลานกีฬาผู้สูงอายุ บ้านคลองมือไทร หมู่ที่ 5 | C26: เพื่อให้ประชาชนมีสถานที่ออกกำลังกาย | D26: ขนาดกว้าง 10 เมตร ความยาว 10 เมตร (บริเวณบ้าน ผู้ช่วยผู้ใหญ่บ้านนายสิงห์ชัย) | E26: - | F26: - | G26: - | H26: - | I26: 50000 | J26: สร้างลานกีฬาตามเป้าหมาย | K26: ประชาชนมีสุขภาพร่างกายที่แข็งแรง | L26: กองช่าง
A27: 17 | B27: โครงการก่อสร้างสนามเปตอง บ้านห้วยซุง หมู่ที่ ๘ | C27: เพื่อส่งเสริมให้ประชาชนมีแหล่งสำหรับออกกำลังกายอย่างเหมาะสม | D27: สนามกว้าง ๔ เมตร ยาว ๑๐ เมตร จำนวน ๒ สนาม (บริเวณอาคารอเนกประสงค์) | E27: - | F27: 40000 | G27: - | H27: - | I27: - | J27: สร้างสนามเปตองตามเป้าหมาย | K27: ประชาชนมีสุขภาพร่างกายที่แข็งแรง | L27: กองช่าง
A28: 18 | B28: โครงการจัดซื้อเครื่องออกกำลังกาย | C28: เพื่อส่งเสริมให้ประชาชนได้ใส่ใจในสุขภาพมากขึ้น | D28: ดำเนินการจัดซื้อเครื่องออกกำลังกาย จำนวน 2 แห่ง หมู่ที่ 3 จำนวน 10 ชุด หมู่ที่ 9 จำนวน 10 ชุด | E28: - | F28: 200000 | G28: - | H28: - | I28: - | J28: เครื่องออกกำลังการตามเป้าหมาย | K28: ประชาชนมีสุขภาพที่แข็งแรง | L28: สำนักปลัด
A29: 19 | B29: โครงการเพิ่มศักยภาพในการป้องกันและแก้ไขปัญหายาเสพติด ของ ศอ.ปส.จ.ชบ. จังหวัดชลบุรี | C29: เพื่อป้องกันและแก้ไขปัญหายาเสพติด | D29: ดำเนินการในพื้นที่จังหวัดชลบุรี | E29: 80000 | F29: 80000 | G29: 80000 | H29: 80000 | I29: 80000 | J29: สนับสนุนเงินอุดหนุนศอ.ปส.จ.ชบ. จังหวัดชลบุรี | K29: ประชาชนเข้มแข็งห่างไกลยาเสพติด | L29: ทำการปกครองจังหวัดชลบุรี
A30: 20 | B30: โครงการแก้ไขปัญหายาเสพติดตามนโยบายรัฐบาล | C30: เพื่อเสริมสร้างความเข้มแข็งของชุมชน | D30: ประชาชนในเขตเทศบาล | E30: 100000 | F30: 100000 | G30: 100000 | H30: 100000 | I30: 100000 | J30: จัดกิจกรรม ปีละ 1 ครั้ง | K30: ประชาชนเข้มแข็งห่างไกลยาเสพติด | L30: สำนักปลัด
A31: 21 | B31: โครงการกีฬาต้านภัยยาเสพติด | C31: เพื่อสนับสนุนให้ประชาชนใช้เวลาว่างให้เป็นประโยชน์ สร้างความสามัคคี | D31: ประชาชนในเขตเทศบาลตำบลธาตุทอง | E31: 300000 | F31: 300000 | G31: 300000 | H31: 300000 | I31: 300000 | J31: จัดกิจกรรม ปีละ 1 ครั้ง | K31: ประชาชนสนใจกีฬาและการออกกำลังกายมากขึ้น | L31: กองการศึกษาฯ
A32: 22 | B32: โครงการสนับสนุนกีฬาต่างๆ | C32: เพื่อสนับสนุนการจัดการแข่งขันกีฬา | D32: จำนวน 9 หมู่บ้านในตำบลธาตุทองและหน่วยงานต่างๆในอำเภอบ่อทอง | E32: 300000 | F32: 300000 | G32: 300000 | H32: 300000 | I32: 300000 | J32: จัดกิจกรรม ปีละ 1 ครั้ง | K32: พนักงานและข้าราชการมีความสามัคคี | L32: กองการศึกษาฯ
A33: 23 | B33: โครงการจัดการแข่งขันกีฬาปรองดองสมานฉันท์ระดับอำเภอ | C33: เพื่อส่งเสริมให้ประชาชนออกกำลังกายอย่างเหมาะสม | D33: ประชาชนในเขตพื้นที่อำเภอบ่อทอง | E33: 30000 | F33: 30000 | G33: 30000 | H33: 30000 | I33: 30000 | J33: สนับสนุนเงินอุดหนุนอำเภอบ่อทอง | K33: ประชาชนมีสุขภาพแข็งแรง | L33: กองการศึกษาฯ
A34: รวม | E34: =SUM(E11:E30) -> 1435000 | F34: =SUM(F11:F30) -> 11715000 | G34: =SUM(G11:G30) -> 1435000 | H34: =SUM(H11:H30) -> 1475000 | I34: =SUM(I11:I30) -> 1485000

Sheet 1.7
A1: รายละเอียดโครงการพัฒนา
A2: แผนพัฒนาท้องถิ่น (พ.ศ. ๒๕๖๖ – ๒๕๗๐)
A3: เทศบาลตำบลธาตุทอง อำเภอบ่อทอง จังหวัดชลบุรี
A4: ก. | B4: ยุทธศาสตร์จังหวัดที่ ๕ พัฒนาคนและชุมชนให้สังคมมั่นคง มีคุณภาพและยั่งยืนตามหลักปรัชญาของเศรษฐกิจพอเพียง
A5: ข. | B5: ยุทธศาสตร์การพัฒนาของ อปท. ในเขตจังหวัด ที่ 4 ยุทธศาสตร์การพัฒนาคุณภาพชีวิตคู่เศษฐกิจพอเพียง
B6: 1. ยุทธศาสตร์การพัฒนาคุณภาพชีวิตประชาชน
B7: 1.7 แผนงานการส่งเสริมการให้ความช่วยเหลือแก่ผู้ด้อยโอกาส คนชรา เด็กและคนพิการ
A8: ที่ | B8: โครงการ | C8: วัตถุประสงค์ | D8: เป้าหมาย (ผลผลิตของโครงการ) | E8: งบประมาณ | J8: ตัวชี้วัด(KPI) | K8: ผลที่คาดว่าจะได้รับ | L8: หน่วยงานรับผิดชอบหลัก
E9: 2566 | F9: 2567 | G9: 2568 | H9: 2569 | I9: 2570
E10: (บาท) | F10: (บาท) | G10: (บาท) | H10: (บาท) | I10: (บาท)
A11: 1 | B11: โครงการออกเยี่ยมคนพิการและผู้ป่วยติดเตียง | C11: ผู้พิการและผู้ป่วยติดเตียงในตำบลธาตุทองได้รับการดูแล การตรวจเยี่ยมสุขภาพ เพื่อการดูแลสุขภาพ | D11: ผู้ป่วยติดเตียงทุกคนได้รับการตรวจ ติดตามการดูแลด้านสุขภาพ | E11: 50000 | F11: 50000 | G11: 50000 | H11: 50000 | I11: 50000 | J11: ร้อยละ ๘๐ ของผู้พิการและผู้ป่วยติดเตียง | K11: ผู้พิการและผู้ป่วยติดเตียงในตำบลธาตุทองได้รับการดูแล และมีคุณภาพชีวิตที่ดีขึ้น | L11: กองสาธารณสุขฯ
A12: 2 | B12: โครงการอบรมให้ความรู้ด้านโรคเอดส์ในชุมชน | C12: เพื่อให้ประชาชนทุกกลุ่มวัยซึ่งเป็นกลุ่มเสี่ยงมีความรู้ด้านการป้องกันโรคเอดส์ | D12: ประชาชนทุกวัยในเขตเทศบาล | E12: 50000 | F12: 50000 | G12: 50000 | H12: 50000 | I12: 50000 | J12: จัดกิจกรรม ปีละ 1 ครั้ง | K12: ประชาชนในชุมชนมีความรู้ด้านเอดส์และสามารถป้องกันตนเองได้ | L12: กองสาธารณสุขฯ
A13: 3 | B13: โครงการอบรมอาสาสมัครบริบาลท้องถิ่น | C13: เพื่อให้ผู้ที่ดูแลผู้ป่วยติดเตียงมีความรู้ในการดำเนินเนินงานได้อย่างถูกต้องเหมาะสม | D13: ผู้ป่วยติดเตียงได้รับการดูแลอย่างถูกต้อง ครบถ้วน | E13: 100000 | F13: 100000 | G13: 100000 | H13: 100000 | I13: 100000 | J13: ร้อยละ ๘๐ ของผู้ป่วยติดเตียง | K13: - อาสาสมัครบริบาลท้องถิ่นมีความรู้ในการดูแลผู้ป่วยอย่างถูกต้อง - ผู้ป่วยติดเตียงมีคุณภาพชีวิตที่ดีขึ้น | L13: กองสาธารณสุขฯ
A14: 4 | B14: โครงการส่งเสริมอาชีพแก่ผู้ด้อยโอกาส | C14: เพื่อส่งเสริมให้ผู้ด้อยโอกาสมีอาชีพ | D14: จัดกิจกรรมส่งเสริมอาชีพ | E14: 100000 | F14: 100000 | G14: 100000 | H14: 100000 | I14: 100000 | J14: จัดกิจกรรม ปีละ 1 ครั้ง | K14: ผู้ด้อยโอกาสได้รับการส่งเสริมอาชีพเพิ่มขึ้น | L14: สำนักปลัด
A15: 5 | B15: โครงการมอบทุนการศึกษาให้กับเยาวชนผู้ด้อยโอกาส | C15: เพื่อให้การศึกษากับเยาวชนผู้ด้อยโอกาส | D15: จัดมอบทุนการศึกษากับนักเรียน | E15: 200000 | F15: 200000 | G15: 200000 | H15: 200000 | I15: 200000 | J15: จัดกิจกรรม ปีละ 1 ครั้ง | K15: นักเรียน/นักศึกษาได้รับการศึกษา | L15: สำนักปลัด
A16: 6 | B16: โครงการส่งเสริมสนับสนุนกิจกรรมผู้ยากจนผู้ยากไร้ให้มีคุณภาพชีวิตที่ดีขึ้น | C16: เพื่อส่งเสริมสนับสนุนกิจกรรมที่เป็นการช่วยเหลือผู้ยากจน ผู้ยากไร้ผู้ด้อยโอกาส ในเขตเทศบาลตำบลธาตุทองให้มีคุณภาพชีวิตที่ดีขึ้น | D16: ผู้ยากจน คนยากไร้ ผู้ด้อยโอกาส ในเขตเทศบาลตำบลธาตุทอง | E16: 100000 | F16: 100000 | G16: 100000 | H16: 100000 | I16: 100000 | J16: ร้อยละ ๗๐ ของผู้ยากจน คนยากไร้ ผู้ด้อยโอกาส | K16: ประชาชนในเขตเทศบาลที่ยากจน ผู้ยากไร้ ผู้ด้อยโอกาสได้รับการช่วยเหลือ | L16: สำนักปลัด
A17: 7 | B17: โครงการส่งเสริม/จัดหาสถานที่เพื่อส่งเสริมอาชีพคนพิการ หรือผู้ยากไร้ในเขตเทศบาลตำบลธาตุทอง | C17: เพื่อส่งเสริมและพัฒนาอาชีพของผู้พิการหรือผู้ยากไร้ | D17: ดำเนินการจัดหาสถานที่เพื่อจำหน่ายผลิตภัณฑ์ที่มาจากผู้พิการหรือผู้ยากไร้ | E17: 100000 | F17: 100000 | G17: 100000 | H17: 100000 | I17: 100000 | J17: จำนวน ๑ แห่ง | K17: ผู้พิการและผู้ด้อยโอกาสได้มีสถานที่จำหน่ายผลิตภัณฑ์ | L17: สำนักปลัด
A18: 8 | B18: โครงการปรับปรุงที่อยู่อาศัยให้กับผู้ยากไร้ | C18: เพื่อบรรเทาความเดือดร้อนของประชาชน | D18: ปรับปรุงที่อยู่อาศัยให้กับผู้ยากไร้ | E18: 100000 | F18: 100000 | G18: 100000 | H18: 100000 | I18: 100000 | J18: จัดกิจกรรม ปีละ 1 ครั้ง | K18: ประชาชนมีคุณภาพชีวิตที่ดีขึ้น | L18: กองช่าง/สำนักปลัด
A19: 9 | B19: โครงการสานสายใยรักสร้างครอบครัวเข้มแข็ง | C19: 1. เพื่อจัดอบรมให้ความรู้แก่เด็ก สตรี และบุคคลทั่วไปด้านการยุติความรุนแรงต่อเด็กและสตรี 2. เพื่อพัฒนาศูนย์พัฒนาครอบครัวของเทศบาลตำบลธาตุทองให้เกิดความเข้มแข็ง | D19: 1. จัดรณรงค์เกี่ยวกับยุติความรุนแรงต่อเด็กและสตรี 2. อบรมให้ความรู้เกี่ยวกับการยุติความรุนแรงต่อเด็กและสตรี 3. อบรมให้ความรู้เกี่ยวกับการยุติการกระทำรุนแรงในครอบครัว | E19: 35000 | F19: 35000 | G19: 35000 | H19: 35000 | I19: 35000 | J19: จัดกิจกรรม ปีละ 1 ครั้ง | K19: เด็กและสตรีทั่วไปได้รับความรู้เกี่ยวกับการยุติความรุนแรงในรูปแบบต่าง ๆ | L19: สำนักปลัด
A20: 10 | B20: โครงการพัฒนาศักยภาพผู้สูงอายุในเขตเทศบาลตำบลธาตุทอง | C20: 1. จัดอบรมชมรมผู้สูงอายุเกี่ยวกับการดำเนินงานด้านการดูแลคุณภาพชีวิตของผู้สูงอายุ 2.อบรมอาสาสมัคร ดูแลผู้สูงอายุ (อผส) ในเขตเทศบาลตำบลธาตุทอง | D20: 1.จัดตั้งอาสาสมัครดูแลผู้สูงอายุที่บ้าน (อผส) ในเขตเทศบาลตำบลธาตุทอง 2.ชมรมผู้สูงอายุและอาสาสมัครดูแลผู้สูงอายุที่บ้านได้รับความรู้ และสถานการณ์ของผู้สูงอายุในเขตเทศบาลตำบลธาตุทอง | E20: 40000 | F20: 40000 | G20: 40000 | H20: 40000 | I20: 40000 | J20: จัดกิจกรรม ปีละ 1 ครั้ง | K20: 1. มีอาสาสมัครดูแลผู้สูงอายุในเขตเทศบาลตำบลธาตุทอง 2.เกิดชมรมผู้สูงอายุทุกชุมชนในเขตเทศบาลตำบลธาตุทอง | L20: สำนักปลัด
A21: 11 | B21: ส่งเสริมกิจกรรม/โครงการพัฒนาบทบาทสตรีและครอบครัว | C21: เพื่อส่งเสริมสภาวะผู้นำแก่สตรีในชุมชนและพัฒนาสตรีในด้านต่างๆ | D21: สตรีในเขตเทศบาลตำบลธาตุทอง จำนวน ๑๐๐ คน | E21: 100000 | F21: 100000 | G21: 100000 | H21: 100000 | I21: 100000 | J21: จัดกิจกรรม ปีละ 1 ครั้ง | K21: เพื่อส่งเสริมสิทธิสตรีให้มีความเท่าเทียมกัน | L21: สำนักปลัด
A22: 12 | B22: โครงการสนับสนุนกองทุนแม่ของแผ่นดิน | C22: เพื่อเสริมสร้างความเข้มแข็งของชุมชน | D22: ๑ อำเภอ ๑ ศูนย์การเรียนรู้ | E22: 100000 | F22: 100000 | G22: 100000 | H22: 100000 | I22: 100000 | J22: ๑ แห่ง | K22: ประชาชนเข้มแข็งห่างไกลยาเสพติด | L22: สำนักปลัด
... A24: 14 | B24: โครงการอุดหนุนชมรมผู้สูงอายุ เทศบาลตำบลธาตุทอง | C24: เพื่อส่งเสริมสนับสนุนกิจกรรมฝึกอาชีพแก่ผู้สูงอายุ | D24: อุดหนุนชมรมผู้สูงอายุเทศบาลตำบลธาตุทอง | E24: 100000 | F24: 100000 | G24: 100000 | H24: 100000 | I24: 100000 | J24: อุดหนุนงบประมาณชมรมผู้สูงอายุเทศบาลตำบลธาตุทอง | K24: เพื่อส่งเสริมสนับสนุนกิจกรรมฝึกอาชีพแก่ผู้สูงอายุ | L24: สำนักปลัด/ ชมรมผู้สูงอายุเทศบาลตำบลธาตุทอง
A25: รวม | E25: =SUM(E11:E24) -> 1250000 | F25: =SUM(F11:F24) -> 1250000 | G25: =SUM(G11:G24) -> 1250000 | H25: =SUM(H11:H24) -> 1250000 | I25: =SUM(I11:I24) -> 1250000

Sheet 2.1
A1: รายละเอียดโครงการพัฒนา
A2: แผนพัฒนาท้องถิ่น (พ.ศ. ๒๕๖๖ – ๒๕๗๐)
A3: เทศบาลตำบลธาตุทอง อำเภอบ่อทอง จังหวัดชลบุรี
A4: ก. | B4: ยุทธศาสตร์จังหวัดที่ 3 สร้างเสริมนวัตกรรมสู่เกษตรสร้างมูลค่า
A5: ข. | B5: ยุทธศาสตร์การพัฒนาของ อปท. ในเขตจังหวัด ที่ ๓ การพัฒนาการเกษตร/อุตสาหกรรมให้ได้มาตรฐาน
B6: ๒. ยุทธศาสตร์การพัฒนาเศรษฐกิจตามปรัชญาเศรษฐกิจพอเพียง
B7: ๒.๑ แผนงานการส่งเสริมกิจกรรมการพัฒนาและส่งเสริมการประกอบอาชีพ
A8: ที่ | B8: โครงการ | C8: วัตถุประสงค์ | D8: เป้าหมาย (ผลผลิตของโครงการ) | E8: งบประมาณ | J8: ตัวชี้วัด(KPI) | K8: ผลที่คาดว่าจะได้รับ | L8: หน่วยงานรับผิดชอบหลัก
E9: 2566 | F9: 2567 | G9: 2568 | H9: 2569 | I9: 2570
E10: (บาท) | F10: (บาท) | G10: (บาท) | H10: (บาท) | I10: (บาท)
A11: 1 | B11: โครงการอบรมการพัฒนาชีวิตตามหลักปรัชญาเศรฐกิจพอเพียง | C11: เพื่อให้ประชาชนในพื้นที่ได้รู้ถึงหลักการสร้างงานสร้างรายได้ ลดรายจ่ายเพิ่มผลผลิต โดยยึดหลักปรัชญาของเศรษฐกิจพอเพียง | D11: อุดหนุนอำเภอบ่อทอง ในการจัดอบรมตามโครงการที่ขอรับงบประมาณ | E11: 20000 | F11: 20000 | G11: 20000 | H11: 20000 | I11: 20000 | J11: อำเภอบ่อทองได้รับเงินอุดหนุนเพื่อดำเนินการตามวัตถุประสงค์ | K11: เกษตรกรในเขตเทศบาลตำบลธาตุทองมีความรู้ ความเข้าใจหลักการสร้างงานสร้างรายได้ลดรายจ่ายเพิ่มผลผลิตโดยยึดหลักปรัชญาของเศรษฐกิจพอเพียง | L11: สำนักปลัด/ที่ว่าการอำเภอบ่อทอง
A12: ๒ | B12: โครงการอบรมและส่งเสริมอาชีพประชาชนในเขตเทศบาลตำบลธาตุทอง | C12: เพื่อให้ประชาชนได้รับการพัฒนาศักยภาพและส่งเสริมอาชีพ | D12: อบรมและส่งเสริมอาชีพประชาชนในเขตเทศบาลตำบลธาตุทอง | E12: 100000 | F12: 100000 | G12: 100000 | H12: 100000 | I12: 100000 | J12: อบรมปีละ 2 ครั้ง | K12: ประชาชนได้รับการพัฒนาศักยภาพและส่งเสริมอาชีพ | L12: สำนักปลัด
A13: ๓ | B13: โครงการส่งเสริมสนับสนุนวิสาหกิจชุมชน | C13: เพื่อให้ประชาชนรวมตัวกันผลิตสินค้าการบริการ/กิจกรรมอื่น | D13: วิสาหกิจชุมชน จำนวนอย่างน้อย 1 วิสาหกิจ | E13: - | F13: ๑๐,๐๐๐ | G13: - | H13: - | I13: - | J13: 1 วิสาหกิจ | K13: ประชาชนได้รวมตัวกันเกิดความสามัคคี | L13: สำนักปลัด
A14: ๔ | B14: ส่งเสริมโครงการ/กิจกรรมด้านการอนุรักษ์พลังงานและ การสร้างจิตสำนึก | C14: เพื่อประชาชนมีความรู้ในการในการอนุรักษ์พลังงานและสร้างจิตสำนึกตระหนักในการใช้พลังงานอย่างมีคุณค่า | D14: ทุกครัวเรือน ได้รับการส่งเสริมด้านการอนุรักษ์พลังงาน และการสร้างจิตสำนึก | E14: - | F14: 10000 | G14: - | H14: - | I14: - | J14: จัดกิจกรรม ปีละ ๑ ครั้ง | K14: ประชาชนมีความรู้ในการอนุรักษ์พลังงานมีจิตสำนึกและตระหนักในการใช้พลังงานอย่างคุ้มค่า | L14: สำนักปลัด
A15: ๕ | B15: ส่งเสริมโครงการ/กิจกรรมด้านการใช้พลังงานทดแทน | C15: เพื่อมีการพัฒนาเทคโนโลยีพลังงานทดแทน | D15: ทุกครัวเรือนได้รับการส่งเสริมด้านการใช้พลังงานทดแทน | E15: 10000 | F15: 10000 | G15: 10000 | H15: 10000 | I15: 10000 | J15: จัดกิจกรรม ปีละ ๑ ครั้ง | K15: ประชาชนมีความรู้พัฒนาเทคโนโลยีด้านพลังงานทดแทนและเป็นการส่งเสริมการเกษตร | L15: สำนักปลัด
A16: รวม | E16: =SUM(E11:E15) -> 130000 | F16: =SUM(F11:F15) -> 140000 | G16: =SUM(G11:G15) -> 130000 | H16: =SUM(H11:H15) -> 130000 | I16: =SUM(I11:I15) -> 130000

Sheet 2.2
A1: รายละเอียดโครงการพัฒนา
A2: แผนพัฒนาท้องถิ่น (พ.ศ. ๒๕๖๖ – ๒๕๗๐)
A3: เทศบาลตำบลธาตุทอง อำเภอบ่อทอง จังหวัดชลบุรี
A4: ก. | B4: ยุทธศาสตร์จังหวัดที่ 3 สร้างเสริมนวัตกรรมสู่เกษตรสร้างมูลค่า
A5: ข. | B5: ยุทธศาสตร์การพัฒนาของ อปท. ในเขตจังหวัด ที่ ๓ การพัฒนาการเกษตร/อุตสาหกรรมให้ได้มาตรฐาน
B6: ๒. ยุทธศาสตร์การพัฒนาเศรษฐกิจตามปรัชญาเศรษฐกิจพอเพียง
B7: ๒.๒ แผนงานการจัดการทรัพยากรน้ำเพื่อการพัฒนาอาชีพ
A8: ที่ | B8: โครงการ | C8: วัตถุประสงค์ | D8: เป้าหมาย (ผลผลิตของโครงการ) | E8: งบประมาณ | J8: ตัวชี้วัด(KPI) | K8: ผลที่คาดว่าจะได้รับ | L8: หน่วยงานรับผิดชอบหลัก
E9: 2566 | F9: 2567 | G9: 2568 | H9: 2569 | I9: 2570
E10: (บาท) | F10: (บาท) | G10: (บาท) | H10: (บาท) | I10: (บาท)
A11: 1 | B11: โครงการขุดลอกคลอง ฝายและสระน้ำภายในเขต ตำบลธาตุทอง | C11: เพื่อให้มีน้ำเพื่อการเกษตร | D11: ขุดลอกสระน้ำ และ ขุดลอกคลองตำบลธาตุทอง | E11: - | F11: 100000 | G11: 100000 | H11: - | I11: - | J11: จำนวนคลอง ฝายและสระน้ำ ที่ได้รับการพัฒนา | K11: ประชาชนได้มีน้ำสำหรับใช้ในการเกษตร | L11: กองช่าง
A12: 2 | B12: โครงการขุดลอกคลองมือไทร บ้านเนินหิน หมู่ที่ 1 | C12: เพื่อให้คลองสามารถเก็บน้ำได้เพียงพอต่อการเกษตร | D12: ปากคลองกว้างประมาณ 8 เมตร ยาว 1,000 เมตร | E12: - | F12: - | G12: - | H12: - | I12: 200000 | J12: ขุดลอกคลองตามเป้าหมาย | K12: ประชาชนมีน้ำสำหรับใช้ในการเกษตรอย่างเพียงพอ | L12: กองช่าง
A13: 3 | B13: โครงการขุดเจาะบ่อบาดาล พร้อมปั๊มซัมเมอร์ บริเวณวัดบวรราษฎร์บำรุง หมู่ที่ ๑ | C13: เพื่อให้ประชาชนมีน้ำใช้สำหรับอุปโภคและบริโภค | D13: ดำเนินการขุดเจาะบ่อบาดาล พร้อมปั๊มซัมเมอร์ บริเวณวัดบวรราษฎร์บำรุง | E13: - | F13: - | G13: - | H13: - | I13: 150000 | J13: ระบบประปาได้รับการพัฒนาตามเป้าหมาย | K13: ประชาชนได้มีน้ำสำหรับใช้ในการเกษตรและอุปโภคอย่างเพียงพอ | L13: กองช่าง
A14: 4 | B14: โครงการขุดลอกคลองมือไทรและก่อสร้างฝายน้ำล้น บ้านเนินดินแดง หมู่ที่ ๒ | C14: เพื่อกำจัดวัชพืชและป้องกันน้ำท่วม และกักเก็บน้ำไว้ใช้ด้านเกษตรกรรมช่วงฤดูแล้ง | D14: ขุดลอกคลองกว้าง ๘.๐๐ เมตร ยาว ๑,๐๐๐ เมตร และก่อสร้างฝายน้ำล้นตามแบบมาตรฐาน | E14: - | F14: 1500000 | G14: - | H14: - | I14: - | J14: แหล่งน้ำได้รับการพัฒนาตามเป้าหมาย | K14: ประชาชนมีน้ำใช้เพื่อการเกษตรในฤดูแล้งอย่างเพียงพอ | L14: กองช่าง
A15: 5 | B15: โครงการก่อสร้างแท็งค์น้ำ-วางท่อน้ำประปา บ้านเนินดินแดง หมู่ที่ ๒ | C15: เพื่อประชาชนได้ใช้น้ำประปาอย่างทั่วถึง | D15: แท็งค์น้ำ-วางท่อน้ำประปา กลุ่มบ้านนายเม่งฮวด | E15: - | F15: 300000 | G15: - | H15: - | I15: - | J15: ระบบประปาได้รับการพัฒนาตามเป้าหมาย | K15: ประชาชนมีน้ำประปาใช้อย่างทั่วถึง | L15: กองช่าง
A16: 6 | B16: โครงการปรับปรุงสระน้ำ บ้านเนินดินแดง หมู่ที่ ๒ | C16: เพื่อกักเก็บน้ำให้ได้ปริมาณมากขึ้น | D16: ยกระดับคันสระ กว้าง ๓.๐๐ เมตร ยาว ๔๒๐ เมตร เมตร สูง ๑.๐๐ เมตร | E16: - | F16: 200000 | G16: - | H16: - | I16: - | J16: แหล่งน้ำได้รับการพัฒนาตามเป้าหมาย | K16: สามารถกักเก็บน้ำให้ได้ปริมาณมากขึ้น | L16: กองช่าง
A17: 7 | B17: โครงการขุดบ่อน้ำตื้น บ้านโปร่งเกตุ หมู่ที่ ๓ | C17: เพื่อให้ประชาชนได้มีน้ำสำหรับอุปโภคและบริโภค | D17: ขยายท่อประปา จำนวน ๑ แห่ง ระยะทาง ๑,๖๐๐ เมตร (ซอยบ้านลุงสน) | E17: 150000 | F17: - | G17: - | H17: - | I17: - | J17: แหล่งน้ำได้รับการพัฒนาตามเป้าหมาย | K17: ประชาชนมีน้ำสำหรับอุปโภค บริโภค | L17: กองช่าง
A18: 8 | B18: โครงการก่อสร้างฝายน้ำล้นคลองมือไทร บ้านคลองมือไทร หมู่ที่ 5 | C18: ประชาชนมีน้ำใช้สำหรับการเกษตร | D18: ก่อสร้างฝายน้ำล้น ขนาด ความยาว 12 เมตร(บริเวณกลุ่มหมู่บ้านอีสานเขียว) | E18: - | F18: 500000 | G18: - | H18: - | I18: - | J18: แหล่งน้ำได้รับการพัฒนาตามเป้าหมาย | K18: ประชาชนมีน้ำสำหรับใช้ในการเกษตร | L18: กองช่าง
A19: 9 | B19: โครงการขยายเขตน้ำประปา บ้านคลองมือไทร หมู่ที่ ๕ | C19: เพื่อให้ประชาชนได้มีน้ำประปาใช้อย่างทั่วถึง | D19: ขยายเขตน้ำประปา จากบ้านนายเที่ยง-บ้านนายเนิ๊ด ยาว ๑,๓๙๕ เมตร | E19: - | F19: 100000 | G19: 100000 | H19: - | I19: - | J19: ระบบประปาได้รับการพัฒนาตามเป้าหมาย | K19: ประชาชนมีน้ำประปาใช้ | L19: กองช่าง
A20: 10 | B20: โครงการปรับปรุงประปาอีสานเขียว บ้านคลองมือไทร หมู่ที่ 5 | C20: เพื่อให้ประชาชนมีน้ำใช้สำหรับอุปโภคและบริโภค | D20: ปรับปรุงประปาอีสานเขียว | E20: - | F20: - | G20: - | H20: - | I20: 100000 | J20: ระบบประปาได้รับการพัฒนาตามเป้าหมาย | K20: ประชาชนมีน้ำสำหรับใช้ในการอุปโภคและบริโภค | L20: กองช่าง
A21: 11 | B21: โครงการขุดลอกคลองอีบ่าง - เขากระถิน บ้านเขากระถิน หมู่ที่ ๖ | C21: เพื่อให้มีน้ำเพื่อการประกอบอาชีพ | D21: ขุดลอกคลองยาว ๑,๘๐๐ เมตร กว้าง ประมาณ ๖-๘ เมตร | E21: - | F21: 300000 | G21: - | H21: - | I21: - | J21: แหล่งน้ำได้รับการพัฒนาตามเป้าหมาย | K21: ประชาชนได้ใช้น้ำ เพื่อการประกอบอาชีพ | L21: กองช่าง
A22: 12 | B22: โครงการก่อสร้างระบบประปาหมู่บ้าน บ้านเขากระถิน หมู่ที่ ๖ | C22: เพื่อประชาชนได้มีน้ำอุปโภคบริโภคอย่างพอเพียง | D22: ขุดเจาะบ่อบาดาลพร้อมติดตั้งปั๊มซัมเมิร์สและติดตั้งหอถังสูง (บริเวณสุสานไตรคุณธรรม) | E22: 700000 | F22: - | G22: - | H22: - | I22: - | J22: ระบบประปาได้รับการพัฒนาตามเป้าหมาย | K22: ประชาชนมีน้ำสำหรับอุปโภค บริโภค | L22: กองช่าง
A23: 13 | B23: โครงการก่อสร้างฝายคอนกรีตน้ำล้น คลองห้วยซุง บ้านเขากระถิน หมู่ที่ ๖ | C23: เพื่อเก็บน้ำให้ประชาชนใช้ในการเกษตร | D23: ฝายคอนกรีตน้ำล้น ๑ แห่ง(ใกล้กับถนนสายหนองเสม็ด-บ่อทอง (บ้านนายสมศักดิ์ อิทธิขจรรัตน์) | E23: - | F23: - | G23: 500000 | H23: - | I23: - | J23: แหล่งน้ำได้รับการพัฒนาตามเป้าหมาย | K23: ประชาชนมีน้ำสำหรับใช้เพื่อการเกษตร | L23: กองช่าง
A24: 14 | B24: โครงการเปลี่ยนถังแชมเปญประปาเขากระถิน บ้านเขากระถิน หมู่ที่ 6 | C24: เพื่อให้ประชาชนมีน้ำใช้สำหรับอุปโภคและบริโภค | D24: ดำเนินการเปลี่ยนถังแชมเปญประปาเขากระถิน หมู่ที่ 6 | E24: - | F24: - | G24: 500000 | H24: - | I24: - | J24: ระบบประปาได้รับการพัฒนาตามเป้าหมาย | K24: ประชาชนได้มีน้ำสำหรับใช้ในการ | L24: กองช่าง
A25: 15 | B25: โครงการขุดสระน้ำบริเวณ สี่แยกหนองเสือช่อ บ้านหนองเสือช่อ หมู่ที่ ๗ | C25: เพื่อให้มีน้ำเพื่อการประกอบอาชีพ | D25: ขุดสระน้ำ ขนาด ๑ ไร่ (บริเวณบ้านนางวิมล เอี่ยมสะอาด) | E25: - | F25: 200000 | G25: - | H25: - | I25: - | J25: แหล่งน้ำได้รับการพัฒนาตามเป้าหมาย | K25: ประชาชนได้ใช้น้ำ เพื่อการประกอบอาชีพ | L25: กองช่าง
A26: 16 | B26: โครงการสร้างฝายน้ำล้นคลองบึงกระเบา บ้านหนองเสือช่อ หมู่ที่ ๗ | C26: เพื่อให้มีน้ำเพื่อการประกอบอาชีพ | D26: ฝาย ขนาดความยาว ๒๐ เมตร (บริเวณข้างบ้านนายสมพงษ์ (ทิดพงษ์) | E26: 1500000 | F26: - | G26: - | H26: - | I26: - | J26: แหล่งน้ำได้รับการพัฒนาตามเป้าหมาย | K26: ประชาชนได้ใช้น้ำ เพื่อการประกอบอาชีพ | L26: กองช่าง
A27: 17 | B27: โครงการปรับปรุงน้ำประปา บ้านหนองเสือช่อ หมู่ที่ ๗ | C27: เพื่อเพิ่มประสิทธิภาพระบบประปาให้ดีขึ้น | D27: ปรับปรุงน้ำประปา | E27: - | F27: 500000 | G27: - | H27: - | I27: - | J27: ระบบประปาได้รับการพัฒนาตามเป้าหมาย | K27: น้ำประปามีคุณภาพเพิ่มขึ้น | L27: กองช่าง
A28: 18 | B28: โครงการขยายเขตท่อประปา บ้านหนองเสือช่อ หมู่ที่ ๗ | C28: เพื่อประชาชนได้มีน้ำอุปโภคอย่างทั่วถึง | D28: ขยายเขตท่อประปา จากกลุ่มบ้านคูเมือง-แปลงจันทร์-หนองน้ำขาว | E28: - | F28: - | G28: 150000 | H28: - | I28: - | J28: ระบบประปาได้รับการพัฒนาตามเป้าหมาย | K28: ประชาชนมีน้ำใช้อย่างทั่วถึง | L28: กองช่าง
A29: 19 | B29: โครงการติดตั้งถังน้ำประปา (รุ่นแชมเปน) บ้านหนองเสือช่อ หมู่ที่ ๗ | C29: เพื่อประชาชนได้มีน้ำอุปโภคอย่างทั่วถึง | D29: ถังน้ำประปา รุ่นแชมเปญ ขนาด ๒๐ คิว (บริเวณบ้านนายธัชพงศ์ เป็นโครงการต่อเนื่องจากโครงการอยู่ดีมีสุข) | E29: - | F29: 200000 | G29: - | H29: - | I29: - | J29: ระบบประปาได้รับการพัฒนาตามเป้าหมาย | K29: ประชาชนมีน้ำใช้อย่างทั่วถึง | L29: กองช่าง
A30: 20 | B30: โครงการเปลี่ยนถังแชมเปน ประปา บริเวณหน้าวัดโปร่งเกตุ บ้านหนองเสือช่อ หมู่ที่ 7 | C30: เพื่อประชาชนได้มีน้ำอุปโภค | D30: ดำเนินการเปลี่ยนถังแชมเปน ประปา | E30: - | F30: - | G30: - | H30: - | I30: 500000 | J30: ระบบประปาได้รับการพัฒนาตามเป้าหมาย | K30: ประชาชนได้มีน้ำสำหรับใช้ในการเกษตรและอุปโภคอย่างเพียงพอ | L30: กองช่าง
A31: 21 | B31: โครงการก่อสร้างฝายน้ำล้น คลองนาโม – บึงกระเบา บ้านหนองเสือช่อ หมู่ที่ 7 | C31: เพื่อประชาชนได้มีน้ำอุปโภค | D31: ก่อสร้างฝายน้ำล้น คลองนาโม – บึงกระเบา หมู่ที่ 7 | E31: - | F31: - | G31: - | H31: 3000000 | I31: - | J31: แหล่งน้ำได้รับการพัฒนาตามเป้าหมาย | K31: ประชาชนได้มีน้ำสำหรับใช้ในการเกษตรและอุปโภคอย่างเพียงพอ | L31: กองช่าง
A32: 22 | B32: โครงการขยายเขตประปา บ้านหนองเสือช่อ หมู่ที่ 7 | C32: เพื่อประชาชนได้มีน้ำอุปโภค | D32: ขยายเขตประปา 1 บ่อ 1 แท่นแชมเปญ ท่อยาว 2,000 เมตร ขนาด 2 นิ้ว | E32: - | F32: - | G32: - | H32: 800000 | I32: - | J32: ระบบประปาได้รับการพัฒนาตามเป้าหมาย | K32: ประชาชนได้มีน้ำสำหรับใช้ในการเกษตรและอุปโภคอย่างเพียงพอ | L32: กองช่าง
A33: 23 | B33: โครงการขยายท่อประปา บ้านห้วยซุง หมู่ที่ ๘ | C33: เพื่อประชาชนมีน้ำอุปโภค บริโภคอย่างเพียงพอ | D33: ขยายท่อประปา ท่อยาว 1,200 เมตร กว้าง 3 นิ้ว | E33: - | F33: - | G33: 100000 | H33: - | I33: - | J33: ระบบประปาได้รับการพัฒนาตามเป้าหมาย | K33: ประชาชนมีน้ำอุปโภค บริโภคอย่างเพียงพอ | L33: กองช่าง
A34: 24 | B34: โครงการปรับปรุงระบบประปาเดิม พร้อมก่อสร้างระบบกรองน้ำประปา และขยายเขตประปา บ้านห้วยซุง หมู่ที่ 8 | C34: เพื่อประชาชนได้มีน้ำอุปโภค | D34: ปรับปรุงระบบประปาเดิม ก่อสร้างระบบกรองน้ำประปา เจาะบ่อบาดาลเพิ่มเติม และขยายเขตประปา | E34: - | F34: - | G34: 100000 | H34: - | I34: - | J34: ระบบประปาได้รับการพัฒนาตามเป้าหมาย | K34: ประชาชนได้มีน้ำสำหรับใช้ในการอุปโภคอย่างเพียงพอ | L34: กองช่าง
A35: 25 | B35: โครงการปรับปรุงภูมิทัศน์อ่างเก็บน้ำบ้านอมพนม หมู่ที่ ๙ | C35: เพื่อให้ประชาชนมีน้ำใช้สำหรับทำการเกษตร | D35: ปรับปรุงภูมิทัศน์อ่างเก็บน้ำบ้านอมพนม | E35: - | F35: - | G35: - | H35: - | I35: 500000 | J35: แหล่งน้ำได้รับการพัฒนาตามเป้าหมาย | K35: ประชาชนได้มีน้ำสำหรับใช้ในการเกษตรและอุปโภคอย่างเพียงพอ | L35: กองช่าง
A36: 26 | B36: โครงการซ่อมแซมและเพิ่มเติม/ขยายประปาหลุมตาไพร บ้านหนองน้ำขาว หมู่ที่ ๙ | C36: เพื่อประชาชนได้มีน้ำอุปโภคอย่างทั่วถึง | D36: ซ่อมแซมและขยายเขตท่อประปา จำนวน ๑ แห่ง ระยะทาง ๑,๕๐๐ เมตร | E36: - | F36: 200000 | G36: - | H36: - | I36: - | J36: ระบบประปาได้รับการพัฒนาตามเป้าหมาย | K36: ประชาชนมีน้ำใช้อุปโภค อย่างทั่วถึง | L36: กองช่าง
A37: 27 | B37: โครงการขุดลอกคลองเป็นสระกลางคลอง คลองโปร่งเกตุ บ้านหนองน้ำขาว หมู่ที่ 9 | C37: เพื่อประชาชนได้มีน้ำอุปโภค | D37: ดำเนินการขุดลอกคลองเป็นสระกลางคลอง คลองโปร่งเกตุ | E37: - | F37: - | G37: - | H37: - | I37: 200000 | J37: แหล่งน้ำได้รับการพัฒนาตามเป้าหมาย | K37: ประชาชนได้มีน้ำสำหรับใช้ในการเกษตรและอุปโภคอย่างเพียงพอ | L37: กองช่าง
A38: รวม | E38: =SUM(E11:E37) -> 2350000 | F38: =SUM(F11:F37) -> 4100000 | G38: =SUM(G11:G37) -> 1550000 | H38: =SUM(H11:H37) -> 3800000 | I38: =SUM(I11:I37) -> 1650000

Sheet 2.3
A1: รายละเอียดโครงการพัฒนา
A2: แผนพัฒนาท้องถิ่น (พ.ศ. ๒๕๖๖ – ๒๕๗๐)
A3: เทศบาลตำบลธาตุทอง อำเภอบ่อทอง จังหวัดชลบุรี
A4: ก. | B4: ยุทธศาสตร์จังหวัดที่ 3 สร้างเสริมนวัตกรรมสู่เกษตรสร้างมูลค่า
A5: ข. | B5: ยุทธศาสตร์การพัฒนาของ อปท. ในเขตจังหวัด ที่ ๓ การพัฒนาการเกษตร/อุตสาหกรรมให้ได้มาตรฐาน
B6: ๒. ยุทธศาสตร์การพัฒนาเศรษฐกิจตามปรัชญาเศรษฐกิจพอเพียง
B7: ๒.๓ แผนงานการพัฒนาและส่งเสริมอาชีพภูมิปัญญาท้องถิ่น
A8: ที่ | B8: โครงการ | C8: วัตถุประสงค์ | D8: เป้าหมาย (ผลผลิตของโครงการ) | E8: งบประมาณ | J8: ตัวชี้วัด(KPI) | K8: ผลที่คาดว่าจะได้รับ | L8: หน่วยงานรับผิดชอบหลัก
E9: 2566 | F9: 2567 | G9: 2568 | H9: 2569 | I9: 2570
E10: (บาท) | F10: (บาท) | G10: (บาท) | H10: (บาท) | I10: (บาท)
A11: 1 | B11: โครงการจัดตั้งกลุ่มอาชีพ | C11: เพื่อให้ประชาชนมีรายได้เพิ่มขึ้น | D11: สนับสนุนกิจกรรมการจัดตั้งกลุ่มอาชีพ | E11: 10000 | F11: 10000 | G11: 10000 | H11: 10000 | I11: 10000 | J11: จัดกิจกรรมปีละ ๑ ครั้ง | K11: สามารถรองรับกลุ่มอาชีพในชุมชนได้ | L11: สำนักปลัด
A12: 2 | B12: โครงการแปรรูปผลผลิตทางการเกษตร | C12: เพื่อให้ประชาชนได้พัฒนาความรู้ในการแปรรูปผลผลิตทางการเกษตร | D12: อบรมการแปรรูปเกษตร (เนื้อสัตว์,ผัก,ผลไม้) จำนวน ๕๐ คน/ปี | E12: 50000 | F12: 50000 | G12: 50000 | H12: 50000 | I12: 50000 | J12: จัดกิจกรรมปีละ ๑ ครั้ง | K12: กลุ่มเกษตรกรได้รับความรู้และนำไปประยุกต์ใช้ได้ | L12: สำนักปลัด
A13: 3 | B13: โครงการฝึกอบรมและศึกษาดูงานตามแนวพระราชดำริ | C13: เพื่อพัฒนาอาชีพ | D13: ศึกษาดูงาน ๑ ครั้ง/ปี | E13: 300000 | F13: 300000 | G13: 300000 | H13: 300000 | I13: 300000 | J13: จัดกิจกรรมปีละ ๑ ครั้ง | K13: กลุ่มผู้ศึกษาดูงานมีศักยภาพในการพัฒนาอาชีพเพิ่มขึ้น | L13: สำนักปลัด
A14: 4 | B14: โครงการศึกษาดูงานตามแนวทางสร้างหลักเศรษฐกิจพอเพียงอันเนื่องมาจากพระราชดำริและพระราชเสาวนีย์ | C14: เพื่อส่งเสริมการดำรงชีวิตตามแนวทางเศรษฐกิจพอเพียงตามพระราชดำริและพระราชเสาวนีย์ | D14: ดำเนินโครงการศึกษาแนวทางตามพระราชดำริและพระราชเสาวนีย์ | E14: 200000 | F14: 200000 | G14: 200000 | H14: 200000 | I14: 200000 | J14: จัดกิจกรรมปีละ ๑ ครั้ง | K14: ประชาชนสามารถดำรงชีวิตตามแนวทางตาพระราชดำริ | L14: สำนักปลัด
A15: รวม | E15: =SUM(E11:E14) -> 560000 | F15: =SUM(F11:F14) -> 560000 | G15: =SUM(G11:G14) -> 560000 | H15: =SUM(H11:H14) -> 560000 | I15: =SUM(I11:I14) -> 560000

Sheet 2.4
A1: รายละเอียดโครงการพัฒนา
A2: แผนพัฒนาท้องถิ่น (พ.ศ. ๒๕๖๖ – ๒๕๗๐)
A3: เทศบาลตำบลธาตุทอง อำเภอบ่อทอง จังหวัดชลบุรี
A4: ก. | B4: ยุทธศาสตร์จังหวัดที่ ที่ ๔ ยกระดับประสิทธิภาพการบริหารจัดการภาครัฐ เทคโนโลยี โครงสร้างพื้นฐาน โครงข่ายคมนาคม รองรับเขตพัฒนาพิเศษภาคตะวันออก
A5: ข. | B5: ยุทธศาสตร์การพัฒนาของ อปท. ในเขตจังหวัด ที่ 1 การพัฒนาโครงสร้างพื้นฐาน / สาธารณูปโภค
B6: ๒. ยุทธศาสตร์การพัฒนาเศรษฐกิจตามปรัชญาเศรษฐกิจพอเพียง
B7: ๒.๔ แผนงานการพัฒนาการคมนาคมเพื่อส่งเสริมอาชีพ
A8: ที่ | B8: โครงการ | C8: วัตถุประสงค์ | D8: เป้าหมาย (ผลผลิตของโครงการ) | E8: งบประมาณ | J8: ตัวชี้วัด(KPI) | K8: ผลที่คาดว่าจะได้รับ | L8: หน่วยงานรับผิดชอบหลัก
E9: 2566 | F9: 2567 | G9: 2568 | H9: 2569 | I9: 2570
E10: (บาท) | F10: (บาท) | G10: (บาท) | H10: (บาท) | I10: (บาท)
A11: 1 | B11: โครงการปรับปรุงถนนดินเดิมเป็นถนนลูกรัง (สายทางเข้าบ้านสมัย ธาราสันติสุข-บ้านนายเรียง ทองสุข) บ้านคลองมือไทร หมู่ที่ ๕ | C11: เพื่อให้การคมนาคมสะดวกขึ้น | D11: ถนนลูกรัง ขนาดกว้าง ๔ เมตร ยาว ๕๘๖ เมตร วางท่อขนาด Ø ๖๐ ซม. ๒ จุด | E11: - | F11: - | G11: 750000 | H11: - | I11: - | J11: ถนนได้รับการพัฒนาตามเป้าหมาย | K11: ประชาชนได้รับความปลอดภัยในการจราจร | L11: กองช่าง
A12: 2 | B12: โครงการก่อสร้างถนน ค.ส.ค. ถนนเทศบาล 8 ซอย 6/4 บ้านคลองมือไทร หมู่ที่ ๕ | C12: เพื่อให้การคมนาคมสะดวกขึ้น | D12: ถนนกว้าง ๖ เมตร ความยาว ๔๐๐ เมตร หนา ๑๕ ซม. วางท่อขนาด Ø ๖๐ ซม. ๒ แถว (จากบ้านนายสวง คำศรี - ถนนเนินหินซอยโปร่งวัว) | E12: - | F12: 1700000 | G12: - | H12: - | I12: - | J12: ถนนได้รับการพัฒนาตามเป้าหมาย | K12: ประชาชนได้รับความปลอดภัยในการจราจร | L12: กองช่าง
A13: 3 | B13: โครงการก่อสร้างถนนลูกรังหรือหินคลุก พร้อมวางท่อระบายน้ำ สายหนองบอน – คลองอีบ่าง บ้านเขากระถิน หมู่ที่ ๖ | C13: เพื่อให้การคมนาคมสะดวกขึ้น | D13: ถนนกว้าง ๖ เมตร ยาว ๑,๐๐๐ เมตร พร้อมวางท่อระบายน้ำ | E13: - | F13: 500000 | G13: - | H13: - | I13: - | J13: ถนนได้รับการพัฒนาตามเป้าหมาย | K13: ประชาชนได้รับความปลอดภัยในการจราจร | L13: กองช่าง
A14: รวม | E14: =SUM(E11:E13) -> 0 | F14: =SUM(F11:F13) -> 2200000 | G14: =SUM(G11:G13) -> 750000 | H14: =SUM(H11:H13) -> 0 | I14: =SUM(I11:I13) -> 0

Sheet 3.1
A1: รายละเอียดโครงการพัฒนา
A2: แผนพัฒนาท้องถิ่น (พ.ศ. ๒๕๖๖ – ๒๕๗๐)
A3: เทศบาลตำบลธาตุทอง อำเภอบ่อทอง จังหวัดชลบุรี
A4: ก. | B4: ยุทธศาสตร์จังหวัดที่ ที่ ๔ ยกระดับประสิทธิภาพการบริหารจัดการภาครัฐ เทคโนโลยี โครงสร้างพื้นฐาน โครงข่ายคมนาคม รองรับเขตพัฒนาพิเศษภาคตะวันออก
A5: ข. | B5: ยุทธศาสตร์การพัฒนาของ อปท. ในเขตจังหวัด ที่ 1 การพัฒนาโครงสร้างพื้นฐาน / สาธารณูปโภค
B6: ๓. ยุทธศาสตร์การพัฒนาการให้บริการตามหลักบริหารจัดการบ้านเมืองที่ดี
B7: ๓.๑ แผนงานการส่งเสริมการให้บริการประชาชนให้ได้มาตรฐาน
A8: ที่ | B8: โครงการ | C8: วัตถุประสงค์ | D8: เป้าหมาย (ผลผลิตของโครงการ) | E8: งบประมาณ | J8: ตัวชี้วัด(KPI) | K8: ผลที่คาดว่าจะได้รับ | L8: หน่วยงานรับผิดชอบหลัก
E9: 2566 | F9: 2567 | G9: 2568 | H9: 2569 | I9: 2570
E10: (บาท) | F10: (บาท) | G10: (บาท) | H10: (บาท) | I10: (บาท)
A11: 1 | B11: โครงการจัดซื้อถังขยะสำหรับชุมชน | C11: เพื่อรักษาความสะอาดเรียบร้อยของชุมชน | D11: จัดซื้อถังขยะขนาด 200 ลิตร จำนวน 120 ถัง | E11: 200000 | F11: 200000 | G11: 200000 | H11: 200000 | I11: 200000 | J11: จำนวนถังขยะในเขตเทศบาลตำบลธาตุทอง | K11: ชุมชนมีความสะอาดและเป็นระเบียบเรียบร้อยขึ้น | L11: กองสาธารณสุขฯ
A12: 2 | B12: โครงการติดตั้งป้ายซอยในตำบลธาตุทอง | C12: เพื่อความสะดวกในการเดินทางและการบอกตำแหน่งในการเดินทางคมนาคม | D12: จัดทำป้ายและติดตั้งป้ายซอยในเขตเทศบาล | E12: 200000 | F12: 200000 | G12: 200000 | H12: 200000 | I12: 200000 | J12: จำนวนป้ายที่ติดตั้ง | K12: สามารถบอกตำแหน่งของถนนและมีความสะดวกในการเดินทาง | L12: กองช่าง
A13: 3 | B13: โครงการติดตั้งป้ายเตือนสัญญาณจราจร ป้ายบังคับ ในตำบลธาตุทอง | C13: เพื่อลดอุบัติเหตุในเขตเทศบาล | D13: ติดตั้งป้ายภายในเขตเทศบาล | E13: 200000 | F13: 200000 | G13: 200000 | H13: 200000 | I13: 200000 | J13: จำนวนป้ายที่ติดตั้ง | K13: สามารถรถอุบัติเหตุในการสัญจรไปมา | L13: กองช่าง
A14: 4 | B14: โครงการติดตั้งป้ายเตือนทางโค้งและกระจกโค้งจราจร บริเวณถนนเทศบาล 12/1 บ้านคลองมือไทร หมู่ที่ 5 | C14: เพื่อลดอุบัติเหตุในเขตเทศบาล | D14: ติดตั้งป้ายเตือนทางโค้ง จำนวน 2 ป้าย และกระจกโค้งจราจร 1 ชุด บริเวณกถนนเทศบาล 12/1 | E14: - | F14: 10000 | G14: - | H14: - | I14: - | J14: ติดตั้งตามเป้าหมาย | K14: สามารถรถอุบัติเหตุในการสัญจรไปมา | L14: กองช่าง.
A15: 5 | B15: โครงการจัดซื้อสัญญาณไฟเตือน/ไฟวับวาบ | C15: ใช้ในงานบรรเทาสาธารณภัย | D15: จัดซื้อสัญญาณไฟเตือน/ไฟวับวาบ | E15: 200000 | F15: 200000 | G15: 200000 | H15: 200000 | I15: 200000 | J15: ติดตั้งตามเป้าหมาย | K15: เพิ่มประสิทธิภาพในงานป้องกันฯ | L15: สำนักปลัด
A16: 6 | B16: โครงการส่งเสริมและสนับสนุนงาน/กิจกรรมป้องกันและบรรเทาสาธารณภัย (อปพร.)/การฝึกอบรมทบทวน | C16: เพื่อส่งเสริมงาน/กิจกรรมป้องกัน และบรรเทาสาธารณภัย | D16: ดำเนินงานโครงการเกี่ยวกับการบรรเทาสาธารณภัย (อปพร) | E16: 200000 | F16: 200000 | G16: 200000 | H16: 200000 | I16: 200000 | J16: จัดกิจกรรมปีละ ๑ ครั้ง | K16: เพิ่มประสิทธิภาพในงานป้องกันฯ | L16: สำนักปลัด
A17: 7 | B17: โครงการป้ายบอกเขตเทศบาลตำบลธาตุทอง | C17: เพื่อความเรียบร้อยในพื้นที่ | D17: จัดทำป้ายบอกเขตเทศบาล ตำบลธาตุทอง ตามแบบแปลนเทศบาลตำบลธาตุทอง จำนวน 7 จุด | E17: - | F17: - | G17: 200000 | H17: - | I17: - | J17: มีป้ายบอกเขตเทศบาล | K17: มีความเรียบร้อยในพื้นที่ | L17: กองช่าง
A18: 8 | B18: โครงการติดตั้งไฟฟ้าแสงสว่าง ถนนเทศบาลตำบลธาตุทอง 3 หมู่ที่ ๔ | C18: เพื่อความปลอดภัยในการใช้ถนนเวลากลางคืน | D18: ติดตั้งไฟสาธารณะ (สายบ้านลุงนิด) | E18: - | F18: 50000 | G18: - | H18: - | I18: - | J18: ไฟฟ้าแสงสว่างได้รับการพัฒนาตามเป้าหมาย | K18: มีความปลอดภัยในการใช้ถนนเวลากลางคืน | L18: กองช่าง
A19: 9 | B19: โครงการติดตั้งไฟฟ้าแสงสว่าง ถนนเทศบาลตำบลธาตุทอง 1/4 บ้านบึงตะกู หมู่ที่ ๔ | C19: เพื่อความปลอดภัยในการใช้ถนนเวลากลางคืน | D19: ติดตั้งไฟสาธารณะ (สายดีเดย์) | E19: - | F19: - | G19: 50000 | H19: - | I19: - | J19: ไฟฟ้าแสงสว่างได้รับการพัฒนาตามเป้าหมาย | K19: มีความปลอดภัยในการใช้ถนนเวลากลางคืน | L19: กองช่าง
A20: 10 | B20: โครงการติดตั้งไฟฟ้าสาธารณะด้านฝั่งตรงข้ามหน้าโรงเรียนบึงตะกู หมู่ที่ ๔ | C20: เพื่อความปลอดภัยในการใช้ถนนเวลากลางคืน | D20: ไฟฟ้าสาธารณะ | E20: - | F20: - | G20: 10000 | H20: - | I20: - | J20: ไฟฟ้าแสงสว่างได้รับการพัฒนาตามเป้าหมาย | K20: มีความปลอดภัยในการใช้ถนนเวลากลางคืน | L20: กองช่าง
A21: 11 | B21: โครงการติดตั้งไฟฟ้าสาธารณะ ซอยผสมทรัพย์ บ้านเขากระถิน หมู่ที่ ๖ | C21: เพื่อความปลอดภัยในการใช้ถนนเวลากลางคืน | D21: ติดตั้งไฟฟ้าสาธารณะ | E21: - | F21: 100000 | G21: - | H21: - | I21: - | J21: ไฟฟ้าแสงสว่างได้รับการพัฒนาตามเป้าหมาย | K21: มีความปลอดภัยในการใช้ถนนเวลากลางคืน | L21: กองช่าง
A22: 12 | B22: โครงการติดตั้งไฟฟ้าสาธารณะเขาอ่างสะบ้า บ้านหนองเสือช่อ หมู่ที่ ๗ | C22: เพื่อความปลอดภัยในการใช้ถนนเวลากลางคืน | D22: ติดตั้งไฟฟ้าสาธารณะ | E22: - | F22: - | G22: 150000 | H22: - | I22: - | J22: ไฟฟ้าแสงสว่างได้รับการพัฒนาตามเป้าหมาย | K22: มีความปลอดภัยในการใช้ถนนเวลากลางคืน | L22: กองช่าง
A23: 13 | B23: โครงการติดตั้งไฟฟ้าแสงสว่าง ถนนสายเจริญโชคดี บ้านห้วยซุง หมู่ที่ ๘ (บริเวณตลาดบึงตะกู) | C23: เพื่อความปลอดภัยในการใช้ถนนเวลากลางคืน | D23: ติดตั้งไฟฟ้าสาธารณะ | E23: 150000 | F23: - | G23: - | H23: - | I23: - | J23: ไฟฟ้าแสงสว่างได้รับการพัฒนาตามเป้าหมาย | K23: มีความปลอดภัยในการใช้ถนนเวลากลางคืน | L23: กองช่าง
A24: 14 | B24: โครงการเพิ่มหม้อแปลงไฟฟ้าบริเวณ บ้านห้วยซุง หมู่ที่ ๘ | C24: เพื่อให้บริการประชาชนได้มีไฟฟ้าใช้อย่างทั่วถึง | D24: หม้อแปลงไฟฟ้าจำนวน ๑ แห่ง (หน้าบ้านชาติชาย) | E24: - | F24: 150000 | G24: - | H24: - | I24: - | J24: จำนวน ๑ แห่ง | K24: ประชาชนได้รับความปลอดภัยเพิ่มขึ้น | L24: กองช่าง
A25: 15 | B25: โครงการติดตั้งไฟฟ้าสาธารณะ หมู่ที่ ๓ (สายบ้านนายโกศล)เชื่อมต่อ หมู่ที่ ๗ สายคูเมือง – แปลงจันทร์ | C25: เพื่อความปลอดภัยในการใช้ถนนเวลากลางคืน | D25: ติดตั้งไฟฟ้าสาธารณะ | E25: - | F25: - | G25: - | H25: 150000 | I25: - | J25: ไฟฟ้าแสงสว่างได้รับการพัฒนาตามเป้าหมาย | K25: มีความปลอดภัยในการใช้ถนนเวลากลางคืน | L25: กองช่าง
A26: 16 | B26: โครงการขอขยายไฟฟ้าบ้านมาลีพัตรประไพ,อนุชา อันเด๊ะ และบ้านสานิตย์ (วัดธาตุทองซ้ายมือเล้าไก่) | C26: เพื่อความสะดวกในการสัญจรไป-มา ในเวลากลางคืน | D26: ติดตั้งไฟฟ้า ๓ จุด | E26: - | F26: 100000 | G26: - | H26: - | I26: - | J26: ไฟฟ้าแสงสว่างได้รับการพัฒนาตามเป้าหมาย | K26: ประชาชนมีความสะดวกในการสัญจรไป-มา ในเวลากลางคืน | L26: กองช่าง
A27: 17 | B27: โครงการขยายเขตไฟฟ้าสาธารณะ บ้านบึงตะกู หมู่ที่ ๔ | C27: เพื่อความปลอดภัยในการสัญจรไปมา | D27: ขยายเขตไฟฟ้าสาธารณะ(ไฟทาง)จำนวน ๓ จุด (ซอยบ้านสุกัญญา บราวน์) | E27: - | F27: 50000 | G27: - | H27: - | I27: - | J27: ไฟฟ้าแสงสว่างได้รับการพัฒนาตามเป้าหมาย | K27: ประชาชนได้รับความปลอดภัยเพิ่มขึ้น | L27: สำนักปลัด
A28: 18 | B28: โครงการติดตั้งไฟสัญญาณกระพริบ บริเวณตลาดบึงตะกู หมู่ที่ ๘ | C28: เพื่อให้บริการประชาชนในด้านความปลอดภัย | D28: ติดตั้งไฟกระพริบ จำนวน ๑ จุด | E28: - | F28: 20000 | G28: - | H28: - | I28: - | J28: ติดตั้งไฟกระพริบตามเป้าหมาย | K28: ประชาชนได้รับความปลอดภัยเพิ่มขึ้น | L28: กองช่าง
A29: 19 | B29: โครงการติดกล้องวงจรปิดทางแยกเขากระถิน คลองมือไทร เนินดินแดง ซอยฟ้าสาง (ศาลา) บ้านคลองมือไทร หมู่ที่ 5 | C29: เพื่อเพิ่มความปลอดภัยให้ประชาชนที่ใช้เส้นทาง | D29: โครงการติดกล้องวงจรปิดทางแยกเขากระถิน คลองมือไทร เนินดินแดง ซอยฟ้าสาง (ศาลา) หมู่ 5 | E29: - | F29: - | G29: - | H29: 25000 | I29: - | J29: ติดกล้องวงจรปิดตามเป้าหมาย | K29: เพื่อเพิ่มความปลอดภัยให้ประชาชนที่ใช้เส้นทาง | L29: สำนักปลัด
A30: 20 | B30: โครงการปรับปรุง/ซ่อมแซม อาคารศูนย์ส่งเสริมการเกษตร อาคารรับเสด็จ อาคารอเนกประสงค์ และห้องน้ำ | C30: เพื่อความเป็นระเบียบเรียบร้อยและความสะดวกสบายในการติดต่อราชการและบริการประชาชน | D30: - อาคารศูนย์ส่งเสริมการเกษตรขนาดกว้าง ๑๑ เมตร ยาว ๑๖ เมตร - อาคารรับเสด็จขนาดกว้าง ๑๑ เมตร ยาว ๑๖ เมตร - อาคารอเนกประสงค์ ขนาดกว้าง ๔.๐๐ เมตร ยาว ๕.๐๐ เมตร | E30: ๑,๐๐๐,๐๐๐ | F30: 1000000 | G30: - | H30: - | I30: - | J30: อาคารได้รับการพัฒนาตามเป้าหมาย | K30: สามารถรองรับประชาชนที่มาใช้บริการในการติดต่อราชการของเทศบาล | L30: สำนักปลัด,กองช่าง
A31: 21 | B31: โครงการปรับปรุง/ต่อเติม/ซ่อมแซม อาคารอเนกประสงค์ ทต.ธาตุทอง ภายในและภายนอกอาคาร | C31: เพื่อความเป็นระเบียบเรียบร้อยและความสะดวกสบายในการติดต่อราชการและบริการประชาชน | D31: อาคารอเนกประสงค์ จำนวน 1 แห่ง ขนาดกว้าง ๒๐ เมตร ยาว ๔๐ เมตร | E31: 1000000 | F31: 1000000 | G31: 1000000 | H31: 1000000 | I31: - | J31: อาคารได้รับการพัฒนาตามเป้าหมาย | K31: ประชาชนผู้มาใช้บริการได้รับความสะดวก | L31: สำนักปลัด
A32: 22 | B32: โครงการปรับปรุงอาคารสำนักงานเทศบาล วัสดุ อุปกรณ์ และบริเวณอาคารสถานที่ภายในและภายนอกอาคาร | C32: เพื่ออำนวยความสะดวกให้กับประชาชนที่มาติดต่อราชการ | D32: ปรับปรุงอาคารสำนักงานเทศบาล วัสดุ อุปกรณ์ และบริเวณอาคารสถานที่ภายในและภายนอกอาคาร | E32: 200000 | F32: 200000 | G32: 200000 | H32: 200000 | I32: 200000 | J32: ประชาชนที่มารับบริการมีความพึงพอใจ | K32: ประชาชนผู้มาใช้บริการได้รับความสะดวก | L32: สำนักปลัด
A33: 23 | B33: โครงการต่อเติมหลังคาเชื่อมต่อระหว่างอาคารเดิมและอาคารหลังใหม่ ของสำนักงานเทศบาลตำบลธาตุทอง | C33: เพื่ออำนวยความสะดวกให้ผู้มาใช้บริการ | D33: ดำเนินการต่อเติมหลังคาเชื่อมต่อระหว่างอาคารเดิมและอาคารหลังใหม่ ของสำนักงานเทศบาลตำบลธาตุทอง ขนาดกว้าง ๒ เมตร ยาว ๔ เมตร | E33: 100000 | F33: 100000 | G33: - | H33: - | I33: - | J33: ประชาชนที่มาใช้บริการเกิดความพึงพอใจ | K33: สามารถรองรับประชาชนที่มาใช้บริการในการติดต่อราชการ | L33: กองช่าง
A34: 24 | B34: โครงการปรับปรุง/ต่อเติมอาคารอเนกประสงค์หลังใหม่ ของสำนักงานเทศบาลตำบลธาตุทอง | C34: เพื่ออำนวยความสะดวกให้ผู้มาใช้บริการ | D34: รปรับปรุง/ต่อเติมอาคารอเนกประสงค์หลังใหม่ ของสำนักงานเทศบาลตำบลธาตุทอง จำนวน ๑ แห่ง | E34: 100000 | F34: 100000 | G34: 100000 | H34: 100000 | I34: 100000 | J34: ประชาชนที่มาใช้บริการเกิดความพึงพอใจ | K34: สามารถรองรับประชาชนที่มาใช้บริการในการติดต่อราชการ | L34: กองช่าง
A35: 25 | B35: โครงการปรับปรุงอาคารอเนกประสงค์ บ้านห้วยซุงและติดตั้งพัดลมเพดาน หมู่ที่ 8 | C35: เพื่อให้ประชาชนได้มีอาคารอเนกประสงค์ที่มีมาตรฐาน | D35: ปรับปรุงอาคารอเนกประสงค์บ้านห้วยซุงและติดตั้งพัดลมเพดาน | E35: - | F35: 100000 | G35: - | H35: - | I35: - | J35: ประชาชนมีความพึงพอใจ ร้อยละ ๘๐ | K35: ประชาชนได้มีอาคารอเนกประสงค์ที่มีมาตรฐาน | L35: กองช่าง
A36: 26 | B36: โครงการขุดเจาะบ่อบาดาลพร้อมก่อสร้างระบบประปาใช้ในบริเวณสำนักงานเทศบาลตำบลธาตุทอง | C36: เพื่อเพิ่มประสิทธิภาพในการปฏิบัติงาน | D36: ดำเนินการขุดเจาะบ่อบาดาลพร้อมก่อสร้างระบบประปา จำนวน ๑ แห่งบริเวณ ทต.ธาตุทอง | E36: - | F36: - | G36: - | H36: 50000 | I36: - | J36: ระบบประปาได้รับการพัฒนาตามเป้าหมาย | K36: ประชาชนผู้มาใช้บริการได้รับความสะดวก | L36: สำนักปลัด
A37: 27 | B37: โครงการปรับปรุงภูมิทัศน์ บริเวณสระน้ำบ้านเนินหิน (หลังเทศบาลตำบลธาตุทอง) | C37: เพื่อความเป็นระเบียบเรียบร้อย และมีพื้นที่สะดวกสบายในการให้บริการประชาชน | D37: ปรับพื้นที่พักผ่อนและอื่นๆ ฯลฯ | E37: 2000000 | F37: 2000000 | G37: 2000000 | H37: 2000000 | I37: 2000000 | J37: ประชาชนมีความพึงพอใจ ร้อยละ ๘๐ | K37: ประชาชนได้รับความสะดวกสบายในการติดต่อราชการ | L37: กองช่าง
A38: 28 | B38: โครงการอบรมวินัยจราจรเพื่อสร้างความปลอดภัยและสร้างความเข้มแข็งให้ชุมชน | C38: เพื่อให้ประชาชนรู้กฎ ระเบียบจราจร | D38: ผู้เข้าร่วมโครงการประมาณ ๑๐๐ คน | E38: 20000 | F38: 20000 | G38: 20000 | H38: 20000 | I38: 20000 | J38: จัดกิจกรรมปีละ ๑ ครั้ง | K38: ประชาชนรู้ กฎ ระเบียบจราจร | L38: สำนักปลัด
A39: 29 | B39: โครงการช่วยเหลือประชาชนในการป้องกันและบรรเทาความเดือดร้อนที่เกิดจากสาธารณภัย | C39: เพื่อช่วยเหลือประชาชนในการป้องกันและบรรเทาความเดือดร้อนที่เกิดจากสาธารณภัยต่างๆเช่นอุทกภัย วาตภัย อัคคีภัย ฯลฯ | D39: ประชาชนภายในเขตเทศบาลตำบลธาตุทองที่ได้รับความเดือดร้อนจากสาธารณภัยต่างๆ เช่น อุทกภัย วาตภัย อัคคัภัย ฯลฯ | E39: 500000 | F39: 500000 | G39: 500000 | H39: 500000 | I39: 500000 | J39: จำนวนประชาชนที่ได้รับความช่วยเหลือจากสาธารณภัยต่างๆ | K39: ประชาชนได้รับการช่วยเหลือในการป้องกันและบรรเทาความเดือดร้อนจากสาธารณภัยต่างๆ | L39: สำนักปลัด
A40: 30 | B40: โครงการป้องกันและลดอุบัติเหตุทางถนนในช่วงเทศกาล | C40: เพื่อป้องกันและให้บริการแก่ประชาชนในช่วงเทศกาลต่างๆ | D40: ตั้งจุดบริการเพื่อลดอุบัติเหตุทางถนนในช่วงเทศกาลต่าง ๆ เช่น วันขึ้นปีใหม่ วันสงการนต์ ฯลฯ | E40: 100000 | F40: 100000 | G40: 100000 | H40: 100000 | I40: 100000 | J40: ตั้งจุดบริการตามเป้าหมาย | K40: - ลดอุบัติเหตุทางถนนในช่วงเทศกาล - ประชาชนมีความปลอดภัยในการสัญจรช่วงเทศกาล | L40: สำนักปลัด
A41: 31 | B41: โครงการก่อสร้างรั้ว ค.ส.ล. บริเวณพื้นที่สำนักงาน เทศบาลตำบลธาตุทอง | C41: เพื่อป้องกันความปลอดภัยในทรัพย์สินของเทศบาลและพนักงาน | D41: ก่อสร้างรั้ว ค.ส.ล. สูง 3.00 เมตรยาว 260 เมตร (ตามแบบแปลนของเทศบาลตำบลธาตุทองกำหนด) | E41: 800000 | F41: - | G41: - | H41: - | I41: - | J41: ก่อสร้างรั้วตามเป้าหมาย | K41: ทรัพย์สินของทางราชการและพนักงานมีความปลอดภัย | L41: กองช่าง
A42: 32 | B42: โครงการติดตั้งกล้องวงจรปิด(CCTV) พื้นที่ตำบลธาตุทอง | C42: เพื่อป้องกันความปลอดภัยให้กับประชาชน | D42: ติดตั้งกล้องวงจรปิดในพื้นที่ตำบลธาตุทอง ไม่น้อยกว่า 16 จุด | E42: 480000 | F42: - | G42: - | H42: - | I42: - | J42: จำนวนกล้องวงจรปิดที่ติดตั้ง | K42: ประชาชนมีความปลอดภัย | L42: สำนักปลัด
A43: 33 | B43: โครงการก่อสร้างอาคารที่จอดรถดับเพลิง พร้อมห้องเก็บอุปกรณ์ | C43: เพื่อให้มีอาคารที่มีมาตรฐาน | D43: ก่อสร้างอาคารที่จอดรถดับเพลิงพร้อมห้องเก็บอุปกรณ์ (ตามแบบแปลนของเทศบาลตำบลธาตุทองกำหนด) | E43: 1500000 | F43: - | G43: - | H43: - | I43: - | J43: ๑ แห่ง | K43: อาคารมีมาตรฐาน | L43: สำนักปลัด
A44: 34 | B44: โครงการปรับปรุงซ่อมแซมห้องน้ำอาคารอเนกประสงค์เทศบาลตำบลธาตุทอง | C44: เพื่ออำนวยความสะดวกให้ประชาชนที่มาใช้บริการ | D44: ปรับปรุงซ่อมแซมห้องน้ำอาคารอเนกประสงค์เทศบาลตำบลธาตุทอง | E44: - | F44: - | G44: - | H44: - | I44: 500000 | J44: ห้องน้ำอาคารอเนกประสงค์ได้รับการปรับปรุงซ่อมแซม | K44: ประชาชนได้รับความสะดวกสบายในการใช้บริการ | L44: สำนักปลัด
A45: 35 | B45: โครงการอบรมให้ความรู้ด้านงานทะเบียนและบัตรแก่ผู้นำท้องที่ ผู้นำท้องถิ่น | C45: - เพื่อให้ผู้นำท้องที่ และผู้นำท้องถิ่น สามารถให้คำแนะนำแก่ประชาชนที่มีปัญหาด้านงานทะเบียนและบัตรได้อย่างถูกต้อง เหมาะสม ทำให้ประชาชนเกิดความเข้าใจอันดี และสามารถจัดเตรียมเอกสารในการติดต่องานทะเบียนฯ ได้ครบถ้วน ทำให้ประหยัดเวลาในการเดินทางมาติดต่อราชการ | D45: อุดหนุนอำเภอบ่อทองเพื่อดำเนินการตามโครงการ | E45: 30000 | F45: 30000 | G45: 30000 | H45: 30000 | I45: 30000 | J45: อุดหนุนงบประมาณตามโครงการ | K45: ผู้นำท้องที่ และผู้นำท้องถิ่น สามารถให้คำแนะนำแก่ประชาชนที่มีปัญหาด้านงานทะเบียนและบัตรได้อย่างถูกต้อง เหมาะสม ทำให้ประชาชนเกิดความเข้าใจอันดี และสามารถจัดเตรียมเอกสารในการติดต่องานทะเบียนฯ ได้ครบถ้วน ทำให้ประหยัดเวลาในการเดินทางมาติดต่อราชการ | L45: อำเภอบ่อทอง/ สำนักปลัด
A46: 36 | B46: โครงการปรับปรุงภูมิทัศน์บริเวณสถานที่ลอยกระทงเทศบาลตำบลธาตุทอง | C46: เพื่ออำนวยความสะดวกให้ประชาชนที่มาใช้บริการ | D46: ปรับปรุงภูมิทัศน์บริเวณสถานที่ลอยกระทงเทศบาลตำบลธาตุทอง | E46: - | F46: - | G46: - | H46: - | I46: 300000 | J46: ปรับปรุงภูมิทัศน์ตามเป้าหมาย | K46: ประชาชนได้รับความสะดวกสบายในการใช้บริการ | L46: กองช่าง
A47: รวม | E47: =SUM(E11:E46) -> 7980000 | F47: =SUM(F11:F46) -> 6630000 | G47: =SUM(G11:G46) -> 5360000 | H47: =SUM(H11:H46) -> 5175000 | I47: =SUM(I11:I46) -> 4750000

Sheet 3.2
A1: รายละเอียดโครงการพัฒนา
A2: แผนพัฒนาท้องถิ่น (พ.ศ. ๒๕๖๖ – ๒๕๗๐)
A3: เทศบาลตำบลธาตุทอง อำเภอบ่อทอง จังหวัดชลบุรี
A4: ก. | B4: ยุทธศาสตร์จังหวัดที่ ที่ ๔ ยกระดับประสิทธิภาพการบริหารจัดการภาครัฐ เทคโนโลยี โครงสร้างพื้นฐาน โครงข่ายคมนาคม รองรับเขตพัฒนาพิเศษภาคตะวันออก
A5: ข. | B5: ยุทธศาสตร์การพัฒนาของ อปท. ในเขตจังหวัด ที่ 6 การบริหารจัดการตามหลักธรรมาภิบาลสู่นวัตกรรมสมัยใหม่
B6: ๓. ยุทธศาสตร์การพัฒนาการให้บริการตามหลักบริหารจัดการบ้านเมืองที่ดี
B7: ๓.๒ แผนงานการส่งเสริมกิจกรรมพัฒนาบุคลากร
A8: ที่ | B8: โครงการ | C8: วัตถุประสงค์ | D8: เป้าหมาย (ผลผลิตของโครงการ) | E8: งบประมาณ | J8: ตัวชี้วัด(KPI) | K8: ผลที่คาดว่าจะได้รับ | L8: หน่วยงานรับผิดชอบหลัก
E9: 2566 | F9: 2567 | G9: 2568 | H9: 2569 | I9: 2570
E10: (บาท) | F10: (บาท) | G10: (บาท) | H10: (บาท) | I10: (บาท)
A11: 1 | B11: โครงการอบรมคณะผู้บริหาร /สมาชิก/พนักงาน เทศบาลธาตุทอง ทั้งในประเทศและต่างประเทศ | C11: พัฒนาศักยภาพการทำงานของพนักงาน | D11: ผู้บริหาร /สมาชิก/พนักงานได้รับการ อบรมเพื่อพัฒนาศักยภาพ | E11: 800000 | F11: 800000 | G11: 800000 | H11: 800000 | I11: 800000 | J11: จัดกิจกรรม ปีละ ๑ ครั้ง | K11: เพิ่มประสิทธิภาพในการทำงานของพนักงาน | L11: สำนักปลัด กองคลัง กองช่าง กองการศึกษา กองสาธารณฯ
A12: 2 | B12: โครงการส่งเสริมการศึกษาของพนักงานเทศบาล ธาตุทอง | C12: เพื่อส่งเสริมการศึกษา | D12: ผู้บริหาร /สมาชิก/พนักงานเทศบาลธาตุทอง ได้รับการศึกษาในระดับที่สูงขึ้น | E12: 500000 | F12: 500000 | G12: 500000 | H12: 500000 | I12: 500000 | J12: จัดกิจกรรม ปีละ ๑ ครั้ง | K12: พนักงานมีความรู้ความสามารถเพิ่มขึ้น | L12: สำนักปลัด
A13: 3 | B13: โครงการอบรมให้ความรู้การจัดทำแผนชุมชนเพื่อพัฒนาประสิทธิภาพการจัดทำแผนพัฒนาท้องถิ่น | C13: เพื่อให้ผู้นำท้องถิ่น สมาชิกสภาท้องถิ่น ผู้นำท้องถิ่น ผู้นำกลุ่มองค์กรต่างๆ และคณะกรรมการหมู่บ้านได้มีความรู้ ความเข้าใจในกระบวนการและขั้นตอนการประชาคมและการจัดทำแผนหมู่บ้าน/ชุมชน | D13: ผู้นำท้องถิ่น ผู้ปกครองท้องที่ อำเภอบ่อทอง | E13: 40000 | F13: 40000 | G13: 40000 | H13: 40000 | I13: 40000 | J13: จัดกิจกรรม ปีละ ๑ ครั้ง | K13: ผู้นำท้องถิ่นและผู้นำท้องที่มีวิสัยทัศน์กว้างไกล | L13: สำนักปลัด
A14: 4 | B14: โครงการจัดทำแผนที่ภาษี | C14: ส่งเสริมการบริการด้านการจัดเก็บภาษี | D14: พนักงานและประชาชนได้รับความสะดวกและถูกต้องในการจัดเก็บภาษี | E14: 1000000 | F14: 1000000 | G14: 1000000 | H14: 1000000 | I14: 1000000 | J14: จัดกิจกรรม ปีละ ๑ ครั้ง | K14: พนักงานและประชาชนได้รับความสะดวกและมีมาตรฐานมากขึ้น | L14: กองคลัง
A15: 5 | B15: โครงการฝึกอบรมและทบทวนอาสาสมัครปกป้องสถาบัน (อสป.) | C15: ๑. เพื่อให้เกิดความรัก สมานสามัคคี ๒. ปลุกจิตสำนึกและรวมกลุ่มพลังมวลชนที่ปกป้องสถาบัน | D15: ฝึกอบรมจำนวนไม่น้อยกว่า ๖๐๐ คน | E15: 30000 | F15: 30000 | G15: 30000 | H15: 30000 | I15: 30000 | J15: จัดกิจกรรมปีละ ๑ ครั้ง | K15: ประชาชนเกิดจิตสำนึกในการรักสถาบันพระมหากษัตริย์ | L15: สำนักปลัด
A16: 6 | B16: โครงการฝึกซ้อมแผนป้องกันและบรรเทาสาธารณภัย | C16: สร้างเครือข่ายด้านการจัดการภัยพิบัติโดยชุมชน | D16: จัดอบรมฝึกซ้อมแผนป้องกันและบรรเทาสาธารณภัย | E16: 30000 | F16: 30000 | G16: 30000 | H16: 30000 | I16: 30000 | J16: จัดกิจกรรมปีละ ๑ ครั้ง | K16: สร้างเครือข่ายด้านการจัดการภัยพิบัติโดยชุมชน | L16: สำนักปลัด
A17: รวม | E17: =SUM(E11:E16) -> 2400000 | F17: =SUM(F11:F16) -> 2400000 | G17: =SUM(G11:G16) -> 2400000 | H17: =SUM(H11:H16) -> 2400000 | I17: =SUM(I11:I16) -> 2400000

Sheet 3.3
A1: รายละเอียดโครงการพัฒนา
A2: แผนพัฒนาท้องถิ่น (พ.ศ. ๒๕๖๖ – ๒๕๗๐)
A3: เทศบาลตำบลธาตุทอง อำเภอบ่อทอง จังหวัดชลบุรี
A4: ก. | B4: ยุทธศาสตร์จังหวัดที่ ที่ ๔ ยกระดับประสิทธิภาพการบริหารจัดการภาครัฐ เทคโนโลยี โครงสร้างพื้นฐาน โครงข่ายคมนาคม รองรับเขตพัฒนาพิเศษภาคตะวันออก
A5: ข. | B5: ยุทธศาสตร์การพัฒนาของ อปท. ในเขตจังหวัด ที่ 6 การบริหารจัดการตามหลักธรรมาภิบาลสู่นวัตกรรมสมัยใหม่
B6: ๓. ยุทธศาสตร์การพัฒนาการให้บริการตามหลักบริหารจัดการบ้านเมืองที่ดี
B7: ๓.๓ แผนงานการพัฒนาอุปกรณ์ เครื่องมือให้สะดวก และส่งเสริมการให้บริการ
A8: ที่ | B8: โครงการ | C8: วัตถุประสงค์ | D8: เป้าหมาย (ผลผลิตของโครงการ) | E8: งบประมาณ | J8: ตัวชี้วัด(KPI) | K8: ผลที่คาดว่าจะได้รับ | L8: หน่วยงานรับผิดชอบหลัก
E9: 2566 | F9: 2567 | G9: 2568 | H9: 2569 | I9: 2570
E10: (บาท) | F10: (บาท) | G10: (บาท) | H10: (บาท) | I10: (บาท)
A11: 1 | B11: โครงการปรับปรุงห้องทำงานกองช่างฯ | C11: เพื่อเพิ่มประสิทธิภาพในการทำงาน | D11: - ติดผ้าผ่านกันแสง - ติดตั้งฉากกันห้อง | E11: 50000 | F11: 50000 | G11: 50000 | H11: 50000 | I11: 50000 | J11: ปรับปรุงห้องทำงานตามเป้าหมาย | K11: ประสิทธิภาพในการทำงานเพิ่มขึ้น | L11: กองช่าง
A12: 2 | B12: จัดซื้อรถตักหน้าขุดหลัง | C12: เพื่อขุดลอกทางระบายน้ำและขนวัสดุต่างที่ขวางทาง ฯลฯ | D12: จัดซื้อรถตักหน้าขุดหลังจำนวน ๑ คัน | E12: 2500000 | F12: - | G12: - | H12: - | I12: - | J12: จำนวน ๑ คัน | K12: สามารถระบายน้ำได้สะดวก | L12: กองช่าง
A13: 3 | B13: จัดซื้อเครื่องตัดคอนกรีด | C13: เพื่อใช้ตัดซ่อมถนน ค.ส.ล. | D13: จัดซื้อเครื่องตัดคอนกรีดจำนวน ๑ เครื่อง | E13: 50000 | F13: - | G13: - | H13: - | I13: - | J13: จำนวน ๑ เครื่อง | K13: มีอุปกรณ์สำหรับซ่อมถนน | L13: กองช่าง
A14: 4 | B14: จัดซื้อเครื่องมือซ่อมประปา | C14: เพื่อใช้เป็นเครื่องมือซ่อมระบบประปาหมู่บ้าน | D14: จัดซื้อเครื่องมือซ่อมประปา | E14: 10000 | F14: - | G14: - | H14: - | I14: - | J14: จัดซื้อเครื่องมือซ่อมประปาตามเป้าหมาย | K14: มีอุปกรณ์สำหรับซ่อมระบบประปาหมู่บ้าน | L14: กองช่าง
A15: 5 | B15: จัดซื้อกล้องระดับ ขนาดกำลังขยาย ๒๔ เท่า | C15: เพื่อเพิ่มประสิทธิภาพในการปฏิบัติงาน | D15: จัดซื้อกล้องระดับ ขนาดกำลังขยาย ๒๔ เท่า จำนวน ๑ ตัว | E15: 25000 | F15: - | G15: - | H15: - | I15: - | J15: จัดซื้อกล้องระดับ จำนวน ๑ ตัว | K15: เพิ่มประสิทธิภาพในการปฏิบัติงาน | L15: กองช่าง
A16: 6 | B16: จัดซื้อรถฟาร์มแทรกเตอร์ตัดหญ้าไหล่ทาง | C16: เพื่อใช้ตัดหญ้าไหล่ทางและดันดิน | D16: จัดซื้อรถฟาร์มแทรกเตอร์ตัดหญ้าไหล่ทาง จำนวน ๑ คัน | E16: 1850000 | F16: - | G16: - | H16: - | I16: - | J16: จัดซื้อรถฟาร์มแทรกเตอร์ตัดหญ้าไหล่ทาง จำนวน ๑ คัน | K16: ใช้ตัดหญ้าไหล่ทางและดันดิน | L16: กองช่าง
A17: 7 | B17: โครงการปรับปรุงระบบคอมพิวเตอร์สำนักงาน เทศบาลธาตุทอง | C17: เพื่อให้การปฏิบัติงานมีความคล่องตัว | D17: ควบคุมดูแลระบบการเช็คเครื่อง | E17: 150000 | F17: 150000 | G17: 150000 | H17: 150000 | I17: 150000 | J17: ระบบคอมพิวเตอร์ได้รับการพัฒนาตามเป้าหมาย | K17: การปฏิบัติงานมีความคล่องตัวมากขึ้น | L17: สำนักปลัด
A18: 8 | B18: โครงการจัดเก็บข้อมูลตำบลธาตุทอง | C18: เพื่อให้ได้ทราบข้อมูลที่ต้องนำไปพัฒนา | D18: จัดเก็บข้อมูล ตำบลธาตุทอง | E18: 60000 | F18: 60000 | G18: 60000 | H18: 60000 | I18: 60000 | J18: จัดเก็บข้อมูล ปีละ ๑ ครั้ง | K18: การปฏิบัติงานมีความคล่องตัวมากขึ้น | L18: สำนักปลัด
A19: 9 | B19: โครงการจัดซื้อชุดอุปกรณ์ดับเพลิงและเครื่องมือดับเพลิง | C19: เพื่อเตรียมพร้อมสำหรับงานบรรเทาสาธารณภัย | D19: จัดซื้อชุดและอุปกรณ์ดับเพลิงพร้อมเครื่องมือดับเพลิง | E19: 200000 | F19: 200000 | G19: 200000 | H19: 200000 | I19: 200000 | J19: ประสิทธิภาพในการให้บริการเพิ่มขึ้น | K19: การปฏิบัติงานมีความคล่องตัวมากขึ้น | L19: สำนักปลัด
A20: 10 | B20: จัดซื้ออุปกรณ์อำนวยความสะดวกงานการจราจร | C20: เพื่ออำนวยความสะดวกในด้านงานจราจร | D20: จัดซื้อกรวย แผงกั้น | E20: 200000 | F20: 200000 | G20: 200000 | H20: 200000 | I20: 200000 | J20: จัดซื้ออุปกรณ์ตามเป้าหมาย | K20: การปฏิบัติงานมีความคล่องตัวมากขึ้น | L20: สำนักปลัด
A21: 11 | B21: โครงการจัดซื้อเครื่องสูบน้ำ | C21: เพื่อเพิ่มประสิทธิภาพการทำงาน | D21: เครื่องสูบน้ำ จำนวน ๑ เครื่อง | E21: - | F21: 400000 | G21: - | H21: - | I21: - | J21: จัดซื้อเครื่องสูบน้ำตามเป้าหมาย | K21: ประสิทธิภาพการปฏิบัติงานเพิ่มขึ้น | L21: สำนักปลัด
A22: 12 | B22: โครงการจัดซื้อรถยนต์บรรทุกน้ำดับเพลิงแบบอเนกประสงค์ | C22: เพื่อเพิ่มประสิทธิภาพการทำงานและใช้ในกิจการของงานป้องกันและบรรเทาสาธารณภัย | D22: จัดซื้อรถยนต์บรรทุกน้ำดับเพลิงแบบอเนกประสงค์ ชนิด ๑๐ ล้อ ขนาดความจุไม่น้อยกว่า ๑๒,000 ลิตร จำนวน ๑ คัน | E22: - | F22: - | G22: 4900000 | H22: - | I22: - | J22: จัดซื้อรถยนต์บรรทุกน้ำดับเพลิงตามเป้าหมาย | K22: ประสิทธิภาพการปฏิบัติงานเพิ่มขึ้น | L22: สำนักปลัด
A23: 13 | B23: โครงการจัดซื้อรถบรรทุกน้ำอเนก | C23: เพื่อเพิ่มประสิทธิภาพในการให้บริการประชาชนและใช้ในกิจการงานป้องกันและบรรเทาสาธารณภัย | D23: จัดซื้อจัดหาและได้มาซึ่งรถบรรทุกน้ำอเนกประสงค์ ๖ ล้อจำนวน ๑ คัน ขนาด ไม่ต่ำกว่า ๖,๐๐๐ ลิตรขึ้นไป | E23: - | F23: 2500000 | G23: - | H23: - | I23: - | J23: จัดซื้อรถบรรทุกน้ำตามเป้าหมาย | K23: ประสิทธิภาพในการทำงานเพิ่มขึ้น | L23: สำนักปลัด
A24: 14 | B24: โครงการจัดซื้อเครื่องปรับอากาศห้องประชุม | C24: เพื่อบริการประชาชนที่มาติดต่อราชการ | D24: จัดซื้อเครื่องปรับอากาศ | E24: - | F24: 100000 | G24: 100000 | H24: 100000 | I24: - | J24: ติดตั้งเครื่องปรับอาการตามเป้าหมาย | K24: ประสิทธิภาพการทำงานเพิ่มขึ้น | L24: สำนักปลัด
A25: 15 | B25: โครงการจัดซื้อครุภัณฑ์อุปกรณ์ใช้ในการประชุมห้องประชุม | C25: เพื่อเพิ่มประสิทธิภาพในการทำงาน | D25: จัดซื้อครุภัณฑ์ใช้ในการประชุมห้องประชุมของเทศบาลตำบลธาตุทอง | E25: 100000 | F25: 100000 | G25: 100000 | H25: 100000 | I25: 100000 | J25: จัดซื้อครุภัณฑ์ตามเป้าหมาย | K25: ประสิทธิภาพการปฏิบัติงานเพิ่มขึ้น | L25: สำนักปลัด
A26: 16 | B26: โครงการจัดซื้อเครื่องขยายเสียงเคลื่อนที่ แบบเคลื่อนย้าย | C26: เพื่อเพิ่มประสิทธิภาพการทำงานในการให้บริการประชาชน | D26: จัดซื้อเครื่องขยายเสียงเคลื่อนที่แบบเคลื่อนย้าย จำนวน ๑ ชุด | E26: - | F26: - | G26: 30000 | H26: - | I26: - | J26: เครื่องขยายเสียง จำนวน ๑ ชุด | K26: เพิ่มประสิทธิภาพในการปฏิบัติงาน | L26: สำนักปลัด
A27: 17 | B27: โครงการจัดซื้อโต๊ะขาวพับได้หน้าโอเมก้าใช้สำหรับจัดประชุม | C27: เพื่อเพิ่มประสิทธิภาพการทำงานในการให้บริการประชาชน | D27: จัดซื้อโต๊ะขาวพับได้หน้าโอเมก้า | E27: 40000 | F27: 40000 | G27: 40000 | H27: 40000 | I27: 40000 | J27: จัดซื้อโต๊ะขาวตามเป้าหมาย | K27: เพิ่มประสิทธิภาพในการปฏิบัติงาน | L27: สำนักปลัด
A28: 18 | B28: โครงการจัดซื้อ/จัดหา/และให้ได้มาซึ่งครุภัณฑ์ ในการเกษตร | C28: เพื่อเพิ่มประสิทธิภาพในการทำงาน | D28: จัดซื้อ/จัดหา/และให้ได้มาซึ่งครุภัณฑ์ทางการเกษตร | E28: 30000 | F28: 30000 | G28: 30000 | H28: 30000 | I28: 30000 | J28: จัดซื้อ/จัดหาครุภัณฑ์ทางการเกษตร | K28: ประสิทธิ ภาพการทำงานเพิ่มขึ้น | L28: สำนักปลัด
A29: 19 | B29: โครงการจัดซื้อครุภัณฑ์ งานป้องกันและบรรเทาสาธารณภัย | C29: เพื่อเพิ่มประสิทธิภาพการทำงานงานป้องกันและบรรเทาสาธารณภัย | D29: จัดซื้อ/จัดหา/และให้ได้มาซึ่งครุภัณฑ์ ในงานป้องกันและบรรเทาสาธารณภัย | E29: 200000 | F29: 200000 | G29: 200000 | H29: 200000 | I29: 200000 | J29: จัดซื้อ/จัดหาครุภัณฑ์งานป้องกันและบรรเทาสาธารณภัย | K29: ประสิทธิ ภาพการทำงานเพิ่มขึ้น | L29: สำนักปลัด
A30: 20 | B30: โครงการจัดซื้อเครื่องตัดแต่งพุ่มไม้ | C30: เพื่อให้การปฏิบัติงานของงานป้องกันฯมีความรวดเร็วและมีประสิทธิภาพมากขึ้น | D30: จัดซื้อเครื่องตัดแต่งพุ่มไม้ จำนวน ๑ เครื่อง | E30: - | F30: 10200 | G30: - | H30: - | I30: - | J30: เครื่องตัดแต่งพุ่มไม้ จำนวน ๑ เครื่อง | K30: ประสิทธิภาพในการทำงานเพิ่มขึ้น | L30: สำนักปลัด
A31: 21 | B31: โครงการเคลื่อนย้าย/ติดตั้งครุภัณฑ์กล้อง CCTV และวัสดุอุปกรณ์ต่างๆ | C31: เพื่อให้การปฏิบัติงานของงานป้องกันฯมีความรวดเร็วและมีประสิทธิภาพมากขึ้น | D31: เคลื่อนย้ายครุภัณฑ์กล้องCCTV และวัสดุอุปกรณ์ ต่างๆ | E31: - | F31: 500000 | G31: - | H31: - | I31: - | J31: ประสิทธิภาพในการให้บริการ | K31: ประสิทธิภาพในการทำงานเพิ่มขึ้น | L31: สำนักปลัด
A32: 22 | B32: โครงการจัดซื้อรถยนต์สำหรับผู้บริหาร | C32: เพื่อเพิ่มประสิทธิภาพในการทำงาน | D32: จัดซื้อหรือจัดหารถยนต์สำหรับผู้บริหาร ปริมาณกระบอกสูบไม่เกิน ๒,๒๐๐ ซีซี หรือกำลังเครื่องยนต์สูงสุดไม่เกิน ๑๓๐ กิโลวัตต์ จำนวน ๑ คัน | E32: 1500000 | F32: - | G32: - | H32: - | I32: - | J32: รถยนต์สำหรับผู้บริหาร ๑ คัน | K32: ประสิทธิภาพในการทำงานเพิ่มขึ้น | L32: สำนักปลัด
A33: 23 | B33: โครงการจัดซื้อครุภัณฑ์สำนักงาน เช่นโต๊ะพับ แสตนเลส เก้าอี้พลาสติก เก้าอี้ขาโคเมี่ยม ตู้เก็บเอกสาร ฯลฯ | C33: เพื่อเพิ่มประสิทธิภาพในการทำงานเพื่อบริการประชาชน | D33: จัดซื้อครุภัณฑ์สำนักงานเช่น โต๊ะพับแสตนเลส เก้าอี้พลาสติก เก้าอี้ขาโคเมี่ยม ตู้เก็บเอกสาร ฯลฯ | E33: - | F33: 100000 | G33: - | H33: - | I33: - | J33: จัดซื้อครุภัณฑ์สำนักงานตามเป้าหมาย | K33: ประสิทธิภาพในการทำงานเพิ่มขึ้น | L33: สำนักปลัด
A34: 24 | B34: โครงการจัดซื้อโต๊ะเขียนหนังสือและเก้าอี้เด็กเล็กของศูนย์พัฒนาเด็กเล็กฯ | C34: เพื่อส่งเสริมให้เด็กมีพัฒนาการทั้ง ๔ ด้าน | D34: ดำเนินการจัดซื้อโต๊ะเขียนหนังสือและเก้าอี้เด็กเล็กของศูนย์พัฒนาเด็กเล็กฯ | E34: 50000 | F34: 50000 | G34: 50000 | H34: 50000 | I34: 50000 | J34: เด็กมีพัฒนาการเพิ่มขึ้น | K34: ศูนย์พัฒนาเด็กเล็กได้มาตรฐาน | L34: กองการศึกษาฯ
A35: 25 | B35: โครงการจัดซื้อรถยนต์แบบดับเบิ้ลแคป (เครื่องดีเซล) | C35: เพื่อเพิ่มประสิทธิภาพในการทำงานระหว่างศูนย์พัฒนาเด็กเล็กทั้ง 2 แห่ง | D35: รถยนต์แบบดับเปิ้ลแคป จำนวน 1 คัน | E35: - | F35: 900000 | G35: - | H35: - | I35: - | J35: รถยนต์แบบดับเปิ้ลแคป จำนวน 1 คัน | K35: ประสิทธิภาพในการทำงานเพิ่มขึ้น | L35: กองการศึกษาฯ
A36: 26 | B36: โครงการจัดซื้อเครื่องคอมพิวเตอร์โน๊ตบุ๊ค | C36: เพื่อใช้สำหรับการเรียนการสอนของศูนย์พัฒนาเด็กเล็ก | D36: จัดซื้อเครื่องคอมพิวเตอร์โน๊ตบุ๊ค จำนวน ๒ เครื่อง พร้อมอุปกรณ์ | E36: 100000 | F36: 100000 | G36: 100000 | H36: 100000 | I36: 100000 | J36: เครื่องคอมพิวเตอร์โน๊ตบุ๊ค จำนวน ๒ เครื่อง | K36: ประสิทธิภาพในการทำงานเพิ่มขึ้น | L36: กองการศึกษาฯ
A37: รวม | E37: =SUM(E11:E36) -> 7115000 | F37: =SUM(F11:F36) -> 5690200 | G37: =SUM(G11:G36) -> 6210000 | H37: =SUM(H11:H36) -> 1280000 | I37: =SUM(I11:I36) -> 1180000

Sheet 3.4
A1: รายละเอียดโครงการพัฒนา
A2: แผนพัฒนาท้องถิ่น (พ.ศ. ๒๕๖๖ – ๒๕๗๐)
A3: เทศบาลตำบลธาตุทอง อำเภอบ่อทอง จังหวัดชลบุรี
A4: ก. | B4: ยุทธศาสตร์จังหวัดที่ ที่ ๔ ยกระดับประสิทธิภาพการบริหารจัดการภาครัฐ เทคโนโลยี โครงสร้างพื้นฐาน โครงข่ายคมนาคม รองรับเขตพัฒนาพิเศษภาคตะวันออก
A5: ข. | B5: ยุทธศาสตร์การพัฒนาของ อปท. ในเขตจังหวัด ที่ 6 การบริหารจัดการตามหลักธรรมาภิบาลสู่นวัตกรรมสมัยใหม่
B6: ๓. ยุทธศาสตร์การพัฒนาการให้บริการตามหลักบริหารจัดการบ้านเมืองที่ดี
B7: ๓.4 แผนงานการเผยแพร่ข้อมูลข่าวสารแก่ประชาชน
A8: ที่ | B8: โครงการ | C8: วัตถุประสงค์ | D8: เป้าหมาย (ผลผลิตของโครงการ) | E8: งบประมาณ | J8: ตัวชี้วัด(KPI) | K8: ผลที่คาดว่าจะได้รับ | L8: หน่วยงานรับผิดชอบหลัก
E9: 2566 | F9: 2567 | G9: 2568 | H9: 2569 | I9: 2570
E10: (บาท) | F10: (บาท) | G10: (บาท) | H10: (บาท) | I10: (บาท)
A11: 1 | B11: โครงการประชาสัมพันธ์ข่าวสารเทศบาลธาตุทอง | C11: เพื่อประชาสัมพันธ์งานเทศบาลให้ประชาชนได้รับทราบ | D11: จัดประชาสัมพันธ์ด้านต่าง ๆ | E11: 200000 | F11: 200000 | G11: 200000 | H11: 200000 | I11: 200000 | J11: ประชาชนพึงพอใจร้อยละ ๘๐ | K11: ประชาชนสามารถรับรู้ข่าวสารของ เทศบาลมากขึ้น | L11: สำนักปลัด
A12: 2 | B12: โครงการปรับปรุงหอกระจายข่าว/ติดตั้งหอกระจายข่าวระบบไร้สายในเขตเทศบาล | C12: เพื่อประชาสัมพันธ์งานเทศบาลให้ประชาชนได้รับทราบ | D12: ติดตั้งหอกระจายข่าวระบบไร้สาย | E12: 500000 | F12: 500000 | G12: 500000 | H12: 500000 | I12: 500000 | J12: ประชาชนพึงพอใจร้อยละ ๘๐ | K12: ประชาชนสามารถรับรู้ข่าวสารของ เทศบาลมากขึ้น | L12: สำนักปลัด
A13: 3 | B13: โครงการก่อสร้างหอกระจายข่าวบริเวณศาลาอเนกประสงค์ บ้านห้วยซุงหมู่ที่ ๘ | C13: เพื่อเป็นจุดประชาสัมพันธ์ของหมู่บ้าน | D13: ก่อสร้างและติดตั้งหอกระจายข่าว | E13: - | F13: 150000 | G13: - | H13: - | I13: - | J13: จำนวน ๑ แห่ง | K13: ประชาชนได้รับข้อมูลข่าวสารทางราชการ | L13: สำนักปลัด
A14: 4 | B14: โครงการจัดทำป้ายดิจิตอลประชาสัมพันธ์ | C14: ประชาสัมพันธ์ข้อมูลข่าวสาร | D14: จัดทำป้ายประชาสัมพันธ์ระบบดิจิตอลหน้าเทศบาลตำบลธาตุทอง | E14: - | F14: 500000 | G14: - | H14: - | I14: - | J14: ประชาชนพึงพอใจร้อยละ ๘๐ | K14: ประชาชนสามารถรับรู้ข่าวสารของ เทศบาลมากขึ้น | L14: สำนักปลัด
A15: 5 | B15: จัดทำป้ายประชาสัมพันธ์ (บอร์ดติดตัวอักษร) | C15: เพื่อเผยแพร่ข้อมูลข่าวสาร | D15: จัดทำป้ายประชาสัมพันธ์ ทต.ธาตุทอง | E15: 50000 | F15: - | G15: - | H15: - | I15: - | J15: ประชาชนพึงพอใจร้อยละ ๘๐ | K15: ประชาชนได้รับข้อมูลข่าวสารทางราชการ | L15: สำนักปลัด
A16: 6 | B16: ปรับปรุง/ดูแลระบบเว็ปไซด์เทศบาล | C16: เพื่อประชาสัมพันธ์ข้อมูลของทางราชการ | D16: ปรับปรุง/ดูแลระบบเว็ปไซด์เทศบาล | E16: 50000 | F16: 50000 | G16: 50000 | H16: 50000 | I16: 50000 | J16: ประชาชนพึงพอใจร้อยละ ๘๐ | K16: ประชาชนได้รับข้อมูลข่าวสารทางราชการ | L16: สำนักปลัด
A17: 7 | B17: วารสารเทศบาลตำบล ธาตุทอง | C17: เพื่อประชาสัมพันธ์ข้อมูลของทางราชการ | D17: จัดทำวารสารเทศบาลตำบลธาตุทอง | E17: 200000 | F17: 200000 | G17: 200000 | H17: 200000 | I17: 200000 | J17: ประชาชนพึงพอใจร้อยละ ๘๐ | K17: ประชาชนได้รับข้อมูลข่าวสารทางราชการมากขึ้น | L17: สำนักปลัด
A18: 8 | B18: โครงการจัดทำเอกสารประชาสัมพันธ์ผลงานเทศบาล | C18: เพื่อเผยแพร่ข้อมูลข่าวสารของเทศบาลให้เกิดประโยชน์สูงสุด | D18: ผลงานของเทศบาลตำบลธาตุทอง | E18: 50000 | F18: 50000 | G18: 50000 | H18: 50000 | I18: 50000 | J18: ได้รับความเข้าใจเพิ่มขึ้น ๗๐% | K18: ประชาชนได้รับทราบ ข้อมูล ข่าวสารของทางราชการ | L18: สำนักปลัด
A19: 9 | B19: โครงการปรับปรุงงานเผยแพร่ข้อมูลข่าวสาร | C19: เพื่อเผยแพร่ข้อมูลข่าวสารได้มีประสิทธิภาพมากขึ้น | D19: งานเผยแพร่ข้อมูลข่าวสารได้รับได้รับการปรับปรุง | E19: 100000 | F19: 100000 | G19: 100000 | H19: 100000 | I19: 100000 | J19: ประชาชนพึงพอใจร้อยละ ๘๐ | K19: ประชาชนได้รับข้อมูลข่าวสารทางราชการ | L19: สำนักปลัด
A20: 10 | B20: โครงการจัดทำซุ้มเฉลิมพระเกียรติ /ซุ้มข้ามทาง ถนนสายหนองเสม็ด-บ่อทอง | C20: เพื่อส่งเสริมเทิดทูนสถาบันพระมหากษัตริย์ | D20: จำนวน ๑ ชุด | E20: - | F20: - | G20: - | H20: - | I20: 1000000 | J20: ประชาชนพึงพอใจร้อยละ ๘๐ | K20: ประชาชนได้ร่วมกันเทิดทูนสถาบัน | L20: สำนักปลัด
A21: 11 | B21: โครงการประชาสัมพันธ์โครงการเลือกตั้ง | C21: ประชาชนได้รับข้อมูลข่าวสารการเลือกตั้ง | D21: ประชาชนในตำบลธาตุทองได้รับทราบข้อมูลการเลือกตั้ง | E21: 100000 | F21: 100000 | G21: 100000 | H21: 100000 | I21: 100000 | J21: ประชาชนพึงพอใจร้อยละ ๘๐ | K21: ประชาชนได้รับทราบ ข้อมูลข่าวสารของทางราชการ | L21: สำนักปลัด
A22: รวม | E22: =SUM(E11:E21) -> 1250000 | F22: =SUM(F11:F21) -> 1850000 | G22: =SUM(G11:G21) -> 1200000 | H22: =SUM(H11:H21) -> 1200000 | I22: =SUM(I11:I21) -> 2200000

Sheet 3.5
A1: รายละเอียดโครงการพัฒนา
A2: แผนพัฒนาท้องถิ่น (พ.ศ. ๒๕๖๖ – ๒๕๗๐)
A3: เทศบาลตำบลธาตุทอง อำเภอบ่อทอง จังหวัดชลบุรี
A4: ก. | B4: ยุทธศาสตร์จังหวัดที่ ที่ ๔ ยกระดับประสิทธิภาพการบริหารจัดการภาครัฐ เทคโนโลยี โครงสร้างพื้นฐาน โครงข่ายคมนาคม รองรับเขตพัฒนาพิเศษภาคตะวันออก
A5: ข. | B5: ยุทธศาสตร์การพัฒนาของ อปท. ในเขตจังหวัด ที่ 6 การบริหารจัดการตามหลักธรรมาภิบาลสู่นวัตกรรมสมัยใหม่
B6: ๓. ยุทธศาสตร์การพัฒนาการให้บริการตามหลักบริหารจัดการบ้านเมืองที่ดี
B7: ๓.๕ แผนงานการส่งเสริมการมีส่วนร่วมในการบริหารจัดการของประชาชน
A8: ที่ | B8: โครงการ | C8: วัตถุประสงค์ | D8: เป้าหมาย (ผลผลิตของโครงการ) | E8: งบประมาณ | J8: ตัวชี้วัด(KPI) | K8: ผลที่คาดว่าจะได้รับ | L8: หน่วยงานรับผิดชอบหลัก
E9: 2566 | F9: 2567 | G9: 2568 | H9: 2569 | I9: 2570
E10: (บาท) | F10: (บาท) | G10: (บาท) | H10: (บาท) | I10: (บาท)
A11: 1 | B11: โครงการประชุมประชาคม | C11: ให้ประชาชนเสนอความคิดเห็นในการจัดกิจกรรมประชาคม | D11: จัดการประชาคม ระดับหมู่บ้าน/ตำบล | E11: 100000 | F11: 100000 | G11: 100000 | H11: 100000 | I11: 100000 | J11: จัดกิจกรรม ปีละ ๑ ครั้ง | K11: ได้ข้อมูลที่ตรงกับความต้องการของประชาชน | L11: สำนักปลัด
A12: 2 | B12: โครงการส่งเสริมกิจกรรมและการประชาสัมพันธ์การมีส่วนร่วมของประชาชน | C12: ให้ประชาชนมีส่วนร่วมกับเทศบาลเพิ่มขึ้น | D12: จัดการอบรมและจัดกิจกรรมการส่งเสริมการมีส่วนร่วมของประชาชน | E12: 100000 | F12: 100000 | G12: 100000 | H12: 100000 | I12: 100000 | J12: จัดกิจกรรม ปีละ ๑ ครั้ง | K12: ประชาชนได้เข้ามามีส่วนร่วมกับเทศบาลเพิ่มมากขึ้น | L12: สำนักปลัด
A13: 3 | B13: โครงการเทศบาลเคลื่อนที่ | C13: เพื่อเป็นบริการของรัฐเข้าถึงชุมชน | D13: ออกหน่วยบริการของรัฐในตำบลธาตุทอง | E13: 500000 | F13: 500000 | G13: 500000 | H13: 500000 | I13: 500000 | J13: จัดกิจกรรม ปีละ ๑ ครั้ง | K13: ประชาชนได้เข้ามามีส่วนร่วมกับเทศบาลเพิ่มมากขึ้น | L13: สำนักปลัด
A14: 4 | B14: โครงการเลือกตั้งนายก เทศมนตรีและสมาชิกสภาเทศบาลตำบลธาตุทอง | C14: เพื่อให้ประชาชนได้ใช้สิทธิรู้หน้าที่ | D14: ประชาชนในเขตพื้นที่เทศบาลตำบลธาตุทอง | E14: 1000000 | F14: 1000000 | G14: 1000000 | H14: 1000000 | I14: 1000000 | J14: ประชาชนมาเลือกตั้งร้อยละ ๗๐ | K14: ประชาชนได้ใช้สิทธิเลือกตั้ง ส่งเสริมประชาธิปไตย | L14: สำนักปลัด
A15: รวม | E15: =SUM(E11:E14) -> 1700000 | F15: =SUM(F11:F14) -> 1700000 | G15: =SUM(G11:G14) -> 1700000 | H15: =SUM(H11:H14) -> 1700000 | I15: =SUM(I11:I14) -> 1700000

Sheet 4.1
A1: รายละเอียดโครงการพัฒนา
A2: แผนพัฒนาท้องถิ่น (พ.ศ. ๒๕๖๖ – ๒๕๗๐)
A3: เทศบาลตำบลธาตุทอง อำเภอบ่อทอง จังหวัดชลบุรี
A4: ก. | B4: ยุทธศาสตร์จังหวัดที่ ที่ ๕ พัฒนาคนและชุมชนให้สังคมมั่นคงมีคุณภาพและยั่งยืนตามหลักปรัชญาของเศรษฐกิจพอเพียง
A5: ข. | B5: ยุทธศาสตร์การพัฒนาของ อปท. ในเขตจังหวัด ที่ 2 การส่งเสริมวัฒนธรรมและการท่องเที่ยวสู่นวัตกรรมวิถีใหม่
B6: ๔. ยุทธศาสตร์การพัฒนาจริยธรรมและคุณธรรม
B7: ๔.๑ แผนงานการส่งเสริมกิจกรรมการพัฒนาจริยธรรมและคุณธรรม
A8: ที่ | B8: โครงการ | C8: วัตถุประสงค์ | D8: เป้าหมาย (ผลผลิตของโครงการ) | E8: งบประมาณ | J8: ตัวชี้วัด(KPI) | K8: ผลที่คาดว่าจะได้รับ | L8: หน่วยงานรับผิดชอบหลัก
E9: 2566 | F9: 2567 | G9: 2568 | H9: 2569 | I9: 2570
E10: (บาท) | F10: (บาท) | G10: (บาท) | H10: (บาท) | I10: (บาท)
A11: 1 | B11: โครงการจัดกิจกรรมทำบุญวันสำคัญทางศาสนาต่างๆ | C11: ส่งเสริมการทำบุญ | D11: จัดกิจกรรมการทำบุญวันสำคัญทางศาสนา | E11: 10000 | F11: 10000 | G11: 10000 | H11: 10000 | I11: 10000 | J11: จัดกิจกรรม ปีละ 1 ครั้ง | K11: ส่งเสริมจริยธรรมและคุณธรรม | L11: สำนักปลัดกองการศึกษาฯ
A12: 2 | B12: โครงการอบรมคุณธรรมและจริยธรรม | C12: เพื่อพัฒนาคุณธรรมและจริยธรรม ให้ผู้นำหมู่บ้านประชาชนทั่วไป เด็กและเยาวชน | D12: ผู้นำหมู่บ้านประชาชนทั่วไป เด็กและเยาวชน | E12: 50000 | F12: 50000 | G12: 50000 | H12: 50000 | I12: 50000 | J12: จัดอบรม ปีละ 1 ครั้ง | K12: ส่งเสริมจริยธรรมและคุณธรรม | L12: กองการศึกษาฯ
A13: 3 | B13: โครงการส่งเสริมศีลธรรมเข้าวัดฟังธรรม | C13: เพื่อส่งเสริมให้ประชาชนได้เข้าวัดอบรมจิตใจ | D13: ประชาชนในเขตเทศบาลตำบลธาตุทอง | E13: 50000 | F13: 50000 | G13: 50000 | H13: 50000 | I13: 50000 | J13: จัดกิจกรรม ปีละ 1 ครั้ง | K13: ประชาชนมีศีลธรรมมากขึ้น | L13: กองการศึกษาฯ
A14: 4 | B14: โครงการส่งเสริมกิจการศูนย์พัฒนาครอบครัวในชุมชน ต.ธาตุทอง (ศพด.ต.ธาตุทอง) ตั้งตามหนังสือ อ.บ่อทอง ที่ ชบ๐๐๓๗.๙/๒๓๔๒ ลว ๕ ตค.๕๓ | C14: เพื่อส่งเสริมสถาบันครอบครัว | D14: จัดกิจกรรม, ผู้เข้าร่วม๕๐ ครัวเรือน | E14: 20000 | F14: 20000 | G14: 20000 | H14: 20000 | I14: 20000 | J14: จัดอบรม ปีละ 1 ครั้ง | K14: ครอบครัวได้รับการส่งเสริมให้เกิดความรักความอบอุ่น | L14: สำนักปลัด
A15: รวม | E15: =SUM(E11:E14) -> 130000 | F15: =SUM(F11:F14) -> 130000 | G15: =SUM(G11:G14) -> 130000 | H15: =SUM(H11:H14) -> 130000 | I15: =SUM(I11:I14) -> 130000

Sheet 4.2
A1: รายละเอียดโครงการพัฒนา
A2: แผนพัฒนาท้องถิ่น (พ.ศ. ๒๕๖๖ – ๒๕๗๐)
A3: เทศบาลตำบลธาตุทอง อำเภอบ่อทอง จังหวัดชลบุรี
A4: ก. | B4: ยุทธศาสตร์จังหวัดที่ ที่ 4 ยกระดับประสิทธิภาพการบริหารจัดการภาครัฐ เทคโนโลยี โครงสร้างพื้นฐาน โครงข่ายคมนาคมรองรับเขตพัฒนาพิเศษภาคตะวันออก
A5: ข. | B5: ยุทธศาสตร์การพัฒนาของ อปท. ในเขตจังหวัด ที่ 1 การพัฒนาโครงสร้างพื้นฐาน / สาธารณูปโภค
B6: ๔. ยุทธศาสตร์การพัฒนาจริยธรรมและคุณธรรม
B7: ๔.๒ แผนงานการพัฒนาโครงสร้างพื้นฐานเพื่อส่งเสริมการดำเนินกิจกรรมพัฒนาคุณธรรมและจริยธรรม
A8: ที่ | B8: โครงการ | C8: วัตถุประสงค์ | D8: เป้าหมาย (ผลผลิตของโครงการ) | E8: งบประมาณ | J8: ตัวชี้วัด(KPI) | K8: ผลที่คาดว่าจะได้รับ | L8: หน่วยงานรับผิดชอบหลัก
E9: 2566 | F9: 2567 | G9: 2568 | H9: 2569 | I9: 2570
E10: (บาท) | F10: (บาท) | G10: (บาท) | H10: (บาท) | I10: (บาท)
A11: 1 | B11: โครงการปรับปรุงสุเหร่า/มัสยิดเนินหิน บ้านเนินหิน หมู่ที่ ๑ | C11: เพื่อส่งเสริมการ ปฎิบัติกิจทางศาสนา | D11: ปรับปรุงสุเหร่า/มัสยิดเนินหิน | E11: - | F11: 100000 | G11: - | H11: - | I11: - | J11: จำนวน ๑ แห่ง | K11: สามารถใช้เป็นที่ประกอบกิจทางศาสนาได้เป็นอย่างดี | L11: กองช่าง
A12: 2 | B12: โครงการติดไฟกระพริบทางเข้าสำนักสงฆ์เจริญไพบูรณ์ บ้านเนินหิน หมู่ที่ ๑ | C12: เพื่อให้ประชาชนมีความปลอดภัยในการสัญจรไปมา | D12: ติดไฟกระพริบ (ข้างบ้านนายน้อย) | E12: - | F12: - | G12: - | H12: 20000 | I12: - | J12: จำนวน ๑ จุด | K12: ประชาชนมีความปลอดภัยในการสัญจรไปมา | L12: กองช่าง
A13: 3 | B13: โครงการขุดลอกสระน้ำบ้านคลองมือไทร หมู่ที่ ๑ (บริเวณวัดคลองมือไทร) | C13: เพื่อส่งเสริมการ ปฎิบัติกิจกรรมทางศาสนา | D13: ขุดลอกสระน้ำ พื้นที่ ๒ ไร่ | E13: - | F13: - | G13: 200000 | H13: - | I13: - | J13: สระน้ำได้รับการพัฒนาตามเปด้าหมาย | K13: พระ ,ผู้ปฏิบัติธรรมได้มีน้ำเพียงพอในการทำกิจกรรม | L13: กองช่าง
A14: 4 | B14: โครงการก่อสร้างลานอเนกประสงค์ บ้านเนินหิน หมู่ที่ 1 (บริเวณวัดเนินหิน) | C14: เพื่อให้ประชาชนในพื้นที่ได้ใช้ประโยชน์ | D14: ก่อสร้างลานอเนกประสงค์ | E14: 3000000 | F14: - | G14: - | H14: - | I14: - | J14: จำนวน 1 แห่ง | K14: ประชาชนได้มีสถานที่ใช้ประ | L14: กองช่าง
A15: 5 | B15: โครงการก่อสร้างถนน ค.ส.ล.ซอยวัดเนินดินแดง หมู่ที่ ๒ | C15: เพื่อให้ประชาชนได้มีเส้นทางคมนาคมที่รวดเร็ว | D15: ถนนกว้าง ๖.๐๐ เมตร ยาว ๔๐๐ เมตร หนา ๐.๑๕ เมตร | E15: - | F15: - | G15: - | H15: - | I15: 1600000 | J15: ถนนได้รัลการพัฒนาตามเป้าหมาย | K15: ประชาชนได้มีเส้นทางคมนาคมที่รวดเร็ว | L15: กองช่าง
A16: รวม | E16: =SUM(E11:E15) -> 3000000 | F16: =SUM(F11:F15) -> 100000 | G16: =SUM(G11:G15) -> 200000 | H16: =SUM(H11:H15) -> 20000 | I16: =SUM(I11:I15) -> 1600000

Sheet 4.3
A1: รายละเอียดโครงการพัฒนา
A2: แผนพัฒนาท้องถิ่น (พ.ศ. ๒๕๖๖ – ๒๕๗๐)
A3: เทศบาลตำบลธาตุทอง อำเภอบ่อทอง จังหวัดชลบุรี
A4: ก. | B4: ยุทธศาสตร์จังหวัดที่ ทื่ 4 ยกระดับประสิทธิภาพการบริหารจัดการภาครัฐ เทคโนโลยี โครงสร้างพื้นฐาน โครงข่ายคมนาคมรองรับเขตพัฒนาพิเศษภาคตะวันออก
A5: ข. | B5: ยุทธศาสตร์การพัฒนาของ อปท. ในเขตจังหวัด ที่ 6 การบริหารจัดการตามหลักธรรมาภิบาลสู่นวัตกรรมสมัยใหม่
B6: ๔. ยุทธศาสตร์การพัฒนาจริยธรรมและคุณธรรม
B7: ๔.๓ แผนงานการมีส่วนร่วมในการบริหารตรวจสอบการทำงานของเทศบาล
A8: ที่ | B8: โครงการ | C8: วัตถุประสงค์ | D8: เป้าหมาย (ผลผลิตของโครงการ) | E8: งบประมาณ | J8: ตัวชี้วัด(KPI) | K8: ผลที่คาดว่าจะได้รับ | L8: หน่วยงานรับผิดชอบหลัก
E9: 2566 | F9: 2567 | G9: 2568 | H9: 2569 | I9: 2570
E10: (บาท) | F10: (บาท) | G10: (บาท) | H10: (บาท) | I10: (บาท)
A11: 1 | B11: โครงการส่งเสริมและพัฒนาความเป็นเลิศในการให้บริการของสำนักทะเบียนท้องถิ่นในเขตอำเภอบ่อทอง | C11: เพื่อให้ผู้มารับบริการได้รับความสะดวกสบายเกิดความประทับใจในการบริการสำนักทะเบียน | D11: ๑.จ้างเหมาผู้ดูแลทำความสะอาดสำนักทะเบียน เดือนละ ๖,๐๐๐ บาท ๒. ปรับปรุงสำนักทะเบียนเตรียมความพร้อมเข้าสู่ประชาคมอาเซียน | E11: 160000 | F11: 160000 | G11: 160000 | H11: 160000 | I11: 160000 | J11: จัดกิจกรรมปีละ ๑ ครั้ง | K11: ได้รับแนวทางในการพัฒนาการบริการตามความต้องการของประชาชน | L11: สำนักปลัด
A12: 2 | B12: โครงการเงินสนับสนุนตามนโยบาย กระทรวง ทบวงกรม จังหวัด อำเภอ (กรณีเฉพาะ/เร่งด่วน) | C12: เพื่อให้การทำงานแบบบูรณาการมีประสิทธิภาพเพิ่มมากขึ้น | D12: อุดหนุนโครงการ/กิจกรรมอันเป็นสาธารณประโยชน์ | E12: 500000 | F12: 500000 | G12: 500000 | H12: 500000 | I12: 500000 | J12: จำนวนโครงการ/กิจกรรมที่ขอรับเงินอุดหนุน | K12: การทำงานระหว่างหน่วยงานมีประสิทธิภาพเพิ่มมากขึ้น | L12: สำนักปลัด,กองการศึกษาฯ
A13: 3 | B13: โครงการจัดงานรัฐพิธี ของอำเภอบ่อทอง | C13: เพื่ออนุรักษ์วัฒนธรรม | D13: อุดหนุนอำเภอบ่อทองในการจัดงานรัฐพิธีประเพณี | E13: 100000 | F13: 100000 | G13: 100000 | H13: 100000 | I13: 100000 | J13: สนับสนุนงบประมาณ | K13: การทำงานระหว่างหน่วยงานมีประสิทธิภาพเพิ่มมากขึ้น | L13: สำนักปลัด/อำเภอบ่อทอง
A14: 4 | B14: โครงการวันเทศบาล | C14: เพื่อสร้างความเข้าใจและตระหนักในหน้าที่ของเทศบาลพร้อมสร้างความสามัคคีในการทำงาน | D14: จัดกิจกรรมในวันเทศบาล | E14: 40000 | F14: 40000 | G14: 40000 | H14: 40000 | I14: 40000 | J14: จัดกิจกรรม ปีละ ๑ ครั้ง | K14: เจ้าหน้าที่เทศบาลและประชาชนมีความสามัคคีกันมากขึ้น | L14: สำนักปลัด
A15: 5 | B15: โครงการสำรวจความพึงพอใจในการให้บริการของเทศบาลธาตุทอง | C15: สำรวจความพึงพอใจของประชาชนในการทำงานของ เทศบาล | D15: ประชาชนในเขตเทศบาลตำบลธาตุทอง | E15: 40000 | F15: 40000 | G15: 40000 | H15: 40000 | I15: 40000 | J15: ดำเนินการ ปีละ ๑ ครั้ง | K15: ได้รับแนวทางในการพัฒนาการบริการตามความต้องการของประชาชน | L15: สำนักปลัด
A16: 6 | B16: โครงการอุดหนุนหน่วยงานราชการตามอำนาจหน้าที่ | C16: เพื่อให้การทำงานแบบบูรณาการมีประสิทธิภาพเพิ่มมากขึ้น | D16: อุดหนุนโครงการ/กิจกรรมของทางราชการ | E16: 500000 | F16: 500000 | G16: 500000 | H16: 500000 | I16: 500000 | J16: จำนวนโครงการ/กิจกรรมที่ได้รับเงินอุดหนุน | K16: การทำงานระหว่างหน่วยงานมีประสิทธิภาพเพิ่มมากขึ้น | L16: สำนักปลัด
A17: 7 | B17: โครงการเงินอุดหนุนหน่วยงานของรัฐ รัฐวิสาหกิจหรือองค์กรเอกชนในกิจกรรมอันเป็นสาธารณประโยชน์ | C17: เพื่อให้การทำงานแบบบูรณาการมีประสิทธิภาพเพิ่มมากขึ้น | D17: อุดหนุนโครงการ/กิจกรรมอันเป็นสาธารณประโยชน์ | E17: 500000 | F17: 500000 | G17: 500000 | H17: 500000 | I17: 500000 | J17: จำนวนโครงการ/กิจกรรมที่ได้รับเงินอุดหนุน | K17: การทำงานระหว่างหน่วยงานมีประสิทธิภาพเพิ่มมากขึ้น | L17: สำนักปลัด,กองการศึกษาฯ
A18: 8 | B18: โครงการจิตอาสา | C18: เพื่อส่งเสริมให้ประชาชนในชุมชนมีจิตสาธารณะ | D18: จัดกิจกรรมจิตอาสาตามหนังสือสั่งการที่เกี่ยวข้อง เช่น กิจกรรม'จิตอาสา"เราทำความดี ด้วยหัวใจ" ,'จิตอาสาภัยพิบัติ ฯลฯ | E18: 250000 | F18: 250000 | G18: 250000 | H18: 250000 | I18: 250000 | J18: จำนวนจิตอาสาที่เข้าร่วมโครงการจำนวน 50 คน | K18: ประชาชนในชุมชนมีจิตสาธารณะ | L18: สำนักปลัด
A19: รวม | E19: =SUM(E11:E18) -> 2090000 | F19: =SUM(F11:F18) -> 2090000 | G19: =SUM(G11:G18) -> 2090000 | H19: =SUM(H11:H18) -> 2090000 | I19: =SUM(I11:I18) -> 2090000

Sheet 4.4
A1: รายละเอียดโครงการพัฒนา
A2: แผนพัฒนาท้องถิ่น (พ.ศ. ๒๕๖๖ – ๒๕๗๐)
A3: เทศบาลตำบลธาตุทอง อำเภอบ่อทอง จังหวัดชลบุรี
A4: ก. | B4: ยุทธศาสตร์จังหวัดที่ ทื่ 4 ยกระดับประสิทธิภาพการบริหารจัดการภาครัฐ เทคโนโลยี โครงสร้างพื้นฐาน โครงข่ายคมนาคมรองรับเขตพัฒนาพิเศษภาคตะวันออก
A5: ข. | B5: ยุทธศาสตร์การพัฒนาของ อปท. ในเขตจังหวัด ที่ 2 การส่งเสริมวัฒนธรรมและการท่องเที่ยวสู่นวัตกรรมวิถีใหม่
B6: ๔. ยุทธศาสตร์การพัฒนาจริยธรรมและคุณธรรม
B7: ๔.๔ แผนงานทางการส่งเสริมกิจกรรมประเพณีท้องถิ่นและการอนุรักษ์วัฒนธรรม
A8: ที่ | B8: โครงการ | C8: วัตถุประสงค์ | D8: เป้าหมาย (ผลผลิตของโครงการ) | E8: งบประมาณ | J8: ตัวชี้วัด(KPI) | K8: ผลที่คาดว่าจะได้รับ | L8: หน่วยงานรับผิดชอบหลัก
E9: 2566 | F9: 2567 | G9: 2568 | H9: 2569 | I9: 2570
E10: (บาท) | F10: (บาท) | G10: (บาท) | H10: (บาท) | I10: (บาท)
A11: 1 | B11: โครงการตอบแทนคุณ | C11: เพื่ออนุรักษ์วัฒนธรรม | D11: จัดกิจกรรมรดน้ำดำหัวผู้สูงอายุ | E11: 250000 | F11: 250000 | G11: 250000 | H11: 250000 | I11: 250000 | J11: จัดกิจกรรม ปีละ ๑ ครั้ง | K11: อนุรักษ์ประเพณีและวัฒนธรรม | L11: กอง การศึกษาฯ
A12: 2 | B12: โครงการแห่เทียนวันเข้าพรรษา | C12: เพื่ออนุรักษ์วัฒนธรรม | D12: จัดแห่เทียนในวันเข้าพรรษา | E12: 100000 | F12: 100000 | G12: 100000 | H12: 100000 | I12: 100000 | J12: จัดกิจกรรม ปีละ ๑ ครั้ง | K12: อนุรักษ์ประเพณีและวัฒนธรรม | L12: กองการศึกษาฯ
A13: 3 | B13: โครงการแข่งขันกีฬาพื้นบ้าน | C13: เพื่อเชื่อมความสัมพันธ์ชุมชน ต.ธาตุทอง | D13: ประชาชนใน ทต.ธาตุทอง | E13: 200000 | F13: 200000 | G13: 200000 | H13: 200000 | I13: 200000 | J13: จัดกิจกรรม ปีละ ๑ ครั้ง | K13: ชุมชนเกิดความสัมพันธ์ความสามัคคี | L13: กองการศึกษาฯ
A14: 4 | B14: โครงการวันลอยกระทง | C14: เพื่ออนุรักษ์วัฒนธรรม | D14: จัดกิจกรรมการลอยกระทง | E14: 200000 | F14: 200000 | G14: 200000 | H14: 200000 | I14: 200000 | J14: จัดกิจกรรม ปีละ ๑ ครั้ง | K14: อนุรักษ์ประเพณีและวัฒนธรรม | L14: กองการศึกษาฯ
A15: 5 | B15: โครงการวันแม่แห่งชาติ | C15: เพื่ออนุรักษ์วัฒนธรรม | D15: กิจกรรมวันแม่ | E15: 40000 | F15: 40000 | G15: 40000 | H15: 40000 | I15: 40000 | J15: จัดกิจกรรม ปีละ ๑ ครั้ง | K15: อนุรักษ์ประเพณีและวัฒนธรรม | L15: กองการศึกษาฯ
A16: 6 | B16: โครงการวันพ่อแห่งชาติ | C16: เพื่ออนุรักษ์วัฒนธรรม | D16: กิจกรรมวันพ่อ | E16: 20000 | F16: 20000 | G16: 20000 | H16: 20000 | I16: 20000 | J16: จัดกิจกรรม ปีละ ๑ ครั้ง | K16: อนุรักษ์ประเพณีและวัฒนธรรม | L16: กองการศึกษาฯ
A17: 7 | B17: โครงการ/กิจกรรมเกี่ยวกับรัฐพิธีต่างๆ | C17: เพื่อสนับสนุนรัฐพิธี | D17: กิจกรรมเกี่ยวกับรัฐพิธี | E17: 100000 | F17: 100000 | G17: 100000 | H17: 100000 | I17: 100000 | J17: จัดกิจกรรม ปีละ ๑ ครั้ง | K17: อนุรักษ์ประเพณีและวัฒนธรรม | L17: กองการศึกษาฯ
A18: 8 | B18: โครงการจัดงานประเพณีสงกรานต์และงานนมัสการพระพุทธสิหิงค์ประจำปีจังหวัดชลบุรีของอำเภอบ่อทอง | C18: เพื่อรักษาวัฒนธรรม | D18: อุดหนุนอำเภอบ่อทองในการจัดงานประจำปี | E18: 200000 | F18: 200000 | G18: 200000 | H18: 200000 | I18: 200000 | J18: ดำเนินการสนับสนุนงบประมาณ | K18: อนุรักษ์ประเพณีและวัฒนธรรม | L18: กองการศึกษาฯ
A19: รวม | E19: =SUM(E11:E18) -> 1110000 | F19: =SUM(F11:F18) -> 1110000 | G19: =SUM(G11:G18) -> 1110000 | H19: =SUM(H11:H18) -> 1110000 | I19: =SUM(I11:I18) -> 1110000

Sheet 5.1
A1: รายละเอียดโครงการพัฒนา
A2: แผนพัฒนาท้องถิ่น (พ.ศ. ๒๕๖๖ – ๒๕๗๐)
A3: เทศบาลตำบลธาตุทอง อำเภอบ่อทอง จังหวัดชลบุรี
A4: ก. | B4: ยุทธศาสตร์จังหวัดที่ ทื่ 1 ยกระดับการพัฒนานวัตกรรมอุตสาหกรรมและเทคโนโลยี ที่เป็นมิตรกับสิ่งแวดล้อม
A5: ข. | B5: ยุทธศาสตร์การพัฒนาของ อปท. ในเขตจังหวัด ที่ 3 การพัฒนาเกษตร / อุตสาหกรรมให้ได้มาตรฐาน
B6: ๕. ยุทธศาสตร์การพัฒนาการส่งเสริมการลงทุนด้านอุตสาหกรรมที่เป็นมิตรต่อสิ่งแวดล้อม
B7: ๕.๑ แผนงานพัฒนาโครงสร้างพื้นฐานเพื่อการลงทุนด้านอุตสาหกรรม
A8: ที่ | B8: โครงการ | C8: วัตถุประสงค์ | D8: เป้าหมาย (ผลผลิตของโครงการ) | E8: งบประมาณ | J8: ตัวชี้วัด(KPI) | K8: ผลที่คาดว่าจะได้รับ | L8: หน่วยงานรับผิดชอบหลัก
E9: 2566 | F9: 2567 | G9: 2568 | H9: 2569 | I9: 2570
E10: (บาท) | F10: (บาท) | G10: (บาท) | H10: (บาท) | I10: (บาท)
A11: 1 | B11: โครงการก่อสร้างสิ่งสาธารณูปโภคสาธารณูปการ | C11: เพื่อเตรียมความพร้อมการขยายตัวด้านอุตสาหกรรมอย่างเป็นระบบ | D11: ไฟฟ้า ประปา ท่อระบายน้ำ ฯลฯ | E11: 3000000 | F11: 3000000 | G11: 3000000 | H11: 3000000 | I11: 3000000 | J11: ก่อสร้างสิ่งสาธารณูปโภค ตามเป้าหมาย | K11: รองรับการขยายตัวได้เป็นระบบการจัดการผังเมือง | L11: กองช่าง
A12: รวม | E12: =SUM(E11) -> 3000000 | F12: =SUM(F11) -> 3000000 | G12: =SUM(G11) -> 3000000 | H12: =SUM(H11) -> 3000000 | I12: =SUM(I11) -> 3000000

Sheet 5.2
A1: รายละเอียดโครงการพัฒนา
A2: แผนพัฒนาท้องถิ่น (พ.ศ. ๒๕๖๖ – ๒๕๗๐)
A3: เทศบาลตำบลธาตุทอง อำเภอบ่อทอง จังหวัดชลบุรี
A4: ก. | B4: ยุทธศาสตร์จังหวัดที่ ทื่ 1 ยกระดับการพัฒนานวัตกรรมอุตสาหกรรมและเทคโนโลยี ที่เป็นมิตรกับสิ่งแวดล้อม
A5: ข. | B5: ยุทธศาสตร์การพัฒนาของ อปท. ในเขตจังหวัด ที่ 3 การพัฒนาเกษตร / อุตสาหกรรมให้ได้มาตรฐาน
B6: ๕. ยุทธศาสตร์การพัฒนาการส่งเสริมการลงทุนด้านอุตสาหกรรมที่เป็นมิตรต่อสิ่งแวดล้อม
B7: ๕.๒ แผนงานการพัฒนาบุคลากรในด้านอุตสาหกรรม
A8: ที่ | B8: โครงการ | C8: วัตถุประสงค์ | D8: เป้าหมาย (ผลผลิตของโครงการ) | E8: งบประมาณ | J8: ตัวชี้วัด(KPI) | K8: ผลที่คาดว่าจะได้รับ | L8: หน่วยงานรับผิดชอบหลัก
E9: 2566 | F9: 2567 | G9: 2568 | H9: 2569 | I9: 2570
E10: (บาท) | F10: (บาท) | G10: (บาท) | H10: (บาท) | I10: (บาท)
A11: 1 | B11: โครงการอบรมบุคลากรในด้านอุตสาหกรรม | C11: เพื่อเตรียมความพร้อมการขยายตัวด้านอุตสาหกรรมอย่างเป็นระบบ | D11: จำนวนไม่น้อยกว่า ๑ รุ่น/ปี ๕๐ คน | E11: 50000 | F11: 50000 | G11: 50000 | H11: 50000 | I11: 50000 | J11: จัดอบรม ปีละ ๑ ครั้ง | K11: รองรับการขยายตัวได้เป็นระบบการจัดการผังเมือง | L11: กองช่าง
A12: 2 | B12: โครงการอบรมผู้ประกอบกิจการที่เป็นอันตรายต่อสุขภาพ | C12: เพื่อให้ผู้ประกอบการมีความรู้ ความเข้าใจและปฏิบัติถูกต้องในการประกอบกิจการและการขอใบประกอบกิจการฯ | D12: ผู้ประกอบการที่ต้อขอใบอนุญาต ฯ ในเขตเทศบาลตำบลธาตุทอง ตาม พรบ. สาธารณสุข พ.ศ. ๒๕๓๕ และที่แก้ไขเพิ่มเติม | E12: 50000 | F12: 50000 | G12: 50000 | H12: 50000 | I12: 50000 | J12: จัดอบรม ปีละ ๑ ครั้ง | K12: ผู้ประกอบกิจการที่ต้องขอใบอนุญาตฯ มีความรู้และการปฏิบัติที่ถูกต้อง | L12: กองสาธารณสุขฯ
A13: รวม | E13: =SUM(E11:E12) -> 100000 | F13: =SUM(F11:F12) -> 100000 | G13: =SUM(G11:G12) -> 100000 | H13: =SUM(H11:H12) -> 100000 | I13: =SUM(I11:I12) -> 100000

Sheet 5.3
A1: รายละเอียดโครงการพัฒนา
A2: แผนพัฒนาท้องถิ่น (พ.ศ. ๒๕๖๖ – ๒๕๗๐)
A3: เทศบาลตำบลธาตุทอง อำเภอบ่อทอง จังหวัดชลบุรี
A4: ก. | B4: ยุทธศาสตร์จังหวัดที่ ทื่ 1 ยกระดับการพัฒนานวัตกรรมอุตสาหกรรมและเทคโนโลยี ที่เป็นมิตรกับสิ่งแวดล้อม
A5: ข. | B5: ยุทธศาสตร์การพัฒนาของ อปท. ในเขตจังหวัด ที่ 3 การพัฒนาเกษตร / อุตสาหกรรมให้ได้มาตรฐาน
B6: ๕. ยุทธศาสตร์การพัฒนาการส่งเสริมการลงทุนด้านอุตสาหกรรมที่เป็นมิตรต่อสิ่งแวดล้อม
B7: ๕.๓ แผนงานทางการพัฒนาสิ่งแวดล้อมให้ได้มาตรฐานด้านอุตสาหกรรม
A8: ที่ | B8: โครงการ | C8: วัตถุประสงค์ | D8: เป้าหมาย (ผลผลิตของโครงการ) | E8: งบประมาณ | J8: ตัวชี้วัด(KPI) | K8: ผลที่คาดว่าจะได้รับ | L8: หน่วยงานรับผิดชอบหลัก
E9: 2566 | F9: 2567 | G9: 2568 | H9: 2569 | I9: 2570
E10: (บาท) | F10: (บาท) | G10: (บาท) | H10: (บาท) | I10: (บาท)
A11: 1 | B11: โครงการสร้างความเข้าใจด้านสิ่งแวดล้อมตามมาตรฐานอุตสาหกรรม | C11: เพื่อสร้างความเข้าใจระหว่างผู้ประกอบการโรงงาน อุตสาหกรรมกับชุมชนคนในพื้นที่ในการดำเนินกิจการภายใต้การผลิตที่เป็นมิตรกับสิ่งแวดล้อม | D11: อบรมให้ความรู้ระหว่างผู้ประกอบการกับประชาชน ในพื้นที่ | E11: 100000 | F11: 100000 | G11: 100000 | H11: 100000 | I11: 100000 | J11: จัดอบรม ปีละ ๑ ครั้ง | K11: ประชาชนในพื้นที่และผู้ประกอบการสามารถอยู่ร่วมกันได้ และพร้อมกันรักษาสิ่งแวดล้อม | L11: กองสาธารณสุขฯ
A12: รวม | E12: =SUM(E11:E11) -> 100000 | F12: =SUM(F11:F11) -> 100000 | G12: =SUM(G11:G11) -> 100000 | H12: =SUM(H11:H11) -> 100000 | I12: =SUM(I11:I11) -> 100000

Sheet ผ.02.1
A1: รายละเอียดโครงการพัฒนา
A2: ที่นำมาจากแผนพัฒนาหมู่บ้านและแผนชุมชน (พ.ศ.๒๕๖6 – ๒๕70)
A3: เทศบาลตำบลธาตุทอง อำเภอบ่อทอง จังหวัดชลบุรี
A4: ก. | B4: ยุทธศาสตร์จังหวัดที่ 4 ยกระดับประสิทธิภาพการบริหารจัดการภาครัฐ เทคโนโลยี โครงสร้างพื้นฐาน โครงข่ายคมนาคมรองรับเขตพัฒนาพิเศษภาคตะวันออก
A5: ข. | B5: ยุทธศาสตร์การพัฒนาของ อปท. ในเขตจังหวัด ที่ 1 การพัฒนาโครงสร้างพื้นฐาน / สาธารณูปโภค
B6: 1. ยุทธศาสตร์การพัฒนาคุณภาพชีวิตประชาชน
A7: ที่ | B7: โครงการ | C7: วัตถุประสงค์ | D7: เป้าหมาย (ผลผลิตของโครงการ) | E7: งบประมาณ | J7: ตัวชี้วัด(KPI) | K7: ผลที่คาดว่าจะได้รับ | L7: หน่วยงานรับผิดชอบหลัก
E8: 2566 | F8: 2567 | G8: 2568 | H8: 2569 | I8: 2570
E9: (บาท) | F9: (บาท) | G9: (บาท) | H9: (บาท) | I9: (บาท)
A10: ๑ | B10: โครงการก่อสร้าง ถนนลงหินคลุก ถนนเทศบาล 11/1 บ้านเนินหิน หมู่ที่ 1 | C10: เพื่อให้ประชนมีถนนสำหรับใช้ในการคมนาคมได้สะดวก | D10: ถนนกว้าง 4 เมตร ยาว ๗00 เมตร หนา 0.15 เมตร | E10: 500000 | F10: - | G10: - | H10: - | I10: - | J10: ถนนได้รับการพัฒนาตามเป้าหมาย | K10: เพื่อให้ประชาชนได้รับความสะดวกสบายในการสัญจรผ่านไปมา | L10: กองช่าง
A11: ๒ | B11: โครงการวางท่อระบายน้ำ ค.ส.ล.ถนนเทสบาล 13 ซอย 5บ้านเนินหิน หมู่ที่ 1 | C11: เพื่อป้องกันน้ำไหลเข้าบ้านเรือนประชาชน | D11: วางท่อระบายน้ำ ค.ส.ล. ขนาด Ø 0.40 เมตร ยาว 100 เมตร | E11: - | F11: - | G11: 350000 | H11: - | I11: - | J11: ระบบระบายน้ำได้รับการพัฒนาตามเป้าหมาย | K11: สามารถแก้ไขปัญหาน้ำท่วมได้อย่างมีประสิทธิภาพ | L11: กองช่าง
A12: ๓ | B12: โครงการขุดเจาะบ่อบาดาลท่อกรุ 6 นิ้ว และติดตั้งปั๊มซัมเมิร์ส บ้านเนินดินแดง หมู่ที่ 2 | C12: เพื่อให้ประชาชนมีน้ำสำหรับอุปโภคและบริโภค | D12: ขุดเจาะบ่อบาดาล ท่อกรุ 6 นิ้ว และติดตั้งปั๊มซัมเมิร์สทดสอบปริมาณน้ำไม่น้อยกว่า 4 ลบ.ม./ชม. (บริเวณบ้านเกณิกา แซ่เตียว) | E12: 300000 | F12: - | G12: - | H12: - | I12: - | J12: ระบบประปาได้รับการพัฒนาตามเป้าหมาย | K12: ประชาชนมีน้ำอุปโภค บริโภคอย่างเพียงพอ | L12: กองช่าง
A13: ๔ | B13: โครงการขุดลอกและขยายสระน้ำสาธารณประโยชน์ (สระหนองใหญ่) พร้อมปรับปรุงระบบประปาหมู่บ้าน บ้านเนินดินแดงหมู่ที่ 2 | C13: ประชาชนมีน้ำอุปโภค บริโภคอย่างพอเพียง | D13: ขุดลอกก้นสระให้ลึกจากเดิม 2.00 เมตร และขยายสระน้ำสาธารณประโยชน์ พื้นที่ประมาณ 4,000 ตรม. พร้อมปรับปรุงระบบประปาหมู่บ้าน | E13: - | F13: 1500000 | G13: - | H13: - | I13: - | J13: สระน้ำได้รับการพัฒนาตามเป้าหมาย | K13: ประชาชนมีน้ำอุปโภคบริโภคอย่างเพียงพอ | L13: กองช่าง
A14: ๕ | B14: โครงการขุดลอกสระน้ำสาธารณประโยชน์ พร้อมปรับปรุงระบบประปาหมู่บ้าน บ้านเนินดินแดง หมู่ที่ 2 | C14: ประชาชนมีน้ำอุปโภค บริโภคอย่างพอเพียง | D14: ขุดลอกก้นสระให้ลึกจากเดิม 2.00 เมตร พร้อมปรับปรุงระบบประปาหมู่บ้าน (บริเวณ รร.บ้านเนินดินแดง) | E14: - | F14: - | G14: 800000 | H14: - | I14: - | J14: แหล่งน้ำได้รับการพัฒนาตามเป้าหมาย | K14: ประชาชนมีน้ำอุปโภคบริโภคอย่างเพียงพอ | L14: กองช่าง
A15: ๖ | B15: โครงการก่อสร้างถนน ค.ส.ล.ถนนเทศบาล 17/1 ซอย 3 บ้านเนินดินแดง หมู่ที่ 2 | C15: เพื่อให้ประชาชนมีถนนสำหรับใช้ในการคมนาคมได้สะดวก | D15: ถนนกว้าง 4.00 เมตร ยาว 120 เมตร หนา 0.15 เมตร | E15: - | F15: - | G15: - | H15: 240000 | I15: - | J15: ถนนได้รับการพัฒนาตามเป้าหมาย | K15: ประชาชนได้รับความสะดวกสบายในการสัญจรผ่านไป มา | L15: กองช่าง
A16: ๗ | B16: โครงการก่อสร้างถนนหินคลุก ถนนเทศบาล 17/1 ซอย 1 บ้านเนินดินแดง หมู่ที่ 2 | C16: เพื่อให้ประชาชนมีถนนสำหรับใช้ในการคมนาคมได้สะดวก | D16: ถนนกว้าง 4.00 เมตร ยาว 120 เมตร หนา 0.10 เมตร | E16: - | F16: - | G16: - | H16: - | I16: 120000 | J16: ถนนได้รับการพัฒนาตามเป้าหมาย | K16: ประชาชนได้รับความสะดวกสบายในการสัญจรผ่านไป มา | L16: กองช่าง
A17: ๘ | B17: โครงการก่อสร้างถนนหินคลุก ถนนเทศบาล 12/3 บ้านเนินดินแดง หมู่ที่ 2 | C17: เพื่อให้ประชาชนมีถนนสำหรับใช้ในการคมนาคมได้สะดวก | D17: ถนนกว้าง 4.00 เมตร ยาว 150 เมตร หนา 0.10 เมตร | E17: - | F17: - | G17: - | H17: - | I17: 200000 | J17: ถนนได้รับการพัฒนาตามเป้าหมาย | K17: ประชาชนได้รับความสะดวกสบายในการสัญจรผ่านไป มา | L17: กองช่าง
A18: ๙ | B18: โครงการปรับปรุง - ต่อเติม อาคารอเนกประสงค์บ้านโปร่งเกตุ บ้านโปร่งเกตุ หมู่ที่ 3 | C18: เพื่อใช้ในการประชุมประชาคมและฝึกอาชีพให้กับประชาชนในพื้นที่ | D18: ปรับปรุงหลังคาทั้งหลังพร้อมติดฝ้าเพดานใหม่และต่อเติมห้องเก็บของขนาดกว้าง 4.50 เมตร ยาว 6.00 เมตร | E18: 650000 | F18: - | G18: - | H18: - | I18: - | J18: อาคารอเนกประสงค์ได้รับการพัฒนาตามเป้าหมาย | K18: ประชาชนมีที่ประชุมประชาคมและฝึกอาชีพ | L18: กองช่าง
A19: ๑๐ | B19: โครงการขุดเจาะบ่อบาดาลท่อกรุ 6 นิ้ว และติดตั้งปั๊มซัมเมิร์ส บ้านโปร่งเกตุ หมู่ที่ 3 | C19: เพื่อให้ประชาชนมีน้ำสำหรับอุปโภคและบริโภค | D19: ขุดเจาะบ่อบาดาล ท่อกรุ 6 นิ้ว และติดตั้งปั๊มซัมเมิร์สทดสอบปริมาณ น้ำไม่น้อยกว่า 4 ลบ.ม./ชม. (บริเวณโรงหีบศิริโชคชัย) | E19: - | F19: 240000 | G19: - | H19: - | I19: - | J19: ขุดบ่อบาดาลและติดตั้งปั๊มซัมเมิร์ส จำนวน 1 แห่ง | K19: ประชาชนมีน้ำอุปโภค บริโภคอย่างเพียงพอ | L19: กองช่าง
A20: ๑๑ | B20: โครงการก่อสร้างถนน ค.ส.ล. ถนนเทศบาล 22/1 พร้อมวางท่อระบายน้ำ บ้านโปร่งเกตุ หมู่ที่ 3 | C20: เพื่อให้ประชนมีถนนสำหรับใช้ในการคมนาคมได้สะดวก | D20: ถนนกว้าง 4.00 เมตร ยาว 600 เมตร หนา 0.15 เมตร และวางท่อระบายน้ำ ค.ส.ล. Ø 0.60 เมตร 1 แถว แถวละ 6 ท่อน จำนวน 2 จุด | E20: - | F20: - | G20: 1460000 | H20: - | I20: - | J20: ถนนและท่อระบายน้ำได้รับการพัฒนาตามเป้าหมาย | K20: เพื่อให้ประชาชนได้รับความสะดวกสบายในการสัญจรผ่านไปมา | L20: กองช่าง
A21: ๑๒ | B21: โครงการก่อสร้างหอถังเหล็ก ส่งน้ำแบบทรงแชมเปญ บริเวณอู่ช่างทอมพร้อมขยายเขตเมนประปาและก่อสร้างระบบกรองน้ำ บ้านโปร่งเกตุ หมู่ที่ 3 | C21: เพื่อให้ประชาชนได้มีน้ำใช้อุปโภคและบริโภคอย่างมีคุณภาพ | D21: ก่อสร้างหอถังเหล็กส่งน้ำแบบทรงแชมเปญ พร้อมขยายเขตเมนประปา และก่อสร้างระบบกรองน้ำ | E21: - | F21: - | G21: - | H21: 800000 | I21: - | J21: ระบบประปาได้รับการพัฒนาตามเป้าหมาย | K21: ประชาชนมีน้ำอุปโภค บริโภคอย่างมีคุณภาพ | L21: กองช่าง
A22: ๑๓ | B22: โครงการก่อสร้างถนนค.ส.ล. ถนนเทศบาล 22 ซอย 7 ช่วงที่ 2 บ้านโปร่งเกตุ หมู่ที่ 3 | C22: เพื่อให้ประชาชนมีถนนสำหรับใช้ในการคมนาคมได้สะดวก | D22: ถนนกว้าง 4.00 เมตร ยาว 500 เมตร หน้า 0.15 เมตร | E22: - | F22: - | G22: - | H22: - | I22: 1000000 | J22: ถนนได้รับการพัฒนาตามเป้าหมาย | K22: ประชาชนได้รับความสะดวกสบายในการสัญจรผ่านไป มา | L22: กองช่าง
A23: ๑๔ | B23: โครงการขุดเจาะบ่อบาดาลท่อกรุ 6 นิ้ว และติดตั้งปั๊มซัมเมิร์ส และปรับปรุงระบบประปา บ้านคลองมือไทร หมู่ที่ 5 | C23: เพื่อให้ประชาชนมีน้ำสำหรับอุปโภคและบริโภค | D23: ขุดเจาะบ่อบาดาล ท่อกรุ 6 นิ้วและติดตั้งปั๊มซัมเมิร์สทดสอบปริมาณน้ำไม่น้อยกว่า 4 ลบ.ม./ชม.และปรับปรุงระบบประปา (บริเวณบ้านป้าทองลีเส็ง) | E23: 350000 | F23: - | G23: - | H23: - | I23: - | J23: ระบบประปาได้รับการพัฒนาตามเป้าหมาย | K23: ประชาชนมีน้ำอุปโภคบริโภคอย่างเพียงพอ | L23: กองช่าง
A24: ๑๕ | B24: โครงการขยายเขตไฟทางสาธารณะ ถนนเทศบาล 8 ซอย 6/4 บ้านคลองมือไทร หมู่ที่ 5 | C24: เพื่อให้ประชาชนได้รับความปลอดภัยในการคมนาคม | D24: ขยายเขตไฟทางสาธารณะ ระยะทาง 1,700 เมตร | E24: 285000 | F24: - | G24: - | H24: - | I24: - | J24: ระบบไฟฟ้าได้รับการพัฒนาตามเป้าหมาย | K24: ประชาชนมีความปลอดภัยในการคมนาคม | L24: กองช่าง
A25: ๑๖ | B25: โครงการขยายเขตไฟทางสาธารณะ ถนนเทศบาล 8 ซอย 6/6 บ้านคลองมือไทร หมู่ที่ 5 | C25: เพื่อให้ประชาชนได้รับความปลอดภัยในการคมนาคม | D25: ขยายเขตไฟทางสาธารณะ (ซอยบ้านลุงเนิ้ด) ระยะทาง 400 เมตร | E25: - | F25: 70000 | G25: - | H25: - | I25: - | J25: ระบบไฟฟ้าได้รับการพัฒนาตามเป้าหมาย | K25: ประชาชนมีความปลอดภัยในการคมนาคม | L25: กองช่าง
A26: ๑๗ | B26: โครงการขุดเจาะบ่อบาดาลท่อกรุ 6 นิ้ว และติดตั้งปั๊มซัมเมิร์สและก่อสร้างระบบประปาหมู่บ้านชนิดหอถังสูง บ้านคลองมือไทร หมู่ที่ 5 | C26: เพื่อให้ประชาชนมีน้ำสำหรับอุปโภคและบริโภค | D26: ขุดเจาะบ่อบาดาล ท่อกรุ 6 นิ้ว และติดตั้งปั๊มซัมเมิร์สทดสอบปริมาณน้ำไม่น้อยกว่า 4 ลบ.ม./ชม.และก่อสร้างระบบประปาหมู่บ้านชนิดหอถังสูง (บริเวณบ้านเจ๊รินและเจ้เยาว์) | E26: - | F26: - | G26: 600000 | H26: - | I26: - | J26: ระบบประปาได้รับการพัฒนาตามเป้าหมาย | K26: ประชาชนมีน้ำอุปโภค บริโภคอย่างเพียงพอ | L26: กองช่าง
A27: ๑๘ | B27: โครงการขุดเจาะบ่อบาดาลท่อกรุ 6 นิ้ว และติดตั้งปั๊มซัมเมิร์สและก่อสร้างระบบประปาหมู่บ้านชนิดหอถังสูง บ้านคลองมือไทร หมู่ที่ 5 | C27: เพื่อให้ประชาชนมีน้ำสำหรับอุปโภคและบริโภค | D27: ขุดเจาะบ่อบาดาล ท่อกรุ 6 นิ้ว และติดตั้งปั๊มซัมเมิร์สทดสอบ ปริมาณน้ำไม่น้อยกว่า 4 ลบ.ม./ชม.และก่อสร้างระบบประปาหมู่บ้านชนิดหอถังสูง (บริเวณข้างอู่ช่างหมู) | E27: - | F27: - | G27: 800000 | H27: - | I27: - | J27: ระบบประปาได้รับการพัฒนาตามเป้าหมาย | K27: ประชาชนมีน้ำอุปโภค บริโภคอย่างเพียงพอ | L27: กองช่าง
A28: ๑๙ | B28: โครงการวางท่อลอดเหลี่ยม ขนาด 1.80X1.80 เมตร ยาว 970 เมตร (บริเวณหน้าบ้านนีรนุช ถึง คลองมือไทร) บ้านคลองมือไทร หมู่ที่ 5 | C28: เพื่อแก้ปัญหาน้ำท่วมขัง | D28: วางท่อลอดเหลี่ยม ขนาด 1.80X1.80 เมตร ยาว 970 เมตร | E28: - | F28: - | G28: - | H28: 20000000 | I28: - | J28: ระบบระบายน้ำได้รับการพัฒนาตามเป้าหมาย | K28: สามารถแก้ไขปัญหาน้ำท่วมขังในพื้นที่ได้ | L28: กองช่าง
A29: ๒๐ | B29: โครงการติดตั้งสัญญาณไฟกระพริบแยก ถนนเทศบาล 8 ซอย 4/1 และติดตั้งป้ายซอย บ้านคลองมือไทร หมู่ที่ 5 | C29: เพื่อให้ประชาชนได้รับความปลอดในการคมนาคม | D29: ติดตั้งสัญญาณไฟกระพริบ จำนวน 1 ต้น และติดตั้งป้ายซอย จำนวน 2 ป้าย | E29: - | F29: - | G29: - | H29: 50000 | I29: - | J29: สัญญาณไฟกระพริบ จำนวน 1 ต้น และป้ายซอย จำนวน 2 ป้าย | K29: เพื่อให้ประชาชนได้รับความปลอดในการคมนาคม | L29: กองช่าง
A30: ๒๑ | B30: โครงการขยายเขตไฟทาง สาธารณะ ถนนเทศบาล 8 ซอย 4/1 (ซอยโปร่งวัว) บ้านคลองมือไทร หมู่ที่ 5 | C30: เพื่อให้ประชาชนได้รับความปลอดในการคมนาคม | D30: ขยายเขตไฟทางสาธารณะจำนวน 20 จุด | E30: - | F30: - | G30: - | H30: 500000 | I30: - | J30: ระบบไฟฟ้าได้รับการพัฒนาตามเป้าหมาย | K30: เพื่อให้ประชาชนได้รับความปลอดในการคมนาคม | L30: กองช่าง
A31: ๒๒ | B31: โครงการก่อสร้างถนนลูกรัง ถนนเทศบาล 8 ซอย6/8 บ้านคลองมือไทร หมู่ที่ 5 | C31: เพื่อให้ประชาชนมีถนนสำหรับใช้ในการคมนาคมได้สะดวก | D31: ถนนกว้าง 6.00 เมตร ยาว 500 เมตร หนา 0.15 เมตร | E31: - | F31: - | G31: - | H31: - | I31: 950000 | J31: ถนนได้รับการพัฒนาตามเป้าหมาย | K31: ประชาชนได้รับความสะดวกสบายในการสัญจรผ่านไป มา | L31: กองช่าง
A32: ๒๓ | B32: โครงการปรับปรุงวางท่อระบายน้ำพร้อมบ่อพักน้ำ ค.ส.ล.ถนนเทศบาล 12/1 – คลองมือไทร บ้านคลองมือไทร หมู่ที่ ๕ | C32: เพื่อระบายน้ำท่วมขัง | D32: วางท่อระบายน้ำ ขนาดเส้นผ่าศูนย์กลาง 2.00 เมตร พร้อมบ่อพักน้ำ ค.ส.ล. ยาวรวม 850 เมตร | E32: - | F32: - | G32: - | H32: - | I32: 3500000 | J32: ระบบระบายน้ำได้รับการพัฒนาตามเป้าหมาย | K32: สามารถแก้ไขปัญหาน้ำท่วมได้อย่างมีประสิทธิภาพ | L32: กองช่าง
A33: ๒๔ | B33: โครงการขุดเจาะบ่อบาดาลท่อกรุ 6 นิ้ว และติดตั้งปั๊มซัมเมิร์สและก่อสร้างระบบประปาหมู่บ้านชนิดหอถังสูง บ้านเขากระถิน หมู่ที่ 6 | C33: เพื่อให้ประชาชนมีน้ำสำหรับอุปโภคและบริโภค | D33: ขุดเจาะบ่อบาดาล ท่อกรุ 6 นิ้ว และติดตั้งปั๊มซัมเมิร์สทดสอบปริมาณน้ำไม่น้อยกว่า 4 ลบ.ม./ชม.และก่อสร้างระบบประปาหมู่บ้านชนิดหอถังสูง (บริเวณบ้านนางมาเรียม จิรวรรณ) | E33: 240000 | F33: - | G33: - | H33: - | I33: - | J33: ระบบระบายน้ำได้รับการพัฒนาตามเป้าหมาย | K33: ประชาชนมีน้ำอุปโภคบริโภคอย่างเพียงพอ | L33: กองช่าง
A34: ๒๕ | B34: โครงการปรับปรุงเพิ่มเติมระบบประปาหมู่บ้านผสมทรัพย์ บ้านเขากระถิน หมู่ที่ 6 | C34: เพื่อให้ประชาชนได้มีน้ำสะอาดใช้อย่างเพียงพอ | D34: เพิ่มระบบกรองน้ำและถังพักน้ำและเป่าล้างบาดาล | E34: - | F34: 400000 | G34: - | H34: - | I34: - | J34: ระบบระบายน้ำได้รับการพัฒนาตามเป้าหมาย | K34: ประชาชนมีน้ำอุปโภคบริโภคอย่างเพียงพอ | L34: กองช่าง
A35: ๒๖ | B35: โครงการขยายเขตประปาหมู่บ้านหนองบอน บ้านเขากระถิน หมู่ที่ 6 | C35: เพื่อให้ประชาชนมีน้ำสำหรับอุปโภคและบริโภคอย่างเพียงพอ | D35: ขยายเขตท่อประปา ขนาด Ø 2 นิ้ว ชั้น 8.5 ยาว 1,000 เมตร | E35: - | F35: - | G35: 100000 | H35: - | I35: - | J35: ระบบประปาได้รับการพัฒนาตามเป้าหมาย | K35: ประชาชนมีน้ำอุปโภคบริโภคอย่างเพียงพอ | L35: กองช่าง
A36: ๒๗ | B36: โครงการก่อสร้างระบบประปาแบบหอถังสูง และขุดเจาะบ่อบาดาลท่อกรุ พร้อมติดตั้งปั๊มซัมเมิร์ส บ้านเขากระถิน หมู่ที่ 6 | C36: เพื่อให้ประชาชนได้มีน้ำใช้อุปโภคและบริโภคอย่างมีคุณภาพ | D36: ก่อสร้างระบบประปาแบบหอถังสูงและขุดเจาะบ่อบาดาลท่อกรุ 6 นิ้วพร้อมติดตั้งปั๊มซัมเมิร์ส(บริเวณบ้านคุณลั้งเอ็ง ธาราอุดมทรัพย์) | E36: - | F36: - | G36: - | H36: 650000 | I36: - | J36: ระบบประปาได้รับการพัฒนาตามเป้าหมาย | K36: ประชาชนมีน้ำอุปโภค บริโภคอย่างเพียงพอ | L36: กองช่าง
A37: ๒๘ | B37: โครงการก่อสร้างระบบประปาหมู่บ้านแบบผิวดินขนาดใหญ่มาก หมู่ที่ 7 บ้านหนองเสือช่อ | C37: เพื่อให้ประชาชนมีน้ำสำหรับอุปโภคและบริโภคอย่างเพียงพอ | D37: ก่อสร้างระบบประปาหมู่บ้านแบบผิวดินขนาดใหญ่มาก (บริเวณสระน้ำบ้านอ่างสะบ้า) | E37: 5500000 | F37: - | G37: - | H37: - | I37: - | J37: ระบบประปาได้รับการพัฒนาตามเป้าหมาย | K37: ประชาชนมีน้ำอุปโภคบริโภคอย่างเพียงพอ | L37: กองช่าง
A38: ๒๙ | B38: โครงการขยายเขตไฟทางสาธารณะ ถนนทางหลวงแผ่นดิน 3245 (สี่แยกหนองเสือช่อ - เขาระเบิด) บ้านหนองเสือช่อ หมู่ที่ 7 | C38: เพื่อให้ประชาชนได้รับความปลอดภัยในการคมนาคม | D38: ขยายเขตไฟทางสาธารณะระยะทาง 6,600 เมตร | E38: - | F38: 1000000 | G38: - | H38: - | I38: - | J38: ระบบไฟฟ้าได้รับการพัฒนาตามเป้าหมาย | K38: ประชาชนมีความปลอดภัยในการคมนาคม | L38: กองช่าง
A39: ๓๐ | B39: โครงการก่อสร้างถนน ค.ส.ล.ถนนเทศบาล 20/1 (ช่วงที่ 3) บ้านหนองเสือช่อ หมู่ที่ 7 | C39: เพื่อให้ประชาชนมีถนน สำหรับใช้ในการคมนาคมได้สะดวก | D39: ถนนกว้าง 4.00 เมตร ยาว 300 เมตร หนา 0.15 เมตร | E39: - | F39: - | G39: 600000 | H39: - | I39: - | J39: ถนนได้รับการพัฒนาตามเป้าหมาย | K39: ประชาชนได้รับความสะดวกสบายในการสัญจรผ่านไป มา | L39: กองช่าง
A40: ๓๑ | B40: โครงการก่อสร้าง ถนนค.ส.ล. ถนนเทศบาล 21/5 (สายอ่างสะบ้า-เขาระเบิด) (ช่วงที่ 2) บ้านหนองเสือช่อ หมู่ที่ 7 | C40: เพื่อให้ประชาชนมีถนนสำหรับใช้ในการคมนาคมได้สะดวก | D40: ถนนกว้าง 4.00 เมตรยาว 300 เมตร หนา 0.15 เมตร | E40: - | F40: - | G40: - | H40: - | I40: 600000 | J40: ถนนได้รับการพัฒนาตามเป้าหมาย | K40: ประชาชนได้รับความสะดวกสบายในการสัญจรผ่านไป มา | L40: กองช่าง
A41: ๓๒ | B41: โครงการก่อสร้างรางระบายน้ำค.ส.ล. ถนนเทศบาล 7/1 บ้านห้วยซุง หมู่ที่ 8 | C41: เพื่อให้มีทางระบายน้ำน้ำท่วมขังที่สะดวก และลดปัญหา | D41: ก่อสร้างรางระบายน้ำ ค.ส.ล.ขนาดกว้าง1.00 เมตร ยาวข้างละ 150เมตร | E41: 900000 | F41: - | G41: - | H41: - | I41: - | J41: ระบบระบายน้ำได้รับการพัฒนาตามเป้าหมาย | K41: สามารถระบายน้ำได้อย่างสะดวกและลดปัญหาน้ำท่วมขัง | L41: กองช่าง
A42: ๓๓ | B42: โครงการขยายเขตไฟทางสาธารณะ ถนนเทศบาล 28 ซอย 3 บ้านห้วยซุง หมู่ที่ 8 | C42: เพื่อให้ประชาชนได้รับความปลอดในการคมนาคม | D42: ขยายเขตไฟทางสาธารณะ ระยะทาง 1,000 เมตร บริเวณศาลาประชาคม | E42: 90000 | F42: - | G42: - | H42: - | I42: - | J42: ขยายเขตไฟทาง | K42: ประชาชนมีความปลอดภัยในการคมนาคม | L42: กองช่าง
A43: ๓๔ | B43: โครงการปรับปรุงสนามเด็กเล่นบริเวณศาลาประชาคม หมู่ที่ 8 | C43: เพื่อให้สนามเด็กเล่นมีความปลอดภัย | D43: ปรับปรุงภูมิทัศน์สนามเด็กเล่นและซ่อมแซมเครื่องเล่นเด็ก บริเวณศาลาประชาคม | E43: - | F43: 200000 | G43: - | H43: - | I43: - | J43: จำนวน ๑ แห่ง | K43: สนามเด็กเล่นมีความปลอดภัย | L43: กองช่าง
A44: ๓๕ | B44: โครงการขยายเขตไฟฟ้า ถนนเทศบาลตำบลธาตุทอง 7 ซอย 2 บ้านห้วยซุง หมู่ที่ 8 | C44: เพื่อให้ประชาชนได้รับความปลอดในการคมนาคม | D44: ขยายเขตไฟฟ้ายาว 130 เมตร (ซอยบ้านยายเตี้ย) | E44: - | F44: 300000 | G44: - | H44: - | I44: - | J44: ระบบไฟฟ้าได้รับการพัฒนาตามเป้าหมาย | K44: ครัวเรือนมีไฟฟ้าใช้ | L44: กองช่าง
A45: ๓๖ | B45: โครงการก่อสร้างถนนลูกรังหรือหินคลุก ถนนเทศบาล 7/1 ซอย 8 บ้านห้วยซุง หมู่ที่ 8 | C45: เพื่อให้ประชาชนมีถนนสำหรับใช้ในการคมนาคมได้สะดวก | D45: ถนนกว้าง 4.00 เมตร ยาว 100 เมตร หนา 0.10 เมตร | E45: - | F45: - | G45: 250000 | H45: - | I45: - | J45: ถนนได้รับการพัฒนาตามเป้าหมาย | K45: ประชาชนได้รับความสะดวกสบายในการสัญจรผ่านไป มา | L45: กองช่าง
A46: ๓๗ | B46: โครงการขุดเจาะบ่อบาดาลท่อกรุ 6 นิ้ว และติดตั้งปั๊มซัมเมร์ส บริเวณประปา บ้านห้วยซุง หมู่ที่ 8 | C46: เพื่อให้ประชาชนได้มีน้ำใช้อุปโภคและบริโภคอย่างมีคุณภาพ | D46: ขุดเจาะบ่อบาดาลท่อกรุ 6 นิ้ว และติดตั้งปั๊มซัมเมร์ส บริเวณประปา | E46: - | F46: - | G46: 250000 | H46: - | I46: - | J46: ระบบประปาได้รับการพัฒนาตามเป้าหมาย | K46: ประชาชนมีน้ำอุปโภคบริโภคอย่างเพียงพอ | L46: กองช่าง
A47: ๓๘ | B47: โครงการปรับปรุงศาลาประชาคมบ้านห้วยซุง หมู่ที่ 8 | C47: เพื่อใช้ในการประชุมประชาคมและฝึกอาชีพให้กับประชาชนในพื้นที่ | D47: เปลี่ยนหลังคา,ติดตั้งตาข่ายด้านข้างขนาดกว้าง 8.00 เมตรยาว 16.00 เมตร (ศาลาประชาคมแล่งพระราม) | E47: - | F47: - | G47: - | H47: 200000 | I47: - | J47: อาคารอเนกประสงค์ได้รับการพัฒนาตามเป้าหมาย | K47: ประชาชนมีที่ประชุมประชาคมและฝึกอาชีพ | L47: กองช่าง
A48: ๓๙ | B48: โครงการก่อสร้างถนน ค.ส.ล. ถนนเทศบาล 26 ซอย 2 บ้านห้วยซุง หมู่ที่ 8 | C48: เพื่อให้ประชาชนมีถนนสำหรับใช้ในการคมนาคมได้สะดวก | D48: ถนนกว้าง 4.00 เมตร ยาว 250 เมตร หนา 0.15 เมตร | E48: - | F48: - | G48: - | H48: - | I48: 500000 | J48: ถนนได้รับการพัฒนาตามเป้าหมาย | K48: ประชาชนได้รับความสะดวกสบายในการสัญจรผ่านไป มา | L48: กองช่าง
A49: ๔๐ | B49: โครงการปรับปรุงระบบกรองน้ำประปาหมู่บ้านหนองน้ำขาว และขยายเขตเมนประปา บ้านหนองน้ำขาว หมู่ที่ 9 | C49: เพื่อให้ประชาชนได้มีน้ำใช้อุปโภคและบริโภคอย่างมีคุณภาพ | D49: ปรับปรุงระบบกรองน้ำพร้อมเพิ่มวัสดุการกรองน้ำ และขยายเขตเมนประปา ขนาด Ø 2 นิ้ว ยาว 900 เมตร | E49: 200000 | F49: - | G49: - | H49: - | I49: - | J49: ระบบประปาได้รับการพัฒนาตามเป้าหมาย | K49: ประชาชนมีน้ำอุปโภค บริโภคอย่างมีคุณภาพ | L49: กองช่าง
A50: ๔๑ | B50: โครงการขยายเขตไฟทางสาธารณะ ถนนเทศบาล 19 ซอย 1 บ้านหนองน้ำขาว หมู่ที่ 9 | C50: เพื่อให้ประชาชนได้รับความปลอดภัยในการคมนาคม | D50: ขยายเขตไฟทางสาธารณะ ระยะทาง 500 เมตร | E50: - | F50: 50000 | G50: - | H50: - | I50: - | J50: ระบบไฟฟ้าได้รับการพัฒนาตามเป้าหมาย | K50: ประชาชนมีความปลอดภัยในการคมนาคม | L50: กองช่าง
A51: ๔๒ | B51: โครงการก่อสร้างระบบประปาหมู่บ้าน แบบผิวดินขนาดใหญ่มาก (บริเวณอ่างเก็บน้ำอมพนม) บ้านหนองน้ำขาว หมู่ที่ 9 | C51: เพื่อให้ประชาชนได้มีน้ำใช้อุปโภคและบริโภคอย่างมีคุณภาพ | D51: ก่อสร้างระบบประปาหมู่บ้านแบบผิวดิน ขนาดใหญ่มาก บริเวณอ่างเก็บน้ำอมพนม | E51: - | F51: - | G51: 5000000 | H51: - | I51: - | J51: ระบบประปาได้รับการพัฒนาตามเป้าหมาย | K51: ประชาชนมีน้ำอุปโภคบริโภคอย่างเพียงพอ | L51: กองช่าง
A52: ๔๓ | B52: โครงการขุดเจาะบ่อบาดาลท่อกรุ 6 นิ้ว และติดตั้งปั๊มซัมเมร์ส (บริเวณอ่างเก็บน้ำอมพนม) บ้านหนองน้ำขาว หมู่ที่ 9 | C52: เพื่อให้ประชาชนได้มีน้ำใช้อุปโภคและบริโภคอย่างมีคุณภาพ | D52: ขุดเจาะบ่อบาดาลท่อกรุ 6 นิ้ว และติดตั้งปั๊มซัมเมร์ส บริเวณอ่างเก็บน้ำอมพนม | E52: - | F52: - | G52: - | H52: 250000 | I52: - | J52: ระบบประปาได้รับการพัฒนาตามเป้าหมาย | K52: ประชาชนมีน้ำอุปโภคบริโภคอย่างเพียงพอ | L52: กองช่าง
A53: ๔๔ | B53: โครงการกำจัดวัชพืช ในอ่างเก็บน้ำบ้านอมพนม บ้านหนองน้ำขาว หมู่ที่ 9 | C53: เพื่อให้ประชาชนได้มีน้ำใช้อุปโภคและบริโภคอย่างมีคุณภาพ | D53: กำจัดวัชพืช ในอ่างเก็บน้ำบ้านอมพนม ขนาดพื้นที่ 31,600 ตร.ม | E53: - | F53: - | G53: - | H53: - | I53: 300000 | J53: แหล่งน้ำได้รับการพัฒนาตามเป้าหมาย | K53: ประชาชนมีน้ำอุปโภคบริโภคอย่างมีคุณภาพ | L53: กองช่าง
A54: รวม | E54: =SUM(E10:E53) -> 9015000 | F54: =SUM(F10:F53) -> 3760000 | G54: =SUM(G10:G53) -> 10210000 | H54: =SUM(H10:H53) -> 22690000 | I54: =SUM(I10:I53) -> 7170000

Sheet 01 ประสานแผน
A1: บัญชีสรุปโครงการพัฒนา
A2: แผนพัฒนาท้องถิ่น (พ.ศ.๒๕๖6 – ๒๕70)
A3: สำหรับ โครงการที่เกินศักยภาพขององค์กรปกครองส่วนท้องถิ่น ที่ใช้สำหรับการประสานแผนพัฒนาท้องถิ่น
A4: เทศบาลตำบลธาตุทอง อำเภอบ่อทอง จังหวัดชลบุรี
A5: ยุทธศาสตร์ | B5: ปี ๒๕๖๖ | D5: ปี ๒๕๖๗ | F5: ปี ๒๕๖๘ | H5: ปี ๒๕๖๙ | J5: ปี ๒๕๗๐ | L5: รวมโครงการ
B6: จำนวน โครงการ | C6: งบประมาณ | D6: จำนวน โครงการ | E6: งบประมาณ | F6: จำนวน โครงการ | G6: งบประมาณ | H6: จำนวน โครงการ | I6: งบประมาณ | J6: จำนวน โครงการ | K6: งบประมาณ | L6: จำนวน โครงการ | M6: งบประมาณ
C7: (บาท) | E7: (บาท) | G7: (บาท) | I7: (บาท) | K7: (บาท) | M7: (บาท)
A8: ๑. ยุทธศาสตร์การพัฒนาคุณภาพชีวิตของประชาชน
A9: ๑.๑ แผนงานการส่งเสริมการพัฒนาโครงสร้างพื้นฐานและสาธารณูปโภคขั้นพื้นฐานให้ได้ครบถ้วน | B9: 8 | C9: =+'1.1'!E170 -> 31014600 | D9: 10 | E9: =+'1.1'!F170 -> 35168600 | F9: 10 | G9: =+'1.1'!G170 -> 25123600 | H9: 10 | I9: =+'1.1'!H170 -> 19671000 | J9: 11 | K9: =+'1.1'!I170 -> 24555000 | L9: =+B9+D9+F9+H9+J9 -> 49 | M9: =+C9+E9+G9+I9+K9 -> 135532800
A11: รวม | B11: =SUM(B9:B10) -> 8 | C11: =+'ผ.02.2'!E29 -> 126458000 | D11: =SUM(D9:D10) -> 10 | E11: =+'ผ.02.2'!G29 -> 140261000 | F11: =SUM(F9:F10) -> 10 | G11: =+'ผ.02.2'!I29 -> 118018000 | H11: =SUM(H9:H10) -> 10 | I11: =SUM(I9:I10) -> 19671000 | J11: =SUM(J9:J10) -> 11 | K11: =SUM(K9:K10) -> 24555000 | L11: =SUM(L9:L10) -> 49 | M11: =SUM(M9:M10) -> 135532800

Sheet ผ.02.2
A1: รายละเอียดโครงการพัฒนา
A2: แผนพัฒนาท้องถิ่น (พ.ศ. ๒๕๖๖ – ๒๕๗๐)
A3: สำหรับ โครงการที่เกินศักยภาพขององค์กรปกครองส่วนท้องถิ่น ที่ใช้สำหรับการประสานแผนพัฒนาท้องถิ่น
A4: เทศบาลตำบลธาตุทอง อำเภอบ่อทอง จังหวัดชลบุรี
A5: ก. | B5: ยุทธศาสตร์จังหวัดที่ 4 ยกระดับประสิทธิภาพการบริหารจัดการภาครัฐ เทคโนโลยี โครงสร้างพื้นฐาน โครงข่ายคมนาคมรองรับเขตพัฒนาพิเศษภาคตะวันออก
A6: ข. | B6: ยุทธศาสตร์การพัฒนาของ อปท. ในเขตจังหวัด ที่ 1 การพัฒนาโครงสร้างพื้นฐาน / สาธารณูปโภค
B7: 1. ยุทธศาสตร์การพัฒนาคุณภาพชีวิตประชาชน
B8: 1.1 แผนงานการส่งเสริมการพัฒนาโครงสร้างพื้นฐานและสาธารณูปโภคขั้นพื้นฐานให้ได้ครบถ้วน
A9: ที่ | B9: โครงการ | C9: วัตถุประสงค์ | D9: เป้าหมาย (ผลผลิตของโครงการ) | E9: งบประมาณ | J9: ตัวชี้วัด(KPI) | K9: ผลที่คาดว่าจะได้รับ | L9: หน่วยงานรับผิดชอบหลัก
E10: 2566 | F10: 2567 | G10: 2568 | H10: 2569 | I10: 2570
E11: (บาท) | F11: (บาท) | G11: (บาท) | H11: (บาท) | I11: (บาท)
A12: 1 | B12: โครงการปรับปรุงถนน เสริมผิวทางพาราแอสฟัลท์ติกคอนกรีต ถนนเทศบาลตำบลธาตุทอง 9 (สายเนินหิน-บึงตะกู) หมู่ที่ 1,8 | C12: เพื่อให้ประชาชนมีถนน สำหรับใช้ในการคมนาคมอย่างสะดวกสบาย | D12: ถนนกว้าง 7.00 เมตร ยาว 3,800 เมตร หนา 0.05 เมตรตามแบบแปลนแผนผัง เทศบาลตำบลธาตุทอง | E12: - | F12: - | G12: - | H12: 10640000 | I12: 10640000 | J12: ถนนได้รับการพัฒนาตามเป้าหมาย | K12: ประชาชนได้รับความสะดวกสบายในการสัญจรผ่านไปมา | L12: กองช่าง
A13: 2 | B13: โครงการปรับปรุงถนน เสริมผิวทางพาราแอสฟัลท์ติกคอนกรีต พร้อมติดตั้งชุดโคมไฟสาธารณะ แบบโคมกิ่งถนนเทศบาลตำบลธาตุทอง 8 (สายเนินหิน-เนินดินแดง) หมู่ที่ ๕,๒ | C13: เพื่อให้ประชาชนมีถนน สำหรับใช้ในการคมนาคมอย่างสะดวกสบาย | D13: ถนนกว้าง 8.00 เมตร ยาว ๕,480 เมตร หนา 0.05 เมตร พร้อมติดตั้งชุดโคมไฟสาธารณะแบบโคมกิ่งสูง ๙ เมตร จำนวน ๒๑๙ ต้น ตามแบบแปลนแผนผังเทศบาลตำบลธาตุทอง | E13: 20200000 | F13: 20200000 | G13: 20200000 | H13: 20200000 | I13: 20200000 | J13: ถนนได้รับการพัฒนาตามเป้าหมาย | K13: ประชาชนได้รับความสะดวกสบายในการสัญจรผ่านไปมา | L13: กองช่าง
A14: 3 | B14: โครงการปรับปรุงถนน เสริมผิวทางพาราแอสฟัลท์ติกคอนกรีต พร้อมติดตั้งชุดโคมไฟสาธารณะ แบบโคมกิ่ง ถนนเทศบาลตำบลธาตุทอง 14 (สายโรงงานกาว - เนินดินแดง) หมู่ที่ 2 บ้านเนินดินแดง | C14: เพื่อให้ประชาชนมีถนน สำหรับใช้ในการคมนาคมอย่างสะดวกสบาย | D14: ถนนกว้าง ๘.00 เมตร ยาว 3,700 เมตร หนา 0.05 เมตร พร้อมติดตั้งชุดโคมไฟสาธารณะแบบโคมกิ่ง สูง ๙ เมตร จำนวน ๑๔๘ ต้น ตามแบบแปลนแผนผังเทศบาลตำบลธาตุทอง | E14: 16428000 | F14: 16428000 | G14: 16428000 | H14: 16428000 | I14: 16428000 | J14: ถนนได้รับการพัฒนาตามเป้าหมาย | K14: ประชาชนได้รับความสะดวกสบายในการสัญจรผ่านไปมา | L14: กองช่าง
A15: 4 | B15: โครงการปรับปรุงถนน เสริมผิวทางพาราแอสฟัลท์ติกคอนกรีต พร้อมติดตั้งชุดโคมไฟสาธารณะ แบบโคมกิ่ง ถนนเทศบาลตำบลธาตุทอง 6 (สายเจ้เพ็ญ-เขากระถิน) หมู่ที่ 6 บ้านเขากระถิน | C15: เพื่อให้ประชาชนมีถนน สำหรับใช้ในการคมนาคมอย่างสะดวกสบาย | D15: ถนนรกว้าง 6.00 เมตร ยาว 3,450 เมตร หนา 0.05 เมตร พร้อมติดตั้งชุดโคมไฟสาธารณะแบบโคมกิ่งสูง ๙ เมตร จำนวน ๑๓๘ ต้น ตามแบบแปลนแผนผังเทศบาลตำบลธาตุทอง | E15: 8280000 | F15: 8280000 | J15: ถนนได้รับการพัฒนาตามเป้าหมาย | K15: ประชาชนได้รับความสะดวกสบายในการสัญจรผ่านไปมา | L15: กองช่าง
A16: 5 | B16: โครงการก่อสร้างระบบประปาหมู่บ้าน แบบผิวดินขนาดใหญ่มาก บ้านหนองน้ำขาว หมู่ที่ ๙ | C16: เพื่อให้ประชาชนมีน้ำประปาใช้เพื่ออุปโภคบริโภค | D16: ก่อสร้างระบบประปาหมู่บ้าน แบบผิวดินขนาดใหญ่มาก หมู่ที่ 9 บ้านหนองน้ำขาว | F16: 5500000 | G16: 5500000 | J16: ระบบประปาได้รับการพัฒนาตามเป้าหมาย | K16: ประชาชนมีน้ำประปาใช้อย่างมีคุณภาพและเพียงพอ | L16: กองช่าง
A17: 6 | B17: ก่อสร้างระบบประปาหมู่บ้านแบบผิวดินขนาดใหญ่มาก บ้านเนินดินแดง หมู่ที่ ๒ (สระหนองใหญ่) | C17: เพื่อให้ประชาชนมีน้ำประปาใช้เพื่ออุปโภคบริโภค | D17: ก่อสร้างระบบประปาหมู่บ้าน แบบผิวดินขนาดใหญ่มาก | G17: 5500000 | J17: ระบบประปาได้รับการพัฒนาตามเป้าหมาย | K17: ประชาชนมีน้ำประปาใช้อย่างมีคุณภาพและเพียงพอ | L17: กองช่าง
A18: 7 | B18: โครงการปรับปรุงถนน ค.ส.ล. ถนนเทศบาลตำบลธาตุทอง 19/2 (ซอยหลุมตาไพร) หมู่ที่ 9 บ้านหนองน้ำขาว | C18: เพื่อให้ประชาชนมีถนนสำหรับใช้ในการคมนาคมอย่างสะดวกสบาย | D18: ถนนกว้าง 8.00 เมตรยาว 1,400 เมตร หนา 0.20 เมตร | H18: 7840000 | I18: 7840000 | J18: ถนนได้รับการพัฒนาตามเป้าหมาย | K18: ประชาชนได้รับความสะดวกสบายในการสัญจรผ่านไปมา | L18: กองช่าง
A19: 8 | B19: โครงการปรับปรุงถนน ค.ส.ล. ถนนเทศบาลตำบลธาตุทอง 1 (สายหนองบอน-บึงตะกู ) พร้อมติดตั้งโคมไฟสาธารณะแบบโคมกิ่ง และวางท่อระบายน้ำ | C19: เพื่อให้ประชาชนมีถนนสำหรับใช้ในการคมนาคมอย่างสะดวกสบาย | D19: ถนนกว้าง 8.00 เมตร ยาว ๓,๐๐๐ เมตร หนา 0.20 เมตร พร้อมติดตั้งชุดโคมไฟสาธารณะแบบโคมกิ่งสูง ๙ เมตร จำนวน ๑๓๘ ต้น | E19: 22850000 | F19: 22850000 | G19: 22850000 | H19: 22850000 | I19: 22850000 | J19: ถนนได้รับการพัฒนาตามเป้าหมาย | K19: ประชาชนได้รับความสะดวกสบายในการสัญจรผ่านไปมา | L19: กองช่าง
A20: 9 | B20: โครงการปรับปรุงถนน ค.ส.ล. ถนนเทศบาล ๑๑ ซอย ๑ บ้านเนินหิน หมู่ที่ ๑ | C20: เพื่อให้ประชาชนมีถนนสำหรับใช้ในการคมนาคมอย่างสะดวกสบาย | D20: ถนนกว้าง ๖.00 เมตร ยาว ๑,๗๖๐ เมตร หนา 0.20 เมตร พร้อมติดตั้ง | E20: 8200000 | F20: 8200000 | G20: 8200000 | H20: 8200000 | I20: 8200000 | J20: ถนนได้รับการพัฒนาตามเป้าหมาย | K20: ประชาชนได้รับความสะดวกสบายในการสัญจรผ่านไปมา | L20: กองช่าง
A21: 10 | B21: โครงการก่อสร้างสนามกีฬาฟุตบอล หมู่ที่ 4 บ้านบึงตะกู | C21: เพื่อใช้เป็นสนามกีฬาระดับตำบล | D21: ขนาดกว้าง 90 เมตร ยาว 120 เมตร สนามขนาดมาราฐาน 11 คน (ที่สาธารณประโยชน์ทุ่งหนองใหญ่) | E21: - | F21: - | G21: - | H21: 5000000 | I21: 5000000 | J21: มีสนามกีฬาฟุตบอลจำนวน 1 แห่ง | K21: - ประชาชนมีคุณภาพชีวิตดีขึ้น '- ประชาชนมีสถานที่ออกกำลังกายที่มีมาตรฐาน | L21: กองช่าง
A22: 11 | B22: ติดตั้งไฟฟ้าแสงสว่างเสาไฟฟ้าแบบกิ่งเดี่ยวสูง 9.00 ม. ชนิดหลอด 250 W.HPS. ติดตั้งแบบริมถนน ถนนเทศบาลตำบลธาตุทอง 1, 2, 7, 8, 7/1 ตลอดสาย | C22: เพื่อความสะดวกและปลอดภัยในการสัญจรในเวลากลางคืน | D22: ติดตั้งไฟฟ้าแสงสว่าง จำนวน 500 ต้น (ถนนในความรับผิดชอบของเทศบาลตำบลธาตุทอง) | E22: 17500000 | F22: 17500000 | G22: - | H22: - | I22: - | J22: ระบบไฟฟ้าได้รับการพัฒนาตามเป้าหมาย | K22: ประชาชนได้รับความสะดวกและปลอดภัยในการสัญจรเวลากลางคืน | L22: กองช่าง
A23: 12 | B23: ติดตั้งไฟฟ้าแสงสว่างเสาไฟฟ้า แบบกิ่งเดี่ยวสูง 9.00 ม. ชนิดหลอด 250 W.HPS. ติดตั้งแบบริมถนน ถนน อบจ.จำนวน 3 สาย 1.สายคลองมือไทร-บ้านซ่อง 2.สายเจริญโชคดี 3.สายอมพนม-โปร่งเกตุ | C23: เพื่อความสะดวกและปลอดภัยในการสัญจรในเวลากลางคืน | D23: ติดตั้งไฟฟ้าแสงสว่าง จำนวน 566 ต้น (ถนนในความรับผิดชอบของ อบจ.) | E23: - | F23: 19833000 | G23: 19833000 | H23: - | I23: - | J23: ระบบไฟฟ้าได้รับการพัฒนาตามเป้าหมาย | K23: ประชาชนได้รับความสะดวกและปลอดภัยในการสัญจรเวลากลางคืน | L23: กองช่าง
A24: 13 | B24: ติดตั้งไฟฟ้าแสงสว่างเสาไฟฟ้าแบบกิ่งเดี่ยวสูง 9.00 ม. ชนิดหลอด 250 W.HPS. ติดตั้งแบบริมถนน ถนนสาย 3340 (สายหนองเสม็ด - บ่อทอง) | C24: เพื่อความสะดวกและปลอดภัยในการสัญจรในเวลากลางคืน | D24: ติดตั้งไฟฟ้าแสงสว่าง จำนวน 250 ต้น (ถนนในความรับผิดชอบของแขวงทางชลบุรีที่ 1) | E24: - | F24: - | G24: 8750000 | H24: 8750000 | I24: - | J24: ระบบไฟฟ้าได้รับการพัฒนาตามเป้าหมาย | K24: ประชาชนได้รับความสะดวกและปลอดภัยในการสัญจรเวลากลางคืน | L24: กองช่าง
A25: 14 | B25: โครงการติดตั้งไฟทางสาธารณะ ชนิดโคมไฟกริ่ง บริเวณถนนสายเจริญโชคดี | C25: เพื่อความสะดวกและปลอดภัยในการสัญจรในเวลากลางคืน | D25: ติดตั้งไฟทางสาธารณะ จำนวน 50 ต้น (ถนนในความรับผิดชอบของ อบจ.) | E25: - | F25: - | G25: - | H25: - | I25: 2500000 | J25: ระบบไฟฟ้าได้รับการพัฒนาตามเป้าหมาย | K25: ประชาชนได้รับความสะดวกและปลอดภัยในการสัญจรเวลากลางคืน | L25: กองช่าง
A26: 15 | B26: โครงการปรับปรุงซ่อมแซมถนนสายอ่างกระเด็น หมู่ที่ 7 บ้านหนองเสือช่อ | C26: เพื่อให้ประชาชนมีถนนสำหรับใช้ในการคมนาคม | D26: ถนนกว้าง 6.00 เมตร ยาว 1,000 เมตร | E26: - | F26: - | G26: - | H26: - | I26: 2000000 | J26: ถนนได้รับการพัฒนาตามเป้าหมาย | K26: ประชาชนได้รับความสะดวกสบายในการสัญจรผ่านไปมา | L26: กองช่าง
A27: 16 | B27: โครงการวางท่อเหลี่ยม ค.ส.ล. ถนนเทศบาล ๑๒/1 เชื่อมถนนสาย หนองเสม็ด - บ่อทอง | C27: เพื่อแก้ปัญหาน้ำท่วมขัง และความเดือดร้อนในการใช้ชีวิตของประชาชน | D27: ท่อเหลี่ยม ค.ส.ล. ขนาดกว้าง ๑.๘๐ เมตร ลึก ๑.๘๐ เมตร ยาว ๙๘๐ เมตร | E27: 20200000 | F27: 20200000 | G27: 20200000 | H27: 20200000 | I27: 20200000 | J27: ระบบระบายน้ำได้รับการพัฒนาตามเป้าหมาย | K27: แก้ปัญหาน้ำท่วมขัง และความเดือดร้อนในการใช้ชีวิตของ ประชาชน | L27: กองช่าง
A28: 17 | B28: โครงการปรับปรุงถนน ค.ส.ล. สายหนองเสือช่อ - อ่างกระเด็น 4053 | C28: เพื่อให้ประชาชนมีถนนสำหรับใช้ในการคมนาคม | D28: ถนนกว้าง ๘.00 เมตร ยาว ๒,๐๑๗ เมตร หนา ๐.๒๐ เมตร | E28: 12800000 | F28: 12800000 | G28: 12800000 | H28: 12800000 | I28: 12800000 | J28: ถนนได้รับการพัฒนาตามเป้าหมาย | K28: ประชาชนได้รับความสะดวกสบายในการสัญจรผ่านไปมา | L28: กองช่าง
A29: รวม | E29: =SUM(E13:E28) -> 126458000 | F29: =SUM(F13:F28) -> 151791000 | G29: =SUM(G13:G28) -> 140261000 | H29: =SUM(H13:H28) -> 122268000 | I29: =SUM(I13:I28) -> 118018000

Sheet ผ.03
A1: บัญชีครุภัณฑ์
A2: แผนพัฒนาท้องถิ่น (พ.ศ. ๒๕๖๖ – ๒๕๗๐)
A3: เทศบาลตำบลธาตุทอง อำเภอบ่อทอง จังหวัดชลบุรี
A4: ที่ | B4: แผนงาน | C4: หมวด | D4: ประเภท | E4: เป้าหมาย (ผลผลิตของ ครุภัณฑ์) | F4: งบประมาณ | K4: หน่วยงานรับผิดชอบหลัก
F5: 2566 | G5: 2567 | H5: 2568 | I5: 2569 | J5: 2570
F6: (บาท) | G6: (บาท) | H6: (บาท) | I6: (บาท) | J6: (บาท)
A7: 1 | B7: เคหะและชุมชน | C7: ครุภัณฑ์ | D7: ครุภัณฑ์โรงงาน | E7: จัดซื้อเลื่อยวงเดือนไฟฟ้า แบบมือถือ | F7: - | G7: - | H7: - | I7: 6400 | J7: - | K7: กองช่าง
E8: จำนวน 1 เครื่อง
A9: 2 | B9: เคหะและชุมชน | C9: ครุภัณฑ์ | D9: ครุภัณฑ์โรงงาน | E9: จัดซื้อเครื่องตัดเหล็ก แบบมือถือ | F9: - | G9: - | H9: - | I9: 15000 | J9: - | K9: กองช่าง
A10: 3 | B10: เคหะและชุมชน | C10: ครุภัณฑ์ | D10: ครุภัณฑ์สำรวจ | E10: จัดซื้อกล้องระดับขนาดกำลังขยาย 24 เท่า | F10: - | G10: - | H10: - | I10: 22000 | J10: - | K10: กองช่าง
A11: 4 | B11: เคหะและชุมชน | C11: ครุภัณฑ์ | D11: ครุภัณฑ์คอมพิวเตอร์ | E11: จัดซื้ออุปกรณ์การอ่านบัตรแบบอเนกประสงค์ | F11: - | G11: - | H11: 1000 | I11: 1000 | J11: - | K11: กองช่าง
D12: หรืออิเล็กทรอนิกส์ | E12: (Smart CardReader) จำนวน 1 เครื่อง
A13: 5 | B13: เคหะและชุมชน | C13: ครุภัณฑ์ | D13: ครุภัณฑ์ก่อสร้าง | E13: จัดซื้อรถตักหน้าขุดหลัง จำนวน 1 คัน | F13: 2500000 | G13: - | H13: - | I13: - | J13: - | K13: กองช่าง
A14: 6 | B14: เคหะและชุมชน | C14: ครุภัณฑ์ | D14: ครุภัณฑ์ก่อสร้าง | E14: จัดซื้อเครื่องตัดคอนกรีต จำนวน 1 เครื่อง | F14: 50000 | G14: - | H14: - | I14: - | J14: - | K14: กองช่าง
A15: 7 | B15: เคหะและชุมชน | C15: ครุภัณฑ์ | D15: ครุภัณฑ์ก่อสร้าง | E15: จัดซื้อเครื่องมือซ่อมประปา | F15: 10000 | G15: - | H15: - | I15: - | J15: - | K15: กองช่าง
A16: 8 | B16: เคหะและชุมชน | C16: ครุภัณฑ์ | D16: ครุภัณฑ์การเกษตร | E16: จัดซื้อรถฟาร์มแทรกเตอร์ตัดหญ้าไหล่ทาง | F16: 1850000 | G16: - | H16: - | I16: - | J16: - | K16: กองช่าง
E17: จำนวน 1 คัน
A18: 9 | B18: การรักษาความสงบภายใน | C18: ครุภัณฑ์ | D18: ครุภัณฑ์ยานพาหนะและขนส่ง | E18: จัดซื้อรถยนต์บรรทุกน้ำดับเพลิง | F18: - | G18: - | H18: 4900000 | I18: - | J18: - | K18: สำนักปลัด
E19: แบบอเนกประสงค์ จำนวน 1 คัน
A20: 10 | B20: การรักษาความสงบภายใน | C20: ครุภัณฑ์ | D20: ครุภัณฑ์ยานพาหนะและขนส่ง | E20: จัดซื้อรถบรรทุกน้ำอเนกประสงค์ จำนวน ๑ คัน | F20: - | G20: 2500000 | H20: - | I20: - | J20: - | K20: สำนักปลัด
A21: 11 | B21: การรักษาความสงบภายใน | C21: ครุภัณฑ์ | D21: ครุภัณฑ์เครื่องดับเพลิง | E21: จัดซื้อหัวฉีดดับเพลิง | F21: 24000 | G21: 24000 | H21: 24000 | I21: 24000 | J21: 24000 | K21: สำนักปลัด
A22: 12 | B22: การรักษาความสงบภายใน | C22: ครุภัณฑ์ | D22: ครุภัณฑ์เครื่องดับเพลิง | E22: จัดซื้อชุดดับเพลิง ภายนอกอาคาร | F22: 9000 | G22: 9000 | H22: 9000 | I22: 9000 | J22: 9000 | K22: สำนักปลัด
E23: (สีส้มแยกเสื้อและกางเกง)
A24: 13 | B24: การรักษาความสงบภายใน | C24: ครุภัณฑ์ | D24: ครุภัณฑ์โรงงาน | E24: จัดซื้อเลื่อยโซ่ยนต์ จำนวน 1 เครื่อง | F24: - | G24: - | H24: 50000 | I24: - | J24: - | K24: สำนักปลัด
A25: 14 | B25: การรักษาความสงบภายใน | C25: ครุภัณฑ์ | D25: ครุภัณฑ์การเกษตร | E25: จัดซื้อเครื่องตัดแต่งพุ่มไม้ จำนวน ๑ เครื่อง | F25: - | G25: 10200 | H25: - | I25: - | J25: - | K25: สำนักปลัด
A26: 15 | B26: การรักษาความสงบภายใน | C26: ครุภัณฑ์ | D26: ครุภัณฑ์การเกษตร | E26: เพื่อจัดซื้อเครื่องสูบน้ำ จำนวน ๑ เครื่อง | F26: - | G26: 400000 | H26: - | I26: - | J26: - | K26: สำนักปลัด
A27: 16 | B27: บริหารงานทั่วไป | C27: ครุภัณฑ์ | D27: ครุภัณฑ์สำนักงาน | E27: จัดซื้อเครื่องปรับอากาศ | F27: - | G27: 100000 | H27: 100000 | I27: 100000 | J27: - | K27: สำนักปลัด
A28: 17 | B28: บริหารงานทั่วไป | C28: ครุภัณฑ์ | D28: ครุภัณฑ์ไฟฟ้าและ | E28: ชุดเครื่องเสียงเคลื่อนที่ แบบลากจูง | F28: - | G28: - | H28: - | I28: - | J28: 10500 | K28: สำนักปลัด
D29: วิทยุ | E29: พร้อมไมล์ลอย
A30: 18 | B30: บริหารงานทั่วไป | C30: ครุภัณฑ์ | D30: ครุภัณฑ์ยานพาหนะและ | E30: จัดซื้อรถยนต์สำหรับผู้บริหาร จำนวน ๑ คัน | F30: 1500000 | G30: - | H30: - | I30: - | J30: - | K30: สำนักปลัด
D31: ขนส่ง
A32: 19 | B32: บริหารงานทั่วไป | C32: ครุภัณฑ์ | D32: ครุภัณฑ์สำนักงาน | E32: จัดซื้อครุภัณฑ์อุปกรณ์ใช้ในการประชุมห้องประชุม | F32: 100000 | G32: 100000 | H32: 100000 | I32: 100000 | J32: 100000 | K32: สำนักปลัด
A33: 20 | B33: บริหารงานทั่วไป | C33: ครุภัณฑ์ | D33: ครุภัณฑ์สำนักงาน | E33: จัดซื้อโต๊ะขาวพับได้หน้าโอเมก้า | F33: 40000 | G33: 40000 | H33: 40000 | I33: 40000 | J33: 40000 | K33: สำนักปลัด
A34: 21 | B34: แผนงานการศึกษา | C34: ครุภัณฑ์ | D34: ครุภัณฑ์สำนักงาน | E34: จัดซื้อโต๊ะเขียนหนังสือและเก้าอี้เด็กเล็ก | F34: 50000 | G34: 50000 | H34: 50000 | I34: 50000 | J34: 50000 | K34: กอง
E35: ของศูนย์พัฒนาเด็กเล็กฯ | K35: การศึกษาฯ
A36: 22 | B36: แผนงานการศึกษา | C36: ครุภัณฑ์ | D36: ครุภัณฑ์คอมพิวเตอร์ | E36: จัดซื้อเครื่องคอมพิวเตอร์โน๊ตบุ๊ค จำนวน ๒ เครื่อง | F36: 100000 | G36: 100000 | H36: 100000 | I36: 100000 | J36: 100000 | K36: กอง
D37: หรืออิเล็กทรอนิกส์ | K37: การศึกษาฯ
A38: 23 | B38: แผนงานการศึกษา | C38: ครุภัณฑ์ | D38: ครุภัณฑ์ยานพาหนะและ | E38: จัดซื้อรถยนต์แบบดับเบิ้ลแคป (เครื่องดีเซล) | F38: - | G38: 900000 | H38: - | I38: - | J38: - | K38: กอง
D39: ขนส่ง | E39: จำนวน ๑ คัน | K39: การศึกษาฯ
A40: 24 | B40: สาธารณสุข | C40: ครุภัณฑ์ | D40: ครุภัณฑ์การเกษตร | E40: จัดซื้อเครื่องพ่นยา ULV | F40: - | G40: 40000 | H40: - | I40: 40000 | J40: - | K40: กอง
K41: สาธารณสุข
A42: รวม | F42: =SUM(F13:F41) -> 6233000 | G42: =SUM(G13:G41) -> 4273200 | H42: =SUM(H13:H41) -> 5373000 | I42: =SUM(I13:I41) -> 463000 | J42: =SUM(J13:J41) -> 333500
