Workbook

Sheet น้า
A1: รายละเอียดโครงการพัฒนา
A2: แผนพัฒนาท้องถิ่น (พ.ศ. ๒๕๖๑ – ๒๕๖๕)
A3: เทศบาลตำบลธาตุทอง อำเภอบ่อทอง จังหวัดชลบุรี
A4: ก. | B4: ยุทธศาสตร์จังหวัดที่ 4 พัฒนาระบบผังเมือง ระบบ Logistic โครงสร้างพื้นฐาน และแหล่งน้ำ เพื่อรับรองการขยายตัวทางเศรษฐกิจและสังคมของจังหวัด
A5: ข. | B5: ยุทธศาสตร์การพัฒนาของ อปท. ในเขตจังหวัด ที่ 1 ยุทธศาสตร์การพัฒนาโครงสร้างพื้นฐาน/สาธารณูปโภค
B6: 1. ยุทธศาสตร์การพัฒนาคุณภาพชีวิตประชาชน
B7: 1.1 แผนงานการส่งเสริมการพัฒนาโครงสร้างพื้นฐานและสาธารณูปโภคขั้นพื้นฐานให้ได้ครบถ้วน
A8: ที่ | B8: โครงการ | C8: วัตถุประสงค์ | D8: เป้าหมาย | E8: งบประมาณ | J8: ตัวชี้วัด | K8: ผลที่คาดว่า | L8: หน่วยงาน รับผิดชอบหลัก
D9: (ผลผลิตของโครงการ) | E9: 2566 | F9: 2567 | G9: 2568 | H9: 2569 | I9: 2570 | J9: (KPI) | K9: จะได้รับ
E10: (บาท) | F10: (บาท) | G10: (บาท) | H10: (บาท) | I10: (บาท)
A11: 5 | B11: โครงการขยายไฟฟ้าส่องสว่าง/และติดตั้งไฟฟ้าสาธารณะภายในเขตเทศบาลตำบลธาตุทอง | C11: เพื่อให้มีไฟฟ้าสาธารณะและพร้อมใช้งาน | D11: - สายหนองเสม็ด-บ่อทอง | I11: 150000 | J11: เพิ่มความปลอดภัยให้ประชาชน ร้อยละ 70 | K11: มีไฟฟ้าสาธารณะใช้และพร้อมใช้งานเสมอ | L11: กองช่าง
D12: - สายเจ้เพ็ญ-เขากระถิน ม.6
D13: - สายเนินหิน-เขากระถิน ม.5,ม.6
D14: - สายเนินหิน-บึงตะกู ม.1,ม.8
D15: - สายวัดธาตุทอง ม.4,ม.8
D16: - สายศาลาลุงนิด-บึงตะกู ม.4
D17: - สายหนองไม้แก่น-บึงตะกู ม.4
D18: - สายโรงงานกาว-เนินดินแดง ม.2
D19: - สายโปร่งเกตุ-อ่างสะบ้า ม.9
D20: - สายหนองบอน-บึงตะกู ม.4
D21: - สายุสานไตรคุณธรรม ม.6
D22: - สายบ้านนางเลี้ยง ม.7
D23: - สายซอยอีสานเขียวถึงบ้านชนิดา ม.5
D24: จำนวน 13 แห่ง งบประมาณ แห่งละ100,000
A25: 6 | B25: จัดทำป้ายลดความเร็วพร้อมไฟกระพริบทางแยกหมู่บ้านผสมทรัพย์ร่วมใจ หมู่ 6 | C25: เพื่อป้องกันอุบัติเหตุที่เกิดขึ้น | D25: ป้ายเตือนและสัญญาณไฟกระพริบ | E25: - | F25: - | G25: - | H25: - | I25: 50000 | J25: เพิ่มความปลอดภัย ร้อยละ 75 | K25: สามารถลดอุบัติเหตุได้อย่างมีประสิทธิภาพ | L25: กองช่าง
A26: 9 | B26: ขุดบ่อเจาะบ่อบาดาลพร้อมปั๊มซัมเมอร์สบริเวณบ้านนางสะเดา โพธิ์แสง บ้านเนินหินม.1 | C26: เพื่อให้ประชาชนได้มีน้ำสะอาดใช้อย่างเพียงพอและทั่วถึง | D26: การขุดเจาะบ่อบาดาลพร้อมปั๊มซัมเมอร์ส 1 แห่ง | E26: - | F26: - | G26: - | H26: - | I26: 300000 | J26: ลดปัญหาการขาดแคลนน้ำได้ร้อยละ 75 | K26: ประชาชนมีน้ำอุปโภคและมีน้ำสะอาดใช้อย่างทั่วถึง | L26: กองช่าง
A27: 10 | B27: โครงการก่อสร้างถนน ค.ส.ล. ถนนเทศบาล 21/2 (สายบ้านป้าเอี๋ยว) บ้านหนองเสือช่อหมู่ 7 | C27: เพื่อให้ประชาชนได้มีถนนสำหรับใช้ในการคมนาคมได้อย่างสะดวกรวดเร็วและปลอดภัย | D27: ขนาดกว้าง 4 เมตร ความยาว 700 เมตร หนา 0.15 เมตร | E27: - | F27: - | G27: - | H27: - | I27: 1540000 | J27: ถนนมีมาตรฐานเพิ่มขึ้นร้อยละ 75 | K27: เพื่อให้ประชาชนได้รับความสะดวกสบายในการสัญจรผ่านไปมา | L27: กองช่าง
A28: 11 | B28: โครงการก่อสร้างถนนลงหินคลุกสาย ซอยบ้านจันทิพย์ หมู่ 6 | C28: เพื่อให้ประชาชนสัญจรไปมาและขนส่งสินค้าสะดวก | D28: ขนาดกว้าง 6.00 เมตร ยาว 1,000 เมตร หนาเฉลี่ย 0.15 เมตร | E28: - | F28: - | G28: - | H28: - | I28: 1200000 | J28: ถนนมีมาตรฐานเพิ่มขึ้นร้อยละ 75 | K28: เพื่อให้ประชาชนได้รับความสะดวกสบายในการสัญจรผ่านไปมา | L28: กองช่าง
A29: 12 | B29: โครงการก่อสร้างถนนลงหินคลุก ถนนเทศบาล 19 ซอย 2/4 (สายหลุมตาไพร – เขาเจ้า) บ้านหนองน้ำขาว หมู่ 9 | C29: เพื่อให้ประชาชนมีความสะดวกในการสัญจรไป มา | D29: ขนาดกว้าง 5.00 เมตร ยาว 2,500 เมตร หนา เฉลี่ย 0.15 เมตร | E29: - | F29: - | G29: - | H29: - | I29: 3120000 | J29: ถนนมีมาตรฐานเพิ่มขึ้นร้อยละ 75 | K29: เพื่อให้ประชาชนได้รับความสะดวกสบายในการสัญจรผ่านไปมา | L29: กองช่าง
A30: 14 | B30: โครงการก่อสร้างถนนคสล.ถนนเทศบาล 22 ซอย 7 บ้านโปร่งเกตุ หมู่ 3 | C30: เพื่อประชาชนสัญจรไปมาและขนส่งสินค้าสะดวก | D30: ดำเนินการก่อสร้างถนน ค.ส.ล. ขนาดกว้าง 5 เมตร ยาว 600 เมตร หนา 0.15 เมตร | E30: - | F30: - | G30: - | H30: - | I30: 1650000 | J30: ถนนมีมาตรฐานเพิ่มขึ้นร้อยละ 75 | K30: เพื่อให้ประชาชนได้รับความสะดวกสบายในการสัญจรผ่านไปมา | L30: กองช่าง
A31: 16 | B31: ก่อสร้างถนนลูกรังสายบ้านป้าแมว-หนองหมีตาย ชุมชนแล่งพระรามสามัคคี หมู่ 8 | C31: เพื่อให้ประชาชนสัญจรไปมาและขนส่งสินค้าสะดวก | D31: ถนนลูกรังกว้าง 4 เมตร ยาว 200 เมตรหนาเฉลี่ย 0.15 เมตร พร้อมวางท่อระบายน้ำ | E31: - | F31: - | G31: - | H31: - | I31: 200000 | J31: ถนนมีมาตรฐานเพิ่มขึ้นร้อยละ 75 | K31: ประชาชนสัญจรไปมาและขนส่งสินค้าสะดวก | L31: กองช่าง
A32: 17 | B32: โครงการขยายท่อเมนประปาเชื่อมต่อท่อเมนประปาส่วนภูมิภาค บ้านบึงตะกู หมู่ 4 | C32: เพื่อให้ประชาชนมีน้ำประปาใช้เพื่อบริโภค-อุปโภค | D32: เชื่อมต่อและขยายท่อเมนน้ำประปาจากส่วนภูมิภาค | E32: - | F32: - | G32: - | H32: - | I32: 1000000 | J32: ลดการขาดแคลนน้ำลงร้อยละ 80 | K32: ประชาชนได้มีน้ำสำหรับอุปโภคบริโภคอย่างเพียงพอ | L32: กองช่าง
A33: 18 | B33: ขยายเขตไฟทางถนนเทศบาลตำบลธาตุทอง 9 (สายเนินหิน-บึงตะกู) | C33: เพื่อสะดวกปลอดภัยในการสัญจร | D33: ขยายเขตไฟทางช่วง กมที่ 0.500 ถึง กมที่ 2.000 ระยะทางรวม 1,500 เมตร | E33: - | F33: - | G33: - | H33: - | I33: 400000 | J33: ถนนมีมาตรฐานเพื่อขึ้นร้อยละ 75 | K33: ประชาชนได้รับความปลอดภัย | L33: กองช่าง
A34: 19 | B34: โครงการก่อสร้างถนน คสล.ถนนเทศบาล 7/1 ซอย 6 บ้านห้วยซุง หมู่ 8 | C34: เพื่อประชาชนสัญจรไปมาและขนส่งสินค้าสะดวก | D34: ขนาดกว้าง 4 เมตร ยาว 140 เมตร หนา 0.15 เมตร | E34: - | F34: - | G34: - | H34: - | I34: 400000 | J34: ถนนมีมาตรฐานเพิ่มขึ้นร้อยละ 75 | K34: ประชาชนสัญจรไปมาและขนส่งสินค้าสะดวก | L34: กองช่าง
A35: 20 | B35: โครงการปรับปรุงระบบประปาหมู่บ้านพร้อมขยายท่อเมน จำนวน 2 แห่ง บ้านบึงตะกูหมู่ 4 | C35: เพื่อประชาชนมีน้ำใช้ | D35: ดำเนินการปรับปรุงระบบประปาหมู่บ้านบึงตะกูพร้อมขยายท่อเมน จำนวน 2 แห่ง-อบจ.สร้าง SML | E35: - | F35: - | G35: - | H35: - | I35: 500000 | J35: ลดการขาดแคลนน้ำลงร้อยละ 80 | K35: ประชาชนได้มีน้ำสำหรับอุปโภคบริโภคอย่างเพียงพอ | L35: กองช่าง
A36: 21 | B36: โครงการก่อสร้างถนนลูกหินคลุก ถนนเทศบาล 5/1 บ้านบึงตะกู หมู่ 4 | C36: เพื่อประชาชนสัญจรไปมาและขนส่งสินค้าสะดวก | D36: ขนาดกว้าง 4.00 เมตร ยาว 350 เมตรหนาเฉลี่ย 0.15 | E36: - | F36: - | G36: - | H36: - | I36: 350000 | J36: ถนนมีมาตรฐานเพิ่มขึ้นร้อยละ 75 | K36: ประชาชนสัญจรไปมาและขนส่งสินค้าสะดวก | L36: กองช่าง
... A39: 26 | B39: ขยายเขตไฟงทางถนนเทศบาลตำบลธาตุทอง 4 (สายซอยผสมทรัพย์) ชุมชนเขากระถิน หนองบอนผสมทรัพย์ฯ หมู่ 6 | C39: เพื่อความปลอดภัยของประชาชนในการสัญจร | D39: ขยายเขตไฟฟ้าแสงสว่างพร้อมเพิ่มไฟส่องทาง 20 จุด | E39: - | F39: - | G39: - | H39: - | I39: 200000 | J39: เพิ่มความปลอดภัยร้อยละ 75 | K39: ประชาชนได้มีไฟฟ้าสว่างเพิ่มขึ้น | L39: กองช่าง
A40: 27 | B40: โครงการขุดลอกคู,คลอง,ห้วย,ภายในตำบลธาตุทอง ม.1-ม.9 | C40: เพื่อป้องกันน้ำท่วมและเกษตรกรมีน้ำใช้ในฤดูแล้ง | D40: ขุดลอกคูคลอง ห้วยภายในเขตเทศบาลตำบลธาตุทอง | E40: - | F40: - | G40: - | H40: - | I40: - | J40: ลดการขาดแคลนน้ำลงร้อยละ 80 | K40: ประชาชนได้มีน้ำใช้ทำการเกษตรในฤดูแล้ง | L40: ตัดออก
A41: 29 | B41: ยกระดับถนนลูกรังสายข้างบ้านนายเล็ก วรรณสุริยะ ม.4 | C41: เพื่อประชาชนสัญจรไปมาและขนส่งสินค้าสะดวก | D41: ยกระดับถนนลูกรังสายข้างบ้านนายเล็ก วรรณสุริยะ ขนาดกว้าง 4 เมตร ยาว 200 เมตร | E41: - | F41: - | G41: - | H41: - | I41: 200000 | J41: ถนนมีมาตรฐานเพิ่มขึ้นร้อยละ 75 | K41: ประชาชนสัญจรไปมาและขนส่งสินค้าสะดวก | L41: กองช่าง
A42: 35 | B42: โครงการก่อสร้างถนนหินคลุก ถนนเทศบาล 3 ซอย 5 ( ซอยบ้านผู้ใหญ่ภิรมย์) บ้านบึงตะกู หมู่ 4 | C42: เพื่อให้ประชาชนได้มีถนนสำหรับใช้ในการคมนาคมได้อย่างสะดวก รวดเร็ว และปลอดภัย | D42: ขนาดกว้าง 5.00 เมตร ยาว 250 เมตรหนาเฉลี่ย 0.15 เมตร | E42: - | F42: - | G42: - | H42: - | I42: 350000 | J42: ถนนมีมาตรฐานเพิ่มขึ้นร้อยละ 75 | K42: ประชาชนสัญจรไปมาและขนส่งสินค้าสะดวก | L42: กองช่าง
...

Sheet ผ.01
A1: บัญชีสรุปโครงการพัฒนา
A2: แผนพัฒนาท้องถิ่น (พ.ศ.๒๕๖6 – ๒๕70)
A3: เทศบาลตำบลธาตุทอง อำเภอบ่อทอง จังหวัดชลบุรี
A4: ยุทธศาสตร์ | B4: ปี ๒๕๖๖ | D4: ปี ๒๕๖๗ | F4: ปี ๒๕๖๘ | H4: ปี ๒๕๖๙ | J4: ปี ๒๕๗๐ | L4: รวมโครงการ
B5: จำนวน โครงการ | C5: งบประมาณ | D5: จำนวน โครงการ | E5: งบประมาณ | F5: จำนวน โครงการ | G5: งบประมาณ | H5: จำนวน โครงการ | I5: งบประมาณ | J5: จำนวน โครงการ | K5: งบประมาณ | L5: จำนวน โครงการ | M5: งบประมาณ
C6: (บาท) | E6: (บาท) | G6: (บาท) | I6: (บาท) | K6: (บาท) | M6: (บาท)
A7: ๑. ยุทธศาสตร์การพัฒนาคุณภาพชีวิตของประชาชน
A8: ๑.๑ แผนงานการส่งเสริมการพัฒนาโครงสร้างพื้นฐานและสาธารณูปโภคขั้นพื้นฐานให้ได้ครบถ้วน | B8: 34 | C8: =+'1.1'!E170 -> 31014600 | D8: 33 | E8: =+'1.1'!F170 -> 35168600 | F8: 26 | G8: =+'1.1'!G170 -> 25123600 | H8: 18 | I8: =+'1.1'!H170 -> 19671000 | J8: 34 | K8: =+'1.1'!I170 -> 24555000 | L8: =+B8+D8+F8+H8+J8 -> 145 | M8: =+C8+E8+G8+I8+K8 -> 135532800
A9: ๑.๒ แผนงานการจัดการศึกษาระดับก่อนประถมวัยให้มีคุณภาพมาตรฐานศูนย์พัฒนาเด็กเล็ก | B9: 17 | C9: =+'1.2'!E28 -> 3175000 | D9: 17 | E9: =+'1.2'!F28 -> 3175000 | F9: 17 | G9: =+'1.2'!G28 -> 3175000 | H9: 17 | I9: =+'1.2'!H28 -> 3175000 | J9: 17 | K9: =+'1.2'!I28 -> 3175000 | L9: =+B9+D9+F9+H9+J9 -> 85 | M9: =+C9+E9+G9+I9+K9 -> 15875000
A10: ๑.๓ แผนงานการสนับสนุนการพัฒนาการศึกษาทุกระดับ เพื่อเข้าสู่การเป็นประชาคมอาเซียน | B10: 5 | C10: =+'1.3'!E17 -> 2450000 | D10: 5 | E10: =+'1.3'!F17 -> 1650000 | F10: 6 | G10: =+'1.3'!G17 -> 2580000 | H10: 5 | I10: =+'1.3'!H17 -> 2550000 | J10: 5 | K10: =+'1.3'!I17 -> 2550000 | L10: =+B10+D10+F10+H10+J10 -> 26 | M10: =+C10+E10+G10+I10+K10 -> 11780000
A11: ๑.๔ แผนงานการส่งเสริมการเรียนรู้ของประชาชน | B11: 4 | C11: =+'1.4'!E16 -> 1040000 | D11: 4 | E11: =+'1.4'!F16 -> 1040000 | F11: 5 | G11: =+'1.4'!G16 -> 1740000 | H11: 4 | I11: =+'1.4'!H16 -> 1040000 | J11: 4 | K11: =+'1.4'!I16 -> 1040000 | L11: =+B11+D11+F11+H11+J11 -> 21 | M11: =+C11+E11+G11+I11+K11 -> 5900000
A12: ๑.๕ แผนงานการจัดการสิ่งแวดล้อมในตำบลให้ได้มาตรฐาน | B12: 6 | C12: =+'1.5'!E17 -> 560000 | D12: 6 | E12: =+'1.5'!F17 -> 560000 | F12: 6 | G12: =+'1.5'!G17 -> 560000 | H12: 6 | I12: =+'1.5'!H17 -> 560000 | J12: 6 | K12: =+'1.5'!I17 -> 560000 | L12: =+B12+D12+F12+H12+J12 -> 30 | M12: =+C12+E12+G12+I12+K12 -> 2800000
A13: ๑.๖ แผนงานการส่งเสริมสุขภาพของประชาชน | B13: 17 | C13: =+'1.6'!E34 -> 1435000 | D13: 22 | E13: =+'1.6'!F34 -> 11715000 | F13: 17 | G13: =+'1.6'!G34 -> 1435000 | H13: 18 | I13: =+'1.6'!H34 -> 1475000 | J13: 18 | K13: =+'1.6'!I34 -> 1485000 | L13: =+B13+D13+F13+H13+J13 -> 92 | M13: =+C13+E13+G13+I13+K13 -> 17545000
A14: ๑.๗ แผนงานการส่งเสริมการให้ความช่วยเหลือแก่ผู้ด้อยโอกาส คนชรา เด็กและคนพิการ | B14: 14 | C14: =+'1.7'!E25 -> 1250000 | D14: 14 | E14: =+'1.7'!F25 -> 1250000 | F14: 14 | G14: =+'1.7'!G25 -> 1250000 | H14: 14 | I14: =+'1.7'!H25 -> 1250000 | J14: 14 | K14: =+'1.7'!I25 -> 1250000 | L14: =+B14+D14+F14+H14+J14 -> 70 | M14: =+C14+E14+G14+I14+K14 -> 6250000
A15: รวม | B15: =+B14+B13+B12+B11+B10+B9+B8 -> 97 | C15: =+C14+C13+C12+C11+C10+C9+C8 -> 40924600 | D15: =+D14+D13+D12+D11+D10+D9+D8 -> 101 | E15: =+E14+E13+E12+E11+E10+E9+E8 -> 54558600 | F15: =+F14+F13+F12+F11+F10+F9+F8 -> 91 | G15: =+G14+G13+G12+G11+G10+G9+G8 -> 35863600 | H15: =+H14+H13+H12+H11+H10+H9+H8 -> 82 | I15: =+I14+I13+I12+I11+I10+I9+I8 -> 29721000 | ... M15: =+M14+M13+M12+M11+M10+M9+M8 -> 195682800
A21: ๒. ยุทธศาสตร์การพัฒนาเศรษฐกิจตามปรัชญาเศรษฐกิจพอเพียง
A22: ๒.๑ แผนงานการส่งเสริมกิจกรรมการพัฒนาและส่งเสริมการประกอบอาชีพ | B22: 3 | C22: =+'2.1'!E16 -> 130000 | D22: 5 | E22: =+'2.1'!F16 -> 140000 | F22: 3 | G22: =+'2.1'!G16 -> 130000 | H22: 3 | I22: =+'2.1'!H16 -> 130000 | J22: 3 | K22: =+'2.1'!I16 -> 130000 | L22: =+B22+D22+F22+H22+J22 -> 17 | M22: =+C22+E22+G22+I22+K22 -> 660000
A23: ๒.๒ แผนงานการจัดการทรัพยากรน้ำเพื่อการพัฒนาอาชีพ | B23: 3 | C23: =+'2.2'!E38 -> 2350000 | D23: 11 | E23: =+'2.2'!F38 -> 4100000 | F23: 7 | G23: =+'2.2'!G38 -> 1550000 | H23: 2 | I23: =+'2.2'!H38 -> 3800000 | J23: 6 | K23: =+'2.2'!I38 -> 1650000 | L23: =+B23+D23+F23+H23+J23 -> 29 | M23: =+C23+E23+G23+I23+K23 -> 13450000
A24: ๒.๓ แผนงานการพัฒนาและส่งเสริมอาชีพภูมิปัญญาท้องถิ่น | B24: 4 | C24: =+'2.3'!E15 -> 560000 | D24: 4 | E24: =+'2.3'!F15 -> 560000 | F24: 4 | G24: =+'2.3'!G15 -> 560000 | H24: 4 | I24: =+'2.3'!H15 -> 560000 | J24: 4 | K24: =+'2.3'!I15 -> 560000 | L24: =+B24+D24+F24+H24+J24 -> 20 | M24: =+C24+E24+G24+I24+K24 -> 2800000
A25: ๒.๔ แผนงานการพัฒนาการคมนาคมเพื่อส่งเสริมอาชีพ | B25: 0 | C25: =+'2.4'!E14 -> 0 | D25: 2 | E25: =+'2.4'!F14 -> 2200000 | F25: 1 | G25: =+'2.4'!G14 -> 750000 | H25: 0 | I25: =+'2.4'!H14 -> 0 | J25: 0 | K25: =+'2.4'!I14 -> 0 | L25: =+B25+D25+F25+H25+J25 -> 3 | M25: =+C25+E25+G25+I25+K25 -> 2950000
A26: รวม | B26: =+B22+B23+B24+B25 -> 10 | C26: =+C22+C23+C24+C25 -> 3040000 | D26: =+D22+D23+D24+D25 -> 22 | E26: =+E22+E23+E24+E25 -> 7000000 | F26: =+F22+F23+F24+F25 -> 15 | G26: =+G22+G23+G24+G25 -> 2990000 | H26: =+H22+H23+H24+H25 -> 9 | I26: =+I22+I23+I24+I25 -> 4490000 | ... K26: =+K22+K23+K24+K25 -> 2340000 | L26: =SUM(L22:L25) -> 69 | M26: =SUM(M22:M25) -> 19860000
A27: ๓. ยุทธศาสตร์การพัฒนาการให้บริการตามหลักบริหารจัดการบ้านเมืองที่ดี
A28: ๓.๑ แผนงานการส่งเสริมการให้บริการประชาชนให้ได้มาตรฐาน | B28: 20 | C28: =+'3.1'!E47 -> 7980000 | D28: 22 | E28: =+'3.1'!F47 -> 6630000 | F28: 17 | G28: =+'3.1'!G47 -> 5360000 | H28: 16 | I28: =+'3.1'!H47 -> 5175000 | J28: 13 | K28: =+'3.1'!I47 -> 4750000 | L28: =+B28+D28+F28+H28+J28 -> 88 | M28: =+C28+E28+G28+I28+K28 -> 29895000
A29: ๓.๒ แผนงานการส่งเสริมกิจกรรมพัฒนาบุคลากร | B29: 6 | C29: =+'3.2'!E17 -> 2400000 | D29: 6 | E29: =+'3.2'!F17 -> 2400000 | F29: 6 | G29: =+'3.2'!G17 -> 2400000 | H29: 6 | I29: =+'3.2'!H17 -> 2400000 | J29: 6 | K29: =+'3.2'!I17 -> 2400000 | L29: =+B29+D29+F29+H29+J29 -> 30 | M29: =+C29+E29+G29+I29+K29 -> 12000000
A30: ๓.๓ แผนงานการพัฒนาอุปกรณ์ เครื่องมือให้สะดวก และส่งเสริมการให้บริการ | B30: 18 | C30: =+'3.3'!E37 -> 7115000 | D30: 18 | E30: =+'3.3'!F37 -> 5690200 | F30: 14 | G30: =+'3.3'!G37 -> 6210000 | H30: 12 | I30: =+'3.3'!H37 -> 1280000 | J30: 11 | K30: =+'3.3'!I37 -> 1180000 | L30: =+B30+D30+F30+H30+J30 -> 73 | M30: =+C30+E30+G30+I30+K30 -> 21475200
A31: ๓.๔ แผนงานการเผยแพร่ข้อมูลข่าวสารแก่ประชาชน | B31: 8 | C31: =+'3.4'!E22 -> 1250000 | D31: 9 | E31: =+'3.4'!F22 -> 1850000 | F31: 7 | G31: =+'3.4'!G22 -> 1200000 | H31: 7 | I31: =+'3.4'!H22 -> 1200000 | J31: 8 | K31: =+'3.4'!I22 -> 2200000 | L31: =+B31+D31+F31+H31+J31 -> 39 | M31: =+C31+E31+G31+I31+K31 -> 7700000
A32: ๓.๕ แผนงานการส่งเสริมการมีส่วนร่วมในการบริหารจัดการของประชาชน | B32: 4 | C32: =+'3.5'!E15 -> 1700000 | D32: 4 | E32: =+'3.5'!F15 -> 1700000 | F32: 4 | G32: =+'3.5'!G15 -> 1700000 | H32: 4 | I32: =+'3.5'!H15 -> 1700000 | J32: 4 | K32: =+'3.5'!I15 -> 1700000 | L32: =+B32+D32+F32+H32+J32 -> 20 | M32: =+C32+E32+G32+I32+K32 -> 8500000
A33: รวม | B33: =+B32+B31+B30+B29+B28 -> 56 | C33: =+C32+C31+C30+C29+C28 -> 20445000 | D33: =+D32+D31+D30+D29+D28 -> 59 | E33: =+E32+E31+E30+E29+E28 -> 18270200 | F33: =+F32+F31+F30+F29+F28 -> 48 | G33: =+G32+G31+G30+G29+G28 -> 16870000 | H33: =+H32+H31+H30+H29+H28 -> 45 | I33: =+I32+I31+I30+I29+I28 -> 11755000 | ... M33: =+M32+M31+M30+M29+M28 -> 79570200
A37: ๔. ยุทธศาสตร์การพัฒนาจริยธรรมและคุณธรรม
A38: ๔.๑ แผนงานการส่งเสริมกิจกรรมการพัฒนาจริยธรรมและคุณธรรม | B38: 4 | C38: =+'4.1'!E15 -> 130000 | D38: 4 | E38: =+'4.1'!F15 -> 130000 | F38: 4 | G38: =+'4.1'!G15 -> 130000 | H38: 4 | I38: =+'4.1'!H15 -> 130000 | J38: 4 | K38: =+'4.1'!I15 -> 130000 | L38: =+B38+D38+F38+H38+J38 -> 20 | M38: =+C38+E38+G38+I38+K38 -> 650000
A39: ๔.๒ แผนงานการพัฒนาโครงสร้างพื้นฐานเพื่อส่งเสริมการดำเนินกิจกรรมพัฒนาคุณธรรมและจริยธรรม | B39: 1 | C39: =+'4.2'!E16 -> 3000000 | D39: 1 | E39: =+'4.2'!F16 -> 100000 | F39: 1 | G39: =+'4.2'!G16 -> 200000 | H39: 1 | I39: =+'4.2'!H16 -> 20000 | J39: 1 | K39: =+'4.2'!I16 -> 1600000 | L39: =+B39+D39+F39+H39+J39 -> 5 | M39: =+C39+E39+G39+I39+K39 -> 4920000
A40: ๔.๓ แผนงานการมีส่วนร่วมในการบริหารตรวจสอบการทำงานของ เทศบาล | B40: 8 | C40: =+'4.3'!E19 -> 2090000 | D40: 8 | E40: =+'4.3'!F19 -> 2090000 | F40: 8 | G40: =+'4.3'!G19 -> 2090000 | H40: 8 | I40: =+'4.3'!H19 -> 2090000 | J40: 8 | K40: =+'4.3'!I19 -> 2090000 | L40: =+B40+D40+F40+H40+J40 -> 40 | M40: =+C40+E40+G40+I40+K40 -> 10450000
A41: ๔.๔ แผนงานทางการส่งเสริมกิจกรรมประเพณีท้องถิ่นและการอนุรักษ์วัฒนธรรม | B41: 8 | C41: =+'4.4'!E19 -> 1110000 | D41: 8 | E41: =+'4.4'!F19 -> 1110000 | F41: 8 | G41: =+'4.4'!G19 -> 1110000 | H41: 8 | I41: =+'4.4'!H19 -> 1110000 | J41: 8 | K41: =+'4.4'!I19 -> 1110000 | L41: =+B41+D41+F41+H41+J41 -> 40 | M41: =+C41+E41+G41+I41+K41 -> 5550000
A42: รวม | B42: =+B41+B40+B39+B38 -> 21 | C42: =+C41+C40+C39+C38 -> 6330000 | D42: =+D41+D40+D39+D38 -> 21 | E42: =+E41+E40+E39+E38 -> 3430000 | F42: =+F41+F40+F39+F38 -> 21 | G42: =+G41+G40+G39+G38 -> 3530000 | H42: =+H41+H40+H39+H38 -> 21 | I42: =+I41+I40+I39+I38 -> 3350000 | ... M42: =+M41+M40+M39+M38 -> 21570000
A43: ๕. ยุทธศาสตร์การพัฒนาการส่งเสริมการลงทุนด้านอุตสาหกรรมที่เป็นมิตรต่อสิ่งแวดล้อม
A44: ๕.๑ แผนงานพัฒนาโครงสร้างพื้นฐานเพื่อการลงทุนด้านอุตสาหกรรม | B44: 1 | C44: =+'5.1'!E12 -> 3000000 | D44: 1 | E44: =+'5.1'!F12 -> 3000000 | F44: 1 | G44: =+'5.1'!G12 -> 3000000 | H44: 1 | I44: =+'5.1'!H12 -> 3000000 | J44: 1 | K44: =+'5.1'!I12 -> 3000000 | L44: =+B44+D44+F44+H44+J44 -> 5 | M44: =+C44+E44+G44+I44+K44 -> 15000000
A45: ๕.๒ แผนงานการพัฒนาบุคลากรในด้านอุตสาหกรรม | B45: 2 | C45: =+'5.2'!E13 -> 100000 | D45: 2 | E45: =+'5.2'!F13 -> 100000 | F45: 2 | G45: =+'5.2'!G13 -> 100000 | H45: 2 | I45: =+'5.2'!H13 -> 100000 | J45: 2 | K45: =+'5.2'!I13 -> 100000 | L45: =+B45+D45+F45+H45+J45 -> 10 | M45: =+C45+E45+G45+I45+K45 -> 500000
A46: ๕.๓ แผนงานทางการพัฒนาสิ่งแวดล้อมให้ได้มาตรฐานด้านอุตสาหกรรม | B46: 1 | C46: =+'5.3'!E12 -> 100000 | D46: 1 | E46: =+'5.3'!F12 -> 100000 | F46: 1 | G46: =+'5.3'!G12 -> 100000 | H46: 1 | I46: =+'5.3'!H12 -> 100000 | J46: 1 | K46: =+'5.3'!I12 -> 100000 | L46: =+B46+D46+F46+H46+J46 -> 5 | M46: =+C46+E46+G46+I46+K46 -> 500000
A47: รวม | B47: =+B46+B45+B44+B43 -> 4 | C47: =+C46+C45+C44+C43 -> 3200000 | D47: =+D46+D45+D44+D43 -> 4 | E47: =+E46+E45+E44+E43 -> 3200000 | F47: =+F46+F45+F44+F43 -> 4 | G47: =+G46+G45+G44+G43 -> 3200000 | H47: =+H46+H45+H44+H43 -> 4 | I47: =+I46+I45+I44+I43 -> 3200000 | ... M47: =+M46+M45+M44+M43 -> 16000000
A48: รวมทั้งสิ้น | B48: =+B47+B42+B33+B26+B15 -> 188 | C48: =+C47+C42+C33+C26+C15 -> 73939600 | D48: =+D47+D42+D33+D26+D15 -> 207 | E48: =+E47+E42+E33+E26+E15 -> 86458800 | F48: =+F47+F42+F33+F26+F15 -> 179 | G48: =+G47+G42+G33+G26+G15 -> 62453600 | H48: =+H47+H42+H33+H26+H15 -> 161 | I48: =+I47+I42+I33+I26+I15 -> 52516000 | ... M48: =+M47+M42+M33+M26+M15 -> 332683000

Sheet ผ.01.1
A1: บัญชีสรุปโครงการพัฒนา ที่นำมาจากแผนพัฒนาหมู่บ้าน
A2: เทศบาลตำบลธาตุทอง อำเภอบ่อทอง จังหวัดชลบุรี
A4: โครงการพัฒนาที่นำมาจากแผนพัฒนาหมู่บ้าน | B4: ปี ๒๕๖๖ | D4: ปี ๒๕๖๗ | F4: ปี ๒๕๖๘ | H4: ปี ๒๕๖๙ | J4: ปี ๒๕๗๐ | L4: รวมโครงการ
B5: จำนวน โครงการ | C5: งบประมาณ | D5: จำนวน โครงการ | E5: งบประมาณ | F5: จำนวน โครงการ | G5: งบประมาณ | H5: จำนวน โครงการ | I5: งบประมาณ | J5: จำนวน โครงการ | K5: งบประมาณ | L5: จำนวน โครงการ | M5: งบประมาณ
C6: (บาท) | E6: (บาท) | G6: (บาท) | I6: (บาท) | K6: (บาท) | M6: (บาท)
B8: 10 | C8: =+'ผ.02.1'!E54 -> 9015000 | D8: 8 | E8: =+'ผ.02.1'!F54 -> 3760000 | F8: 10 | G8: =+'ผ.02.1'!G54 -> 10210000 | H8: 8 | I8: =+'ผ.02.1'!H54 -> 22690000 | J8: 8 | K8: =+'ผ.02.1'!I54 -> 7170000 | L8: =+B8+D8+F8+H8+J8 -> 44 | M8: =+C8+E8+G8+I8+K8 -> 52845000
A10: รวม | B10: =SUM(B8:B9) -> 10 | C10: =SUM(C8:C9) -> 9015000 | D10: =SUM(D8:D9) -> 8 | E10: =SUM(E8:E9) -> 3760000 | F10: =SUM(F8:F9) -> 10 | G10: =SUM(G8:G9) -> 10210000 | H10: =SUM(H8:H9) -> 8 | I10: =SUM(I8:I9) -> 22690000 | ... M10: =SUM(M8:M9) -> 52845000

Sheet 1.1
A1: รายละเอียดโครงการพัฒนา
A2: แผนพัฒนาท้องถิ่น (พ.ศ. ๒๕๖๖ – ๒๕๗๐)
A3: เทศบาลตำบลธาตุทอง อำเภอบ่อทอง จังหวัดชลบุรี
A4: ก. | B4: ยุทธศาสตร์จังหวัดที่ 4 ยกระดับประสิทธิภาพการบริหารจัดการภาครัฐ เทคโนโลยี โครงสร้างพื้นฐาน โครงข่ายคมนาคมรองรับเขตพัฒนาพิเศษภาคตะวันออก
A5: ข. | B5: ยุทธศาสตร์การพัฒนาของ อปท. ในเขตจังหวัด ที่ 1 การพัฒนาโครงสร้างพื้นฐาน / สาธารณูปโภค
B6: 1. ยุทธศาสตร์การพัฒนาคุณภาพชีวิตประชาชน
B7: 1.1 แผนงานการส่งเสริมการพัฒนาโครงสร้างพื้นฐานและสาธารณูปโภคขั้นพื้นฐานให้ได้ครบถ้วน
A8: ที่ | B8: โครงการ | C8: วัตถุประสงค์ | D8: เป้าหมาย (ผลผลิตของโครงการ) | E8: งบประมาณ | J8: ตัวชี้วัด(KPI) | K8: ผลที่คาดว่าจะได้รับ | L8: หน่วยงานรับผิดชอบหลัก
E9: 2566 | F9: 2567 | G9: 2568 | H9: 2569 | I9: 2570
E10: (บาท) | F10: (บาท) | G10: (บาท) | H10: (บาท) | I10: (บาท)
A11: 1 | B11: โครงการขยายไฟฟ้าส่องสว่าง/และติดตั้งไฟฟ้าสาธารณะภายในเขตเทศบาลตำบลธาตุทอง | C11: เพื่อให้มีไฟฟ้าสาธารณะและพร้อมใช้งาน | D11: - สายหนองเสม็ด-บ่อทอง | E11: 130000 | F11: 130000 | G11: 130000 | H11: 130000 | I11: 130000 | J11: จำนวนเส้นทางที่ได้รับการพัฒนา | K11: มีไฟฟ้าสาธารณะใช้และพร้อมใช้งานเสมอ | L11: กองช่าง
D12: - สายเจ้เพ็ญ-เขากระถิน ม.6
D13: - สายเนินหิน-เขากระถิน ม.5,ม.6
D14: - สายเนินหิน-บึงตะกู ม.1,ม.8
D15: - สายวัดธาตุทอง ม.4,ม.8
D16: - สายศาลาลุงนิด-บึงตะกู ม.4
D17: - สายหนองไม้แก่น-บึงตะกู ม.4
D18: - สายโรงงานกาว-เนินดินแดง ม.2
D19: - สายโปร่งเกตุ-อ่างสะบ้า ม.9
D20: - สายหนองบอน-บึงตะกู ม.4
D21: - สายุสานไตรคุณธรรม ม.6
D22: - สายบ้านนางเลี้ยง ม.7
D23: - สายซอยอีสานเขียวถึงบ้านชนิดา ม.5
D24: จำนวน 13 แห่ง งบประมาณ แห่งละ100,000
A25: 2 | B25: โครงการปรับปรุงตีเส้นจราจร ถนนภายในเขตเทศบาลตำบลธาตุทอง | C25: เพื่อความปลอดภัยในการสัญจรไปมา | D25: ตีเส้นจราจร ขนาดกว้าง 0.15 เมตร | E25: - | F25: 783600 | G25: 783600 | H25: - | I25: - | J25: ถนนได้รับการพัฒนาตามเป้าหมาย | K25: ประชาชนมีความปลอดภัยในการ ใช้ถนน | L25: กองช่าง
D26: - ถนนเทศบาลตำบลธาตุ 4
D27: - ถนนเทศบาลตำบลธาตุ 7
D28: - ถนนเทศบาลตำบลธาตุ 8
D29: - ถนนเทศบาลตำบลธาตุ 9
A30: 3 | B30: โครงการซ่อมแซม/ปรับปรุง แท็งค์น้ำ ฝ.99 บริเวณ รพ.สต.บ้านบึงตะกู และบ้านโปร่งเกตุ (ถ่ายโอนจาก รพช.) | C30: เพื่อให้มีน้ำอุปโภคบริโภค | D30: ซ่อมแซม/ปรับปรุง แท็งค์น้ำ ฝ.99 จำนวน 2 แห่ง | E30: - | F30: - | G30: - | H30: - | I30: 200000 | J30: จำนวน 2 แห่ง | K30: ประชาชนได้มีน้ำสำหรับอุปโภคบริโภคอย่างเพียงพอ | L30: กองช่าง
A31: 4 | B31: โครงการก่อสร้างระบบประปา บริเวณเทศบาลตำบลธาตุทอง (สระน้ำบ้านเนินหิน) | C31: เพื่อให้มีน้ำประปาใช้เพื่ออุปโภคบริโภค | D31: ก่อสร้างระบบประปาหมู่บ้านแบบผิวดินตามแบบมาตรฐาน | E31: 500000 | F31: - | G31: - | H31: - | I31: - | J31: ระบบประปาได้รับการพัฒนาตามเป้าหมาย | K31: พนักงานและประชาชนมีน้ำประปาใช้อย่างมีคุณภาพ | L31: กองช่าง
A32: 5 | B32: โครงการเปลี่ยนหอถังเหล็ก ส่งน้ำประปาโรงเรียนบ้านโปร่งเกตุ | C32: เพื่อให้นักเรียนได้มีน้ำใช้อุปโภคและบริโภคอย่างมีคุณภาพ | D32: เปลี่ยนหอถังเหล็กส่งน้ำประปาโรงเรียนบ้านโปร่งเกตุ | E32: 25000 | F32: - | G32: - | H32: - | I32: - | J32: ระบบประปาได้รับการพัฒนาตามเป้าหมาย | K32: นักเรียนมีน้ำอุปโภค บริโภคอย่างเพียงพอ | L32: กองช่าง
A33: 6 | B33: โครงการติดตั้งไฟฟ้าแสงสว่าง ริมถนนเทศบาลตำบลธาตุทอง 7 หมู่ที่ 4,8 | C33: เพื่อความสะดวกในการสัญจรในเวลากลางคืน | D33: ติดตั้งไฟฟ้าแสงสว่างเสาไฟฟ้าแบบกิ่งเดี่ยวสูง 9.00 เมตร ชนิดหลอด 250 W.HPS. | E33: - | F33: - | G33: - | H33: - | I33: 3,400,00 | J33: ระบบไฟฟ้างได้รับการพัฒนาตามเป้าหมาย | K33: ประชาชนมีความสะดวกสบายในการเดินทาง | L33: กองช่าง
A34: 7 | B34: โครงการติดตั้งไฟฟ้าแสงสว่าง ริมถนนเทศบาลตำบลธาตุทอง 8 ซอย 4 หมู่ที่ 5,6 | C34: เพื่อความสะดวกในการสัญจรในเวลากลางคืน | D34: ติดตั้งไฟฟ้าแสงสว่างเสาไฟฟ้าแบบกิ่งเดี่ยวสูง 9.00 เมตร ชนิดหลอด 250 W.HPS. | E34: - | F34: - | G34: - | H34: 2531000 | I34: - | J34: ระบบไฟฟ้าได้รับการพัฒนาตามเป้าหมาย | K34: ประชาชนมีความสะดวกสบายในการเดินทาง | L34: กองช่าง
A35: 8 | B35: โครงการก่อสร้างระบบประปา แบบบาดาล และขยายท่อเมนประปา บ้านเนินหิน หมู่ที่ 1 | C35: เพื่อให้ประชาชนได้มีน้ำสะอาดใช้อย่างเพียงพอและทั่วถึง | D35: ขุดเจาะบ่อบาดาลท่อกรุ 6 นิ้ว ก่อสร้างระบบประปาหอถังเหล็กสูง 20 เมตร และขยายท่อเมนประปา พี.วี.ซี ชั้น 8.5 ขนาด เส้นผ่าศูนย์กลาง 2 นิ้ว ยาว 1,000 เมตร และขยายเขตไฟฟ้า | E35: 950000 | F35: - | G35: - | H35: - | I35: - | J35: ระบบประปาได้รับการพัฒนาตามเป้าหมาย | K35: ประชาชนมีน้ำอุปโภคและมีน้ำสะอาดใช้อย่างทั่วถึง | L35: กองช่าง.
A36: 9 | B36: โครงการขุดบ่อเจาะบ่อบาดาลพร้อมปั๊มซัมเมอร์ส บ้านเนินหิน หมู่ที่ 1 | C36: เพื่อให้ประชาชนได้มีน้ำสะอาดใช้อย่างเพียงพอและทั่วถึง | D36: ขุดเจาะบ่อบาดาลพร้อมปั๊มซัมเมอร์ส 1 แห่ง (บริเวณบ้านนางสะเดา โพธิ์แสง) | E36: - | F36: 300000 | G36: - | H36: - | I36: - | J36: ขุดเจาะบ่อบาดาล 1 แห่ง | K36: ประชาชนมีน้ำอุปโภคและมีน้ำสะอาดใช้อย่างทั่วถึง | L36: กองช่าง
A37: 10 | B37: โครงการขุดเจาะบ่อบาดาล พร้อมติดตั้งปั้มซัมเมอร์ส บ้านเนินหิน หมู่ที่ ๑ | C37: เพื่อให้ประชาชนมีน้ำใช้สำหรับทำการเกษตร | D37: ขุดเจาะบ่อบาดาล ขนาด 6 นิ้ว พร้อมติดตั้งปั้มซัมเมอร์ส (บริเวณบ้านนายสกล กิจเจริญทรัพย์ดี) | E37: - | F37: - | G37: 300000 | H37: - | I37: - | J37: ระบบประปาได้รับการพัฒนาตามเป้าหมาย | K37: ประชาชนมีน้ำสำหรับใช้ในการเกษตรและอุปโภคอย่างเพียงพอ | L37: กองช่าง
A38: 11 | B38: โครงการขยายเขตประปาเชื่อมต่อท่อเมนประปาส่วนภูมิภาค บ้านเนินหิน หมู่ที่ 1 | C38: เพื่อให้ประชาชนมีน้ำประปาใช้เพื่อบริโภค-อุปโภค | D38: เชื่อมต่อและขยายท่อเมนน้ำประปาจากส่วนภูมิภาค | E38: - | F38: - | G38: - | H38: 1000000 | I38: - | J38: ระบบประปาได้รับการัฒนาตามเป้าหมาย | K38: ประชาชนได้มีน้ำสำหรับอุปโภคบริโภคอย่างเพียงพอ | L38: กองช่าง
A39: 12 | B39: โครงการขยายเขตประปา บ้านเนินหิน หมู่ที่ 1 | C39: เพื่อให้ประชาชนได้มีน้ำสะอาดใช้อย่างเพียงพอและทั่วถึง | D39: วางท่อเมนประปาพีวีซี ชั้น 8.5 ขนาดเส้นผ่าศูนย์กลาง 2 นิ้วยาว 445 เมตร | E39: - | F39: - | G39: - | H39: - | I39: 50000 | J39: ระบบประปาได้รับการัฒนาตามเป้าหมาย | K39: ประชาชนได้มีน้ำสำหรับอุปโภคบริโภคอย่างเพียงพอ | L39: กองช่าง
A40: 13 | B40: โครงการขยายเขตท่อเมนประปา ถนนเทศบาล 9/1 (ซอยสุเหล่าแขก) บ้านเนินหิน หมู่ที่ 1 | C40: เพื่อให้ประชาชนได้มีน้ำสะอาดใช้อย่างเพียงพอและทั่วถึง | D40: ขยายท่อเมนประปา พี.วี.ซี ชั้น 8.5 ขนาด เส้นผ่าศูนย์กลาง 2 นิ้ว ยาว 700 เมตร | E40: - | F40: - | G40: - | H40: 80000 | I40: - | J40: ระบบประปาได้รับการัฒนาตามเป้าหมาย | K40: ประชาชนได้มีน้ำสำหรับอุปโภคบริโภคอย่างเพียงพอ | L40: กองช่าง.
...

Sheet 1.2
A1: รายละเอียดโครงการพัฒนา
A2: แผนพัฒนาท้องถิ่น (พ.ศ. ๒๕๖๖ – ๒๕๗๐)
A3: เทศบาลตำบลธาตุทอง อำเภอบ่อทอง จังหวัดชลบุรี
A4: ก. | B4: ยุทธศาสตร์จังหวัดที่ ๕ พัฒนาคนและชุมชนให้สังคมมั่นคง มีคุณภาพและยั่งยืน ตามหลักปรัชญาของเศรษฐกิจพอเพียง
A5: ข. | B5: ยุทธศาสตร์การพัฒนาของ อปท. ในเขตจังหวัด ที่ 4 การพัฒนาคุณภาพชีวิตสู่เมืองนวัตกรรม น้อมนำหลักเศรษฐกิจพอเพียง
B6: 1. ยุทธศาสตร์การพัฒนาคุณภาพชีวิตประชาชน
B7: ๑.๒ แผนงานการจัดการศึกษาระดับก่อนประถมวัยให้มีคุณภาพมาตรฐานศูนย์พัฒนาเด็กเล็ก
A8: ที่ | B8: โครงการ | C8: วัตถุประสงค์ | D8: เป้าหมาย (ผลผลิตของโครงการ) | E8: งบประมาณ | J8: ตัวชี้วัด(KPI) | K8: ผลที่คาดว่าจะได้รับ | L8: หน่วยงานรับผิดชอบหลัก
E9: 2566 | F9: 2567 | G9: 2568 | H9: 2569 | I9: 2570
E10: (บาท) | F10: (บาท) | G10: (บาท) | H10: (บาท) | I10: (บาท)
A11: 1 | B11: โครงการปรับปรุงซ่อมแซม อาคารสถานที่และปรับปรุงภูมิทัศน์ทั้งภายในและภายนอกบริเวณศูนย์พัฒนาเด็กเล็กฯ | C11: เพื่อจัดสภาพแวดล้อมอาคารสถานที่ให้มีความมั่นคงแข็งแรงและเหมาะสมตรงตามมาตรฐานของศูนย์พัฒนาเด็กเล็ก | D11: ศูนย์พัฒนาเด็กเล็กเทศบาลตำบลธาตุทอง 1 และ 2 | E11: 500000 | F11: 500000 | G11: 500000 | H11: 500000 | I11: 500000 | J11: ศพด. มีอาคารสถานที่มั่นคงแข็งแรง | K11: ศพด. มีอาคารสถานที่เหมาะสำหรับจัดกิจกรรมการเรียนการสอน | L11: กองการศึกษาฯ
A12: 2 | B12: โครงการสนับสนุนกิจกรรมวันสำคัญต่าง ๆ ของศูนย์พัฒนาเด็กเล็ก | C12: เพื่ออนุรักษ์ประเพณีและวัฒนธรรมให้คงอยู่สืบไป | D12: ศูนย์พัฒนาเด็กเล็กเทศบาลตำบลธาตุทอง 1 และ 2 | E12: 100000 | F12: 100000 | G12: 100000 | H12: 100000 | I12: 100000 | J12: ความพึงพอใจของเด็กที่เข้าร่วมกิจกรรม | K12: นักเรียนเห็นถึงความสำคัญของกิจกรรมที่จัดขึ้น | L12: กองการศึกษาฯ
A13: 3 | B13: โครงการจัดซื้อสื่อการเรียน การสอนศูนย์พัฒนาเด็กเล็ก | C13: ส่งเสริมให้เด็กมีการพัฒนาการ ทั้ง ๔ ด้าน | D13: ศูนย์พัฒนาเด็กเล็กเทศบาลตำบลธาตุทอง ๑ และ ๒ | E13: 100000 | F13: 100000 | G13: 100000 | H13: 100000 | I13: 100000 | J13: จำนวนสื่อการสอนที่ใช้ใน ศพด. | K13: ศพด.มีสื่อการสอนเพื่อพัฒนาเด็กอย่างมีประสิทธิภาพ | L13: กองการศึกษาฯ
A14: 4 | B14: โครงการพัฒนาสื่อระดับปฐมวัยของศูนย์พัฒนาเด็กเล็ก | C14: เพื่อพัฒนาและปรับปรุงสื่อการเรียนการสอนเพื่ออำนวยในการจัดกิจกรรมการเรียนรู้ | D14: ศูนย์พัฒนาเด็กเล็กเทศบาลตำบลธาตุทอง 1 และ 2 | E14: 20000 | F14: 20000 | G14: 20000 | H14: 20000 | I14: 20000 | J14: ศพด.ทต.ธาตุทองทุกแห่งมีสื่อการสอนครบถ้วนตามความต้องการ | K14: ศูนย์พัฒนาเด็กเล็กมีสื่อในการจัดการเรียนรู้ตลอดปีการศึกษา | L14: กองการศึกษาฯ
A15: 5 | B15: โครงการฟันสวย ยิ้มใส ศูนย์พัฒนาเด็กเล็ก | C15: เพื่อส่งเสริมให้เด็กมีสุขภาพฟันที่แข็งแรง | D15: ศูนย์พัฒนาเด็กเล็กเทศบาลตำบลธาตุทอง 1 และ 2 | E15: 20000 | F15: 20000 | G15: 20000 | H15: 20000 | I15: 20000 | J15: จัดกิจกรรม ปีละ 1 ครั้ง | K15: เด็กนักเรียนมีสุขภาพฟันที่ดี | L15: กองการศึกษาฯ
A16: 6 | B16: โครงการกีฬาสีภายในศูนย์พัฒนาเด็กเล็กฯ | C16: เพื่อส่งเสริมพัฒนาการเด็กให้ครบทุกด้าน | D16: ศูนย์พัฒนาเด็กเล็กเทศบาลตำบลธาตุทอง 1 และ 2 | E16: 20000 | F16: 20000 | G16: 20000 | H16: 20000 | I16: 20000 | J16: จัดกิจกรรม ปีละ 1 ครั้ง | K16: เด็กมีพัฒนาการครบทุกด้าน | L16: กองการศึกษาฯ
A17: 7 | B17: โครงการผู้สูงวัยใส่ใจลูกหลาน | C17: เพื่อให้เด็กมีความสัมพันธ์ที่ดีกับครอบครัว | D17: ศูนย์พัฒนาเด็กเล็กเทศบาลตำบลธาตุทอง 1 และ 2 | E17: 10000 | F17: 10000 | G17: 10000 | H17: 10000 | I17: 10000 | J17: จัดกิจกรรม ปีละ 1 ครั้ง | K17: เด็กมีความสัมพันธ์ที่ดีกับครอบครัว | L17: กองการศึกษาฯ
A18: 8 | B18: โครงการจัดซื้ออาหารเสริม (นม) ศูนย์พัฒนาเด็กเล็ก ทต.ธาตุทอง | C18: เพื่อให้เด็กได้รับสารอาหารเสริมนมที่เพียงพอต่อการเจริญเติบโต | D18: จำนวนเด็กนักเรียน ในศูนย์พัฒนาเด็กเล็กฯของเทศบาล | E18: 200000 | F18: 200000 | G18: 200000 | H18: 200000 | I18: 200000 | J18: เด็กใน ศพด.ได้รับอาหารเสริม(นม) 100% | K18: เด็กเล็กมีสุขภาพร่างกายแข็งแรง | L18: กองการศึกษาฯ
A19: 9 | B19: โครงการปฐมนิเทศผู้ปกครองนักเรียนใหม่ | C19: เพื่อให้ผู้ปกครองมีความรู้ความเข้าใจในกฎระเบียบของศูนย์พัฒนาเด็กเล็ก | D19: ศูนย์พัฒนาเด็กเล็กเทศบาลตำบลธาตุทอง 1 และ 2 | E19: 5000 | F19: 5000 | G19: 5000 | H19: 5000 | I19: 5000 | J19: จัดกิจกรรม ปีละ 1 ครั้ง | K19: ผู้ปกครองปฏิบัติตามกฏของ ศพด. อย่างถูกต้อง | L19: กองการศึกษาฯ
A20: 10 | B20: โครงการเปิดโลกกว้างการเรียนรู้นอกสถานที่ | C20: เพื่อให้เด็กได้มีพัฒนาการที่เหมาะสมกับวัย | D20: ศูนย์พัฒนาเด็กเล็กเทศบาลตำบลธาตุทอง 1 และ 2 | E20: 30000 | F20: 30000 | G20: 30000 | H20: 30000 | I20: 30000 | J20: จัดกิจกรรม ปีละ 1 ครั้ง | K20: เด็กนักเรียนมีพัฒนาการที่เหมาะสมกับวัย | L20: กองการศึกษาฯ
A21: 11 | B21: โครงการปัจฉิมนิเทศเด็กและรายงานผลการเรียนนักเรียน | C21: เพื่อแสดงความยินดีผลการเรียนของนักเรียน | D21: ศูนย์พัฒนาเด็กเล็กเทศบาลตำบลธาตุทอง 1 และ 2 | E21: 20000 | F21: 20000 | G21: 20000 | H21: 20000 | I21: 20000 | J21: จัดกิจกรรม ปีละ 1 ครั้ง | K21: เด็กมีความภาคภูมิใจ | L21: กองการศึกษาฯ
A22: 12 | B22: โครงการปรับปรุงพื้นที่สนามเด็กเล่น จัดซื้อเครื่องเล่นพร้อมปูพื้นยาง ศูนย์พัฒนาเด็กเล็กเทศบาลตำบลธาตุทอง 1 และ 2 | C22: เพื่อให้เด็กมีพัฒนาการตามวัยโดยผ่านการเล่น | D22: ศูนย์พัฒนาเด็กเล็กเทศบาลตำบลธาตุทอง 1 และ 2 มีสนามเด็กเล่นพร้อมอุปกรณ์การเล่นได้มาตรฐาน | E22: 200000 | F22: 200000 | G22: 200000 | H22: 200000 | I22: 200000 | J22: ศพด.มีสนามเด็กเล่นและเครื่องเล่นครบถ้วนตามความต้องการ | K22: นักเรียนมีพัฒนาการทางร่างกายสมวัยอย่างพอเพียงและทั่วถึง | L22: กองการศึกษาฯ
... A27: 17 | B27: โครงการสนับสนุนค่าใช้จ่ายการบริหารสถานศึกษา | C27: เพื่อจ่ายเป็นค่าสนับสนุนค่าใช้จ่ายในการบริหารสถานศึกษาให้แก่ศูนย์พัฒนาเด็กเล็กเทศบาลตำบลธาตุทอง | D27: จัดสรรเป็นค่าอาหารกลางวัน ค่าจัดการเรียนการสอน ค่าหนังสือ ค่าอุปกรณ์การเรียน ค่าเครื่องแบบนักเรียน ค่ากิจกรรมพัฒนาผู้เรียน ค่าสื่อการเรียนการสอน วัสดุการศึกษา เครื่องเล่นพัฒนาการเด็ก และค่าใช้จ่ายในการพัฒนาครูผู้ดูแลเด็ก ทั้งนี้จะเบิกจ่ายต่อเมื่อได้รับการจัดสรรจากกรมส่งเสริมการปกครองท้องถิ่น | E27: 500000 | F27: 500000 | G27: 500000 | H27: 500000 | I27: 500000 | J27: จัดสรรตามเป้าหมาย | K27: เด็กนักเรียนได้รับอาหารอย่างถูกหลักอนามัย และได้รับความรู้อย่างครบถ้วน | L27: กองการศึกษาฯ
A28: รวม | E28: =SUM(E11:E27) -> 3175000 | F28: =SUM(F11:F27) -> 3175000 | G28: =SUM(G11:G27) -> 3175000 | H28: =SUM(H11:H27) -> 3175000 | I28: =SUM(I11:I27) -> 3175000

Sheet 1.3
A1: รายละเอียดโครงการพัฒนา
A2: แผนพัฒนาท้องถิ่น (พ.ศ. ๒๕๖๖ – ๒๕๗๐)
A3: เทศบาลตำบลธาตุทอง อำเภอบ่อทอง จังหวัดชลบุรี
A4: ก. | B4: ยุทธศาสตร์จังหวัดที่ ๕ พัฒนาคนและชุมชนให้สังคมมั่นคง มีคุณภาพและยั่งยืน ตามหลักปรัชญาของเศรษฐกิจพอเพียง
A5: ข. | B5: ยุทธศาสตร์การพัฒนาของ อปท. ในเขตจังหวัด ที่ 4 การพัฒนาคุณภาพชีวิตสู่เมืองนวัตกรรม น้อมนำหลักเศรษฐกิจพอเพียง
B6: 1. ยุทธศาสตร์การพัฒนาคุณภาพชีวิตประชาชน
B7: 1.3 แผนงานสนับสนุนการพัฒนาการศึกษาทุกระดับ เพื่อเข้าสู่การเป็นประชาคมอาเซียน
A8: ที่ | B8: โครงการ | C8: วัตถุประสงค์ | D8: เป้าหมาย (ผลผลิตของโครงการ) | E8: งบประมาณ | J8: ตัวชี้วัด(KPI) | K8: ผลที่คาดว่าจะได้รับ | L8: หน่วยงานรับผิดชอบหลัก
E9: 2566 | F9: 2567 | G9: 2568 | H9: 2569 | I9: 2570
E10: (บาท) | F10: (บาท) | G10: (บาท) | H10: (บาท) | I10: (บาท)
A11: 1 | B11: โครงการอาหารเสริม (นม) ของโรงเรียนสังกัด สพฐ.ในเขตเทศบาลตำบลธาตุทอง และศูนย์พัฒนาเด็กเล็กเทศบาลตำบลธาตุทอง ๑ และ ๒ | C11: เพื่อจัดซื้ออาหารเสริม (นม)โรงเรียนให้กับนักเรียนตั้งแต่ระดับอนุบาล-ประถมศึกษาปีที่ 6 สำหรับโรงเรียนสังกัด สพฐ.และ ศพด.ในเขตเทศบาลตำบลธาตุทอง | D11: โรงเรียนสังกัด สพฐ. ในเขตเทศบาลตำบลธาตุทอง 4 แห่ง และ ศพด.ทต.ธาตุทองทุกแห่ง | E11: 800000 | F11: ๘๐๐,๐๐ | G11: 900000 | H11: 900000 | I11: 900000 | J11: นักเรียนได้รับอาหารเสริม(นม) จำนวน 100 % | K11: เด็กนักเรียนมีอาหารเสริมนมครบตามหลักโภชนา การและมีสุขภาพแข็งแรง | L11: กองการศึกษาฯ
A12: 2 | B12: โครงการอาหารกลางวันเด็กนักเรียนโรงเรียนสังกัด สพฐ. ในเขตเทศบาลตำบลธาตุทอง | C12: เพื่อให้เด็กได้รับอาหารกลางวันที่เพียงพอต่อการเจริญเติบโต | D12: โรงเรียนสังกัด สพฐ.ในเขตเทศบาลตำบลธาตุทอง จำนวน 4 แห่ง | E12: 1500000 | F12: 1500000 | G12: 1500000 | H12: 1500000 | I12: 1500000 | J12: นักเรียน ได้รับการจัดสรร 100 % | K12: เด็กนักเรียนมีอาหารกลางวันครบตามหลักโภชนาการและมีสุขภาพแข็งแรง | L12: กองการศึกษาฯ
A13: 3 | B13: โครงการส่งเสริมสนับสนุน การเรียนรู้ทุกระดับในเทศบาลตำบลธาตุทอง | C13: เพื่อส่งเสริมสนับสนุนการเรียนรู้ทุกระดับ | D13: โรงเรียนสังกัด สพฐ.ในเขตเทศบาลตำบลธาตุทอง จำนวน 4 แห่ง | E13: 100000 | F13: 100000 | G13: 100000 | H13: 100000 | I13: 100000 | J13: จำนวนนักเรียนที่เข้าร่วม ร้อยละ ๘๐ | K13: สามารถยก ระดับคุณภาพทางการศึกษาได้ | L13: กองการศึกษาฯ
A14: 4 | B14: โครงการอบรมให้ความรู้สภาเด็กและเยาวชน เทศบาลตำบลธาตุทอง | C14: เพื่อให้เด็กและเยาวชนได้รับความรู้ ความสามารถนำความรู้ที่ได้รับไปปรับใช้ในชีวิตประจำวัน | D14: เด็กและเยาวชนในเขตเทศบาลตำบลธาตุทอง | E14: 20000 | F14: 20000 | G14: 20000 | H14: 20000 | I14: 20000 | J14: เด็กและเยาวชนที่เข้าร่วมโครงการ | K14: เด็กและเยาวชนในเขตเทศบาลตำบลธาตุทองมีความรู้เพิ่มขึ้น | L14: กองการศึกษาฯ
A15: 5 | B15: โครงการติดไฟกระพริบหน้าโรงเรียนบ้านคลองมือไทร (สว่างไสวราษฎร์บำรุง) หมู่ที่ 5 | C15: เพื่อความปลอดภัยของนักเรียนและผู้สัญจรไปมา | D15: ไฟกระพริบ 1 จุด | E15: - | F15: - | G15: 30000 | H15: - | I15: - | J15: ไฟกระพริบ 1 จุด | K15: นักเรียนและผู้สัญจรไปมา ได้รับความปลอดภัย | L15: กองช่าง
A16: 6 | B16: โครงการอบรมให้ความรู้เรื่องภัยในเด็กปฐมวัย | C16: เพื่อให้เด็กและเยาวชนตระหนักถึงภัยอันตรายใกล้ตัว สามารถแก้ไขปัญหาเฉพาะหน้าได้เมื่อต้องเผชิญภัยอันตรายต่างๆ | D16: เด็กและเยาวชนในเขตเทศบาลตำบลธาตุทอง | E16: 30000 | F16: 30000 | G16: 30000 | H16: 30000 | I16: 30000 | J16: จำนวนเด็กและเยาวชนที่เข้าร่วมโครงการ | K16: เด็กและเยาวชนสามารถแก้ไขปัญหาเฉพาะหน้าได้เมื่อต้องเผชิญภัยอันตรายต่างๆ | L16: สำนักปลัด
A17: รวม | E17: =SUM(E11:E16) -> 2450000 | F17: =SUM(F11:F16) -> 1650000 | G17: =SUM(G11:G16) -> 2580000 | H17: =SUM(H11:H16) -> 2550000 | I17: =SUM(I11:I16) -> 2550000

Sheet 1.4
A1: รายละเอียดโครงการพัฒนา
A2: แผนพัฒนาท้องถิ่น (พ.ศ. ๒๕๖๖ – ๒๕๗๐)
A3: เทศบาลตำบลธาตุทอง อำเภอบ่อทอง จังหวัดชลบุรี
A4: ก. | B4: ยุทธศาสตร์จังหวัดที่ ๕ พัฒนาคนและชุมชนให้สังคมมั่นคง มีคุณภาพและยั่งยืน ตามหลักปรัชญาของเศรษฐกิจพอเพียง
A5: ข. | B5: ยุทธศาสตร์การพัฒนาของ อปท. ในเขตจังหวัด ที่ 4 การพัฒนาคุณภาพชีวิตสู่เมืองนวัตกรรม น้อมนำหลักเศรษฐกิจพอเพียง
B6: 1. ยุทธศาสตร์การพัฒนาคุณภาพชีวิตประชาชน
B7: 1.4 แผนงานการส่งเสริมการเรียนรู้ของประชาชน
A8: ที่ | B8: โครงการ | C8: วัตถุประสงค์ | D8: เป้าหมาย (ผลผลิตของโครงการ) | E8: งบประมาณ | J8: ตัวชี้วัด(KPI) | K8: ผลที่คาดว่าจะได้รับ | L8: หน่วยงานรับผิดชอบหลัก
E9: 2566 | F9: 2567 | G9: 2568 | H9: 2569 | I9: 2570
E10: (บาท) | F10: (บาท) | G10: (บาท) | H10: (บาท) | I10: (บาท)
A11: 1 | B11: โครงการศูนย์เรียนรู้เศรษฐกิจพอเพียงส่งเสริมการเรียนรู้ของประชาชน | C11: เพื่อพัฒนาความเป็นอยู่ของเกษตรกร เพื่อตอบสนองนโยบายของรัฐบาล | D11: จัดศูนย์การเรียนรู้หรืออุดหนุนโครงการ | E11: 400000 | F11: 400000 | G11: 400000 | H11: 400000 | I11: 400000 | J11: จำนวน ๑ แห่ง | K11: ประชาชนมีความเข้าใจและสามารถดำเนินการตามโครงการได้ | L11: สำนักปลัด
A12: 2 | B12: โครงการห้องสมุดประชาชน | C12: เพื่อเป็นแหล่งการเรียนรู้ของประชาชน | D12: จัดสร้างห้องสมุดประชาชน | E12: - | F12: - | G12: 700000 | H12: - | I12: - | J12: จำนวน ๑ แห่ง | K12: ประชาชนมีแหล่งความรู้มากขึ้น | L12: สำนักปลัด/กองช่าง
A13: 3 | B13: โครงการส่งเสริมการเรียนรู้คอมพิวเตอร์ | C13: เพื่อเป็นแหล่งการเรียนรู้ของประชาชน | D13: จัดอบรมสอนคอมพิวเตอร์พื้นฐาน | E13: 50000 | F13: 50000 | G13: 50000 | H13: 50000 | I13: 50000 | J13: จัดกิจกรรมปีละ ๑ ครั้ง | K13: ประชาชนมีแหล่งความรู้มากขึ้น | L13: สำนักปลัด
A14: 4 | B14: โครงการส่งเสริมและพัฒนาศักยภาพคณะกรรมการหมู่บ้านผู้นำท้องที่ และผู้นำท้องถิ่น ทต.ธาตุทอง | C14: เพื่อส่งเสริมและพัฒนาศักยภาพคณะกรรมการหมู่บ้าน ผู้นำท้องที่ และผู้นำท้องถิ่น ทต.ธาตุทอง | D14: จัดอบรมเพื่อพัฒนาศักยภาพคณะกรรมการหมู่บ้าน ทั้ง ๙หมู่บ้านและผู้นำท้องถิ่น | E14: 500000 | F14: 500000 | G14: 500000 | H14: 500000 | I14: 500000 | J14: จัดกิจกรรมปีละ ๑ ครั้ง | K14: ประสิทธิภาพในการทำงานคณะกรรมการหมู่บ้าน ผู้นำท้องที่และผู้นำท้องถิ่นเพิ่มขึ้น | L14: สำนักปลัด
A15: 5 | B15: โครงการศูนย์เรียนรู้ประวัติศาสตร์ วัฒนธรรม สังคมไทย เพื่อส่งเสริมการท่องเที่ยวของอำเภอบ่อทอง | C15: - จัดนิทรรศการพระกรณียกิจที่สำคัญของสถาบันพระมหากษัตริย์ - จัดนิทรรศการแสดงองค์ความรู้ด้านเศษฐกิจพอเพียง จิตอาสาพระราชทาน โครงการพัชรสุธาคชานุรักษ์ ฯลฯ - จัดนิทรรศการแสดงประวัติศาสตร์ชาติไทย เครื่องดนตรี วัฒนธรรมไทย - จัดนิทรรศการแร่และวิถีชาวอำเภอบ่อทอง - ระบบการบริหารจัดการ การจราจร การรักษาความปลอดภัย ฯลฯ - ห้องน้ำ/ห้องสุขา/จุดบริการประชาสัมพันธ์ ฯลฯ | D15: อุดหนุนอำเภอบ่อทอง | E15: 90000 | F15: 90000 | G15: 90000 | H15: 90000 | I15: 90000 | J15: จำนวนเงินที่ได้รับการอุดหนุน | K15: ประชาชนมีศูนย์เรียนรู้เกี่ยวกับประวัติศาสตร์ความเป็นมาของอำเภอบ่อทอง | L15: สำนักปลัด
A16: รวม | E16: =SUM(E11:E15) -> 1040000 | F16: =SUM(F11:F15) -> 1040000 | G16: =SUM(G11:G15) -> 1740000 | H16: =SUM(H11:H15) -> 1040000 | I16: =SUM(I11:I15) -> 1040000

Sheet 1.5
A1: รายละเอียดโครงการพัฒนา
A2: แผนพัฒนาท้องถิ่น (พ.ศ. ๒๕๖๖ – ๒๕๗๐)
A3: เทศบาลตำบลธาตุทอง อำเภอบ่อทอง จังหวัดชลบุรี
A4: ก. | B4: ยุทธศาสตร์จังหวัดที่ 6 บริหารจัดการทรัพยากรธรรมชาติและสิ่งแวดล้อมให้เกิด ความสมดุลอย่างมีส่วนร่วม
A5: ข. | B5: ยุทธศาสตร์การพัฒนาของ อปท. ในเขตจังหวัด ที่ ๕ การอนุรักษ์ / ฟื้นฟูสิ่งแวดล้อมและพลังงาน
B6: 1. ยุทธศาสตร์การพัฒนาคุณภาพชีวิตประชาชน
B7: 1.5 แผนงานการจัดการสิ่งแวดล้อมในตำบลให้ได้มาตรฐาน
A8: ที่ | B8: โครงการ | C8: วัตถุประสงค์ | D8: เป้าหมาย (ผลผลิตของโครงการ) | E8: งบประมาณ | J8: ตัวชี้วัด(KPI) | K8: ผลที่คาดว่าจะได้รับ | L8: หน่วยงานรับผิดชอบหลัก
E9: 2566 | F9: 2567 | G9: 2568 | H9: 2569 | I9: 2570
E10: (บาท) | F10: (บาท) | G10: (บาท) | H10: (บาท) | I10: (บาท)
A11: 1 | B11: ติดตามตรวจสถานประกอบการ และฟาร์มในพื้นที่เทศบาลตำบลธาตุทอง | C11: เพื่อการจัดการสิ่งแวดล้อมให้มีคุณภาพ | D11: ตรวจสถานประกอบการ และฟาร์มในพื้นที่ อย่างน้อยเดือนละครั้ง | E11: 10000 | F11: 10000 | G11: 10000 | H11: 10000 | I11: 10000 | J11: ตรวจสถานประกอบการ และฟาร์มตามเป้าหมาย | K11: สถานประกอบการและฟาร์มในพื้นที่มีคุณภาพด้านสิ่งแวดล้อม | L11: กองสาธารณสุขฯ
A12: 2 | B12: โครงการดูแลรักษาสิ่งแวดล้อม | C12: เพื่อส่งเสริมและกระตุ้นให้ประชาชนมีส่วนร่วมในการดูแลรักษาสิ่งแวดล้อม | D12: จัดอบรม/กิจกรรมให้กับประชาชน เพื่อมีส่วนร่วมในการดูแลสิ่งแวดล้อม | E12: 200000 | F12: 200000 | G12: 200000 | H12: 200000 | I12: 200000 | J12: จัดกิจกรรม ปีละ ๑ ครั้ง | K12: ประชาชนมีส่วนร่วมในการดูแลรักษาสิ่งแวดล้อม | L12: กองสาธารณสุขฯ
A13: 3 | B13: โครงการพัฒนาสถานที่สาธารณะในวันสำคัญแห่งชาติ | C13: เพื่อพัฒนาและปรับปรุงภูมิทัศน์ในเขตเทศบาล | D13: ปลูกต้นไม้ในวันสำคัญต่างๆ เช่นวันต้นไม่แห่งชาติ ฯลฯ | E13: 100000 | F13: 100000 | G13: 100000 | H13: 100000 | I13: 100000 | J13: จัดกิจกรรม ปีละ ๑ ครั้ง | K13: ประชาชนในเขตเทศบาลมีจิตสำนึกในการอนุรักษ์ธรรมชาติและสิ่งแวดล้อม | L13: กองสาธารณสุขฯ
A14: 4 | B14: โครงการกำจัดขยะมูลฝอย สิ่งปฏิกูลและน้ำเสีย เพื่อควบคุมและกำจัดภาวะมลพิษที่มีผลต่อสุขภาพ อนามัย สวัสดิภาพ และคุณภาพชีวิตของประชาชน | C14: เพื่อกำจัดขยะมูลฝอย สิ่งปฏิกูล รวมถึงน้ำเสีย ซึ่งเป็นแหล่งสะสมและแพร่กระจายของเชื้อโรคต่างๆ | D14: จัดอบรม/กิจกรรม เกี่ยวกับการกำจัดขยะมูลฝอย สิ่งปฏิกูลและน้ำเสียในครัวเรือน เพื่อลดการแพร่ระบาดของเชื้อโรค | E14: 100000 | F14: 100000 | G14: 100000 | H14: 100000 | I14: 100000 | J14: จัดกิจกรรม ปีละ ๑ ครั้ง | K14: ประชาชนในตำบลธาตุทอง มีความรู้ในการกำจัดขยะมูลฝอย สิ่งปฏิกูลและน้ำเสียอย่างถูกวิธี | L14: กองสาธารณสุขฯ
A15: 5 | B15: โครงการคุ้มครอง ดูแลบำรุงรักษาทรัพยากรธรรมชาติ และสิ่งแวดล้อม ควบคุมและลดมลพิษ เป็นมิตรกับสิ่งแวดล้อม | C15: เพื่อบำรุงรักษา ลดมลพิษ ให้กับสิ่งแวดล้อมและทรัพยากรธรรมชาติ | D15: จัดอบรม/กิจกรรมเกี่ยวกับการดูแลรักษาสิ่งแวดล้อม | E15: 100000 | F15: 100000 | G15: 100000 | H15: 100000 | I15: 100000 | J15: จัดกิจกรรม ปีละ ๑ ครั้ง | K15: ผู้ได้รับการอบรมมีความรู้ ความเข้าใจและสามารถนำไปเผยแพร่ได้ | L15: กองสาธารณสุขฯ
A16: 6 | B16: โครงการรักษ์น้ำ รักษ์ป่า รักษาแผ่นดิน | C16: เพื่อส่งเสริมประชาชนในพื้นที่อนุรักษ์ ฟื้นฟู ทรัพยากรป่าไม้ ดินและน้ำรวมถึงระบบนิเวศน์ | D16: ประชาชนในเขตเทศบาลตำบลธาตุทอง | E16: 50000 | F16: 50000 | G16: 50000 | H16: 50000 | I16: 50000 | J16: ประชาชนที่เข้าร่วมโครงการ จำนวน 50 คน | K16: ประชาชนในพื้นที่ได้มีส่วนร่วมในการอนุรักษ์ ฟื้นฟู สิ่งแวดล้อม | L16: สำนักปลัด
A17: รวม | E17: =SUM(E11:E16) -> 560000 | F17: =SUM(F11:F16) -> 560000 | G17: =SUM(G11:G16) -> 560000 | H17: =SUM(H11:H16) -> 560000 | I17: =SUM(I11:I16) -> 560000

Sheet 1.6
A1: รายละเอียดโครงการพัฒนา
A2: แผนพัฒนาท้องถิ่น (พ.ศ. ๒๕๖๖ – ๒๕๗๐)
A3: เทศบาลตำบลธาตุทอง อำเภอบ่อทอง จังหวัดชลบุรี
A4: ก. | B4: ยุทธศาสตร์จังหวัดที่ 6 บริหารจัดการทรัพยากรธรรมชาติและสิ่งแวดล้อมให้เกิดความสมดุลอย่างมีส่วนร่วม
A5: ข. | B5: ยุทธศาสตร์การพัฒนาของ อปท. ในเขตจังหวัด ที่ 5 การอนุรักษ์ / ฟื้นฟูสิ่งแวดล้อมและพลังงาน
B6: 1. ยุทธศาสตร์การพัฒนาคุณภาพชีวิตประชาชน
B7: 1.6 แผนงานการส่งเสริมสุขภาพของประชาชน
A8: ที่ | B8: โครงการ | C8: วัตถุประสงค์ | D8: เป้าหมาย (ผลผลิตของโครงการ) | E8: งบประมาณ | J8: ตัวชี้วัด(KPI) | K8: ผลที่คาดว่าจะได้รับ | L8: หน่วยงานรับผิดชอบหลัก
E9: 2566 | F9: 2567 | G9: 2568 | H9: 2569 | I9: 2570
E10: (บาท) | F10: (บาท) | G10: (บาท) | H10: (บาท) | I10: (บาท)
A11: 1 | B11: โครงการป้องกันและควบคุมโรคที่เกิดจากยุงลายเป็นพาหะ | C11: 1. เพื่อป้องกันและควบคุมการระบาดของโรคที่เกิดจากยุงลายเป็นพาหะ 2. เพื่อเสริมสร้างความร่วมมือในการป้องกันโรคกับชุมชน | D11: จัดอบรม/กิจกรรมโครงการในการให้ความรู้,การรณรงค์ป้องกันและควบคุมการเกิดโรคที่มียุงลายเป็นพาหะ | E11: 100000 | F11: 100000 | G11: 100000 | H11: 100000 | I11: 100000 | J11: จัดอบรม/กิจกรรม ปีละ ๑ ครั้ง | K11: สามารถควบคุมและป้องกันการเกิดโรคที่มียุงเป็นพาหะได้ | L11: กองสาธารณสุขฯ
A12: 2 | B12: โครงการป้องกันและควบคุมโรคพิษสุนัขบ้า | C12: - เพื่อป้องกันการแพร่ระบาดของโรคพิษสุนัขบ้าในพื้นที่ - เพื่อลดจำนวนสุนัขและแมวในพื้นที่ | D12: 1. รณรงค์ฉีดวัคซีนป้องกันโรคพิษสุนัขบ้า 2. ดำเนินการร่วมกับปศุสัตว์จังหวัดในการคุมกำเนิด | E12: 250000 | F12: 250000 | G12: 250000 | H12: 250000 | I12: 250000 | J12: จัดกิจกรรม ปีละ ๑ ครั้ง | K12: ประชาชน/เจ้าของสัตว์เลี้ยง มีส่วนร่วมในการดูแลสัตว์เลี้ยงของตนเอง | L12: กองสาธารณสุขฯ
A13: 3 | B13: โครงการจัดหาครุภัณฑ์ (เครื่องพ่นยา ULV) | C13: เพื่อป้องกันและควบคุมโรคติดต่อต่าง ๆ อย่างต่อเนื่อง โดยเฉพาะไข้เลือดออก | D13: จัดซื้อเครื่องพ่นยา ULV จำนวน ๔ เครื่อง | E13: _ | F13: 40000 | G13: _ | H13: 40000 | I13: _ | J13: เครื่องพ่นยา ๔เครื่อง | K13: ประชาชนในตำบลธาตุทองมีสุขภาพร่างกายแข็งแรงปลอดภัยจากโรค | L13: กองสาธารณสุขฯ
A14: 4 | B14: โครงการอบรมคุ้มครองผู้บริโภค | C14: เพื่ออบรมให้ความรู้แก่ผู้ประกอบการจำหน่ายอาหาร และแกนนำสุขภาพ ให้ความรู้เกี่ยวกับหลักสุขาภิบาลที่ถูกต้องและการเลือกซื้ออาหารที่ปราศจากสารปนเปื้อน | D14: ผู้ประกอบการจำหน่ายอาหารในเทศบาลตำบลธาตุทอง และประชาชนได้บริโภคอาหารที่ถูกหลักสุขาภิบาล | E14: 30000 | F14: 30000 | G14: 30000 | H14: 30000 | I14: 30000 | J14: ผู้ประกอบการจำหน่ายอาหารผ่านเกณฑ์การตรวจสารปนเปื้อนในอาหาร | K14: กลุ่มเครือข่ายคุ้มครองผู้บริโภคมีความรู้เพิ่มขึ้นและสามารถนำไปใช้ประโยชน์แก่ตนเองและชุมชนได้อย่างน้อยร้อยละ 80 | L14: กองสาธารณสุขฯ
A15: 5 | B15: โครงการพัฒนางานสาธารณสุขมูลฐานของหมู่บ้าน/ชุมชน | C15: เพื่อให้ อสม.มีความรู้และพัฒนาศักยภาพด้านงานสาธารณสุขมูลฐาน | D15: จัดอบรมความรู้ให้แก่ อสม.และแกนนำชุมชน | E15: 165000 | F15: 165000 | G15: 165000 | H15: 165000 | I15: 165000 | J15: จัดกิจกรรม ปีละ 1 ครั้ง | K15: อสม.มีศักยภาพเพิ่มขึ้นดูแลสุขภาพเบื้องต้นแก่ชุมชนได้ | L15: กองสาธารณสุขฯ
A16: 6 | B16: โครงการอบรมการจัดการขยะมูลฝอย | C16: - เพื่อให้ชุมชนมีความรู้และสามารถคัดแยกขยะที่ถูกต้องได้ - ปลูกจิตสำนึกในการคัดแยกขยะก่อนทิ้ง | D16: - ลดปริมาณขยะ - สิ่งแวดล้อมในชุมชนสะอาด | E16: 50000 | F16: 50000 | G16: 50000 | H16: 50000 | I16: 50000 | J16: ปริมาณขยะลดลงร้อยละ ๕๐ จากปีที่ผ่านมา | K16: - ประชาชนมีความรู้ในการคัดแยกขยะ - ลดปริมาณขยะ | L16: กองสาธารณสุขฯ
A17: 7 | B17: โครงการอบรมเครือข่ายอาสาสมัครท้องถิ่นรักษ์โลก (อถล.) | C17: เพื่อเป็นการสร้างจิตสำนึกที่ดีในการอนุรักษ์ธรรมชาติและสิ่งแวดล้อม และร่วมกันลดภาวะโลกร้อน และปฏิบัติตัวเป็นแบบอย่างในด้านสิ่งแวดล้อม เช่น คัดแยกขยะ ลดการใช้ถุงพลาสติกและโฟม ฯลฯ และสามารถประชาสัมพันธ์การดำเนินการรักษาสิ่งแวดล้อม | D17: สมาชิก อถล. ในเขตเทศบาลตำบลธาตุทอง | E17: 100000 | F17: 100000 | G17: 100000 | H17: 100000 | I17: 100000 | J17: จำนวนครัวเรือนในตำบลธาตุทอง สมาชิก อถล. ร้อยละ 80 | K17: ประชาชนในตำบลธาตุทองเป็นสมาชิก อถล.และมีจิตสำนึกที่ดีในการดูแลรักษาสิ่งแวดล้อม | L17: กองสาธารณสุขฯ
A18: 8 | B18: เงินอุดหนุนสำหรับงานตามแนวพระราชดำริด้านสาธารณสุข | C18: เพื่อสนับสนุนให้ชุมชนดำเนินการตามแนวทางของโครงการ | D18: สนับสนุนงบประมาณให้กับหมู่บ้าน จำนวน ๙ หมู่ หมู่บ้านละ 20,000 บาท | E18: 180000 | F18: 180000 | G18: 180000 | H18: 180000 | I18: 180000 | J18: จำนวนหมู่บ้านที่ได้รับการสนับสนุน | K18: ประชาชนในตำบลธาตุทองมีสุขภาพอนามัยที่ดี | L18: กองสาธารณสุขฯ /คกก.หมู่บ้าน
A19: 9 | B19: เงินอุดหนุนสำหรับสำรวจข้อมูลจำนวนสัตว์และขึ้นทะเบียนสัตว์ตามโครงการสัตว์ปลอดโรค คนปลอดภัย จากโรคพิษสุนัขบ้า ตามพระปณิธานของศาสตราจารย์ ดร.สมเด็จพระเจ้าน้องนางเธอ เจ้าฟ้าจุลาภรณวลัยลักษณ์ อัครราชกุมารี กรมพระศรีสรางควัฒนวรขัตติยราชนารี | C19: เพื่อสนับสนุนให้ประชาชนสำรวจจำนวนสัตว์เลี้ยงเพื่อขึ้นทะเบียนตามโครงการสัตว์ปลอดโรค คนปลอดภัย จากโรคพิษสุนัขบ้าฯ | D19: ผู้ที่สำรวจจำนวนสัตว์เลี้ยงได้รับค่าตอบแทนในการสำรวจฯ | E19: 20000 | F19: 20000 | G19: 20000 | H19: 20000 | I19: 20000 | J19: ผู้ที่สำรวจจำนวนสัตว์เลี้ยงได้รับค่าตอบแทนร้อยละ 100 | K19: สัตว์เลี้ยง(สุนัขและแมว)ได้รับการขึ้นทะเบียนตามโครงการสัตว์ปลอดโรค คนปลอดภัยจากโรคพิษสุนัขบ้าฯ | L19: กองสาธารณสุขฯ
A20: 10 | B20: เงินอุดหนุนสำหรับขับเคลื่อนตามโครงการสัตว์ปลอดโรค คนปลอดภัย จากโรคพิษสุนัขบ้า ตามพระปณิธานของศาสตราจารย์ ดร.สมเด็จพระเจ้าน้องนางเธอ เจ้าฟ้าจุลาภรณวลัยลักษณ์ อัครราชกุมารี กรมพระศรีสรางควัฒนวรขัตติยราชนารี | C20: 1. เพื่อดำเนินการฉีดวัคซีนป้องกันโรคพิษสุนัขบ้า ควบคุมการเกิดโรคพิษสุนัขบ้าในสัตว์ ๒. เพื่อป้องกันการเกิดโรคพิษสุนัขบ้าในคน กรณีที่ถูกสัตว์เลี้ยงกัด | D20: สัตว์เลี้ยงที่ได้รับการขึ้นทะเบียน ได้รับการฉีดวัคซีน จากปศุสัตว์อำเภอ/จังหวัด หรือผู้ที่ได้รับมอบหมาย | E20: 200000 | F20: 200000 | G20: 200000 | H20: 200000 | I20: 200000 | J20: สัตว์เลี้ยงที่ได้รับการขึ้นทะเบียน ได้รับการฉีดวัคซีนฯ ร้อยละ ๙๐ | K20: 1. ไม่พบสัตว์เลี้ยงป่วยด้วยโรคพิษสุนัขบ้า ๒. คนที่ถูกสัตว์กัด/ข่วน ไม่ป่วยด้วยโรคพิษสุนัขบ้า | L20: กองสาธารณสุขฯ
A21: 11 | B21: โครงการป้องกันและแก้ไขปัญหาโรคขาดสารไอโอดีนอย่างเข้มแข็งและยั่งยืน | C21: เพื่อเป็นการป้องกันการเกิดโรคขาดสารไอโอดีนในช่วงวัยต่างๆ | D21: จัดอบรมให้ความรู้การป้องกันโรคขาดสารไอโอดีน กับแกนนำสุขภาพในพื้นที่ตำบลธาตุทอง | E21: 30000 | F21: 30000 | G21: 30000 | H21: 30000 | I21: 30000 | J21: จัดกิจกรรม ปีละ 1 ครั้ง | K21: ประชาชนในตำบลธาตุทองไม่ป่วยด้วยโรคขาดสารไอโอดีน | L21: กองสาธารณสุขฯ
A22: 12 | B22: โครงการ การบริหารจัดการเพื่อการสงเคราะห์สัตว์และการจัดสวัสดิภาพสัตว์ในการแก้ไขปัญหาสุนัขจรจัด ในจังหวัดชลบุรี | C22: - เพื่อแก้ไขปัญหาสุนัขจรจัดและสัตว์จรจัดหรือปัญหาที่อาจเกิดขึ้นจากโรคระบาดของสัตว์ที่แพร่เชื้อสู่มนุษย์ - เพื่อช่วยเหลืออภิบาลสัตว์ที่ถูกทอดทิ้ง หรือทารุณกรรม - เพื่อลดภาระในการดำเนินงาน ตามภารกิจของหน่วยงานต่างๆ ในการจัดสวัดิภาพของสัตว์ | D22: สนับสนุนเงินอุดหนุนในการบริหารจัดการศูนย์พักพิงสุนัขจรจัด จังหวัดชลบุรี | E22: 80000 | F22: 80000 | G22: 80000 | H22: 80000 | I22: 80000 | J22: ศูนย์พักพิงสุนัขจรจัดจังหวัดชลบุรี ได้รับเงินอุดหนุนเพื่อดำเนินการตามวัตถุประสงค์ | K22: - สุนัขจรจัดและสัตว์จรจัดที่เจ็บป่วย ได้รับการดูแลรักษาอย่างเป็นระบบและเหมาะสม - สุนัขจรจัดและสัตว์จรจัดในพื้นที่จังหวัดชลบุรีมีที่อยู่อาศัย หรือสถานพักพิงที่เหมาะสม ไม่ส่งผลกระทบต่อการเป็นเมืองท่องเที่ยว - สุนัขจรจัดและสัตว์จรจัดในพื้นที่จังหวัดชลบุรี ได้รับการช่วยเหลือป้องกัน จากการถูกทำร้ายและทารุณกรรม | L22: กองสาธารณสุขฯ/มูลนิธิศูนย์พักพิงสุนัขจรจัด
A23: 13 | B23: โครงการป้องกันและระงับโรคติดต่อ | C23: เพื่อป้องกันและระงับโรคติดต่อที่มีการระบาดในชุมชน | D23: ประชาชนในเขตเทศบาลตำบลธาตุทอง - อบรมให้ความรู้เกี่ยวกับโรคติดต่อให้กับแกนนำสุขภาพและประชาชนในพื้นที่ | E23: 50000 | F23: 50000 | G23: 50000 | H23: 50000 | I23: 50000 | J23: ประชาชนมีความรู้ ความเข้าใจ ร้อยละ 80 | K23: สามารถป้องกันและระงับโรคติดต่อที่มีการระบาดในชุมชน | L23: กองสาธารณสุข
A24: 14 | B24: โครงการสร้างศูนย์กีฬาอเนกประสงค์ | C24: เพื่อส่งเสริมการเล่นกีฬา | D24: สร้างศูนย์กีฬาบริเวณเทศบาลธาตุทอง - ซื้อที่ดิน สร้างศูนย์ | E24: - | F24: 5000000 | G24: - | H24: - | I24: - | J24: ศูนย์กีฬา ๑ แห่ง | K24: ประชาชนตระหนักถึงการออกกำลังกายและสร้างความสามัคคี | L24: กองช่าง
A25: 15 | B25: โครงการสวนสุขภาพบริเวณสระน้ำ หมู่ที่ ๑ | C25: เพื่อให้บริการด้านคุณภาพชีวิตของประชาชนและเป็นที่ออกกำลังกาย | D25: ปรับปรุงบริเวณสระน้ำเป็นสวนสุขภาพ (หลังเทศบาล) | E25: - | F25: 5000000 | G25: - | H25: - | I25: - | J25: ประชาชนมีความพึงพอใจร้อยละ ๘๐ | K25: ประชาชนมีสถานที่ออกกำลังกายและพักผ่อนเพิ่มขึ้น | L25: กองช่าง
A26: 16 | B26: โครงการก่อสร้างลานกีฬาผู้สูงอายุ บ้านคลองมือไทร หมู่ที่ 5 | C26: เพื่อให้ประชาชนมีสถานที่ออกกำลังกาย | D26: ขนาดกว้าง 10 เมตร ความยาว 10 เมตร (บริเวณบ้าน ผู้ช่วยผู้ใหญ่บ้านนายสิงห์ชัย) | E26: - | F26: - | G26: - | H26: - | I26: 50000 | J26: สร้างลานกีฬาตามเป้าหมาย | K26: ประชาชนมีสุขภาพร่างกายที่แข็งแรง | L26: กองช่าง
A27: 17 | B27: โครงการก่อสร้างสนามเปตอง บ้านห้วยซุง หมู่ที่ ๘ | C27: เพื่อส่งเสริมให้ประชาชนมีแหล่งสำหรับออกกำลังกายอย่างเหมาะสม | D27: สนามกว้าง ๔ เมตร ยาว ๑๐ เมตร จำนวน ๒ สนาม (บริเวณอาคารอเนกประสงค์) | E27: - | F27: 40000 | G27: - | H27: - | I27: - | J27: สร้างสนามเปตองตามเป้าหมาย | K27: ประชาชนมีสุขภาพร่างกายที่แข็งแรง | L27: กองช่าง
A28: 18 | B28: โครงการจัดซื้อเครื่องออกกำลังกาย | C28: เพื่อส่งเสริมให้ประชาชนได้ใส่ใจในสุขภาพมากขึ้น | D28: ดำเนินการจัดซื้อเครื่องออกกำลังกาย จำนวน 2 แห่ง หมู่ที่ 3 จำนวน 10 ชุด หมู่ที่ 9 จำนวน 10 ชุด | E28: - | F28: 200000 | G28: - | H28: - | I28: - | J28: เครื่องออกกำลังการตามเป้าหมาย | K28: ประชาชนมีสุขภาพที่แข็งแรง | L28: สำนักปลัด
A29: 19 | B29: โครงการเพิ่มศักยภาพในการป้องกันและแก้ไขปัญหายาเสพติด ของ ศอ.ปส.จ.ชบ. จังหวัดชลบุรี | C29: เพื่อป้องกันและแก้ไขปัญหายาเสพติด | D29: ดำเนินการในพื้นที่จังหวัดชลบุรี | E29: 80000 | F29: 80000 | G29: 80000 | H29: 80000 | I29: 80000 | J29: สนับสนุนเงินอุดหนุนศอ.ปส.จ.ชบ. จังหวัดชลบุรี | K29: ประชาชนเข้มแข็งห่างไกลยาเสพติด | L29: ทำการปกครองจังหวัดชลบุรี
A30: 20 | B30: โครงการแก้ไขปัญหายาเสพติดตามนโยบายรัฐบาล | C30: เพื่อเสริมสร้างความเข้มแข็งของชุมชน | D30: ประชาชนในเขตเทศบาล | E30: 100000 | F30: 100000 | G30: 100000 | H30: 100000 | I30: 100000 | J30: จัดกิจกรรม ปีละ 1 ครั้ง | K30: ประชาชนเข้มแข็งห่างไกลยาเสพติด | L30: สำนักปลัด
A31: 21 | B31: โครงการกีฬาต้านภัยยาเสพติด | C31: เพื่อสนับสนุนให้ประชาชนใช้เวลาว่างให้เป็นประโยชน์ สร้างความสามัคคี | D31: ประชาชนในเขตเทศบาลตำบลธาตุทอง | E31: 300000 | F31: 300000 | G31: 300000 | H31: 300000 | I31: 300000 | J31: จัดกิจกรรม ปีละ 1 ครั้ง | K31: ประชาชนสนใจกีฬาและการออกกำลังกายมากขึ้น | L31: กองการศึกษาฯ
A32: 22 | B32: โครงการสนับสนุนกีฬาต่างๆ | C32: เพื่อสนับสนุนการจัดการแข่งขันกีฬา | D32: จำนวน 9 หมู่บ้านในตำบลธาตุทองและหน่วยงานต่างๆในอำเภอบ่อทอง | E32: 300000 | F32: 300000 | G32: 300000 | H32: 300000 | I32: 300000 | J32: จัดกิจกรรม ปีละ 1 ครั้ง | K32: พนักงานและข้าราชการมีความสามัคคี | L32: กองการศึกษาฯ
A33: 23 | B33: โครงการจัดการแข่งขันกีฬาปรองดองสมานฉันท์ระดับอำเภอ | C33: เพื่อส่งเสริมให้ประชาชนออกกำลังกายอย่างเหมาะสม | D33: ประชาชนในเขตพื้นที่อำเภอบ่อทอง | E33: 30000 | F33: 30000 | G33: 30000 | H33: 30000 | I33: 30000 | J33: สนับสนุนเงินอุดหนุนอำเภอบ่อทอง | K33: ประชาชนมีสุขภาพแข็งแรง | L33: กองการศึกษาฯ
A34: รวม | E34: =SUM(E11:E30) -> 1435000 | F34: =SUM(F11:F30) -> 11715000 | G34: =SUM(G11:G30) -> 1435000 | H34: =SUM(H11:H30) -> 1475000 | I34: =SUM(I11:I30) -> 1485000

Sheet 1.7
A1: รายละเอียดโครงการพัฒนา
A2: แผนพัฒนาท้องถิ่น (พ.ศ. ๒๕๖๖ – ๒๕๗๐)
A3: เทศบาลตำบลธาตุทอง อำเภอบ่อทอง จังหวัดชลบุรี
A4: ก. | B4: ยุทธศาสตร์จังหวัดที่ ๕ พัฒนาคนและชุมชนให้สังคมมั่นคง มีคุณภาพและยั่งยืนตามหลักปรัชญาของเศรษฐกิจพอเพียง
A5: ข. | B5: ยุทธศาสตร์การพัฒนาของ อปท. ในเขตจังหวัด ที่ 4 ยุทธศาสตร์การพัฒนาคุณภาพชีวิตคู่เศษฐกิจพอเพียง
B6: 1. ยุทธศาสตร์การพัฒนาคุณภาพชีวิตประชาชน
B7: 1.7 แผนงานการส่งเสริมการให้ความช่วยเหลือแก่ผู้ด้อยโอกาส คนชรา เด็กและคนพิการ
A8: ที่ | B8: โครงการ | C8: วัตถุประสงค์ | D8: เป้าหมาย (ผลผลิตของโครงการ) | E8: งบประมาณ | J8: ตัวชี้วัด(KPI) | K8: ผลที่คาดว่าจะได้รับ | L8: หน่วยงานรับผิดชอบหลัก
E9: 2566 | F9: 2567 | G9: 2568 | H9: 2569 | I9: 2570
E10: (บาท) | F10: (บาท) | G10: (บาท) | H10: (บาท) | I10: (บาท)
A11: 1 | B11: โครงการออกเยี่ยมคนพิการและผู้ป่วยติดเตียง | C11: ผู้พิการและผู้ป่วยติดเตียงในตำบลธาตุทองได้รับการดูแล การตรวจเยี่ยมสุขภาพ เพื่อการดูแลสุขภาพ | D11: ผู้ป่วยติดเตียงทุกคนได้รับการตรวจ ติดตามการดูแลด้านสุขภาพ | E11: 50000 | F11: 50000 | G11: 50000 | H11: 50000 | I11: 50000 | J11: ร้อยละ ๘๐ ของผู้พิการและผู้ป่วยติดเตียง | K11: ผู้พิการและผู้ป่วยติดเตียงในตำบลธาตุทองได้รับการดูแล และมีคุณภาพชีวิตที่ดีขึ้น | L11: กองสาธารณสุขฯ
A12: 2 | B12: โครงการอบรมให้ความรู้ด้านโรคเอดส์ในชุมชน | C12: เพื่อให้ประชาชนทุกกลุ่มวัยซึ่งเป็นกลุ่มเสี่ยงมีความรู้ด้านการป้องกันโรคเอดส์ | D12: ประชาชนทุกวัยในเขตเทศบาล | E12: 50000 | F12: 50000 | G12: 50000 | H12: 50000 | I12: 50000 | J12: จัดกิจกรรม ปีละ 1 ครั้ง | K12: ประชาชนในชุมชนมีความรู้ด้านเอดส์และสามารถป้องกันตนเองได้ | L12: กองสาธารณสุขฯ
A13: 3 | B13: โครงการอบรมอาสาสมัครบริบาลท้องถิ่น | C13: เพื่อให้ผู้ที่ดูแลผู้ป่วยติดเตียงมีความรู้ในการดำเนินเนินงานได้อย่างถูกต้องเหมาะสม | D13: ผู้ป่วยติดเตียงได้รับการดูแลอย่างถูกต้อง ครบถ้วน | E13: 100000 | F13: 100000 | G13: 100000 | H13: 100000 | I13: 100000 | J13: ร้อยละ ๘๐ ของผู้ป่วยติดเตียง | K13: - อาสาสมัครบริบาลท้องถิ่นมีความรู้ในการดูแลผู้ป่วยอย่างถูกต้อง - ผู้ป่วยติดเตียงมีคุณภาพชีวิตที่ดีขึ้น | L13: กองสาธารณสุขฯ
A14: 4 | B14: โครงการส่งเสริมอาชีพแก่ผู้ด้อยโอกาส | C14: เพื่อส่งเสริมให้ผู้ด้อยโอกาสมีอาชีพ | D14: จัดกิจกรรมส่งเสริมอาชีพ | E14: 100000 | F14: 100000 | G14: 100000 | H14: 100000 | I14: 100000 | J14: จัดกิจกรรม ปีละ 1 ครั้ง | K14: ผู้ด้อยโอกาสได้รับการส่งเสริมอาชีพเพิ่มขึ้น | L14: สำนักปลัด
A15: 5 | B15: โครงการมอบทุนการศึกษาให้กับเยาวชนผู้ด้อยโอกาส | C15: เพื่อให้การศึกษากับเยาวชนผู้ด้อยโอกาส | D15: จัดมอบทุนการศึกษากับนักเรียน | E15: 200000 | F15: 200000 | G15: 200000 | H15: 200000 | I15: 200000 | J15: จัดกิจกรรม ปีละ 1 ครั้ง | K15: นักเรียน/นักศึกษาได้รับการศึกษา | L15: สำนักปลัด
A16: 6 | B16: โครงการส่งเสริมสนับสนุนกิจกรรมผู้ยากจนผู้ยากไร้ให้มีคุณภาพชีวิตที่ดีขึ้น | C16: เพื่อส่งเสริมสนับสนุนกิจกรรมที่เป็นการช่วยเหลือผู้ยากจน ผู้ยากไร้ผู้ด้อยโอกาส ในเขตเทศบาลตำบลธาตุทองให้มีคุณภาพชีวิตที่ดีขึ้น | D16: ผู้ยากจน คนยากไร้ ผู้ด้อยโอกาส ในเขตเทศบาลตำบลธาตุทอง | E16: 100000 | F16: 100000 | G16: 100000 | H16: 100000 | I16: 100000 | J16: ร้อยละ ๗๐ ของผู้ยากจน คนยากไร้ ผู้ด้อยโอกาส | K16: ประชาชนในเขตเทศบาลที่ยากจน ผู้ยากไร้ ผู้ด้อยโอกาสได้รับการช่วยเหลือ | L16: สำนักปลัด
A17: 7 | B17: โครงการส่งเสริม/จัดหาสถานที่เพื่อส่งเสริมอาชีพคนพิการ หรือผู้ยากไร้ในเขตเทศบาลตำบลธาตุทอง | C17: เพื่อส่งเสริมและพัฒนาอาชีพของผู้พิการหรือผู้ยากไร้ | D17: ดำเนินการจัดหาสถานที่เพื่อจำหน่ายผลิตภัณฑ์ที่มาจากผู้พิการหรือผู้ยากไร้ | E17: 100000 | F17: 100000 | G17: 100000 | H17: 100000 | I17: 100000 | J17: จำนวน ๑ แห่ง | K17: ผู้พิการและผู้ด้อยโอกาสได้มีสถานที่จำหน่ายผลิตภัณฑ์ | L17: สำนักปลัด
A18: 8 | B18: โครงการปรับปรุงที่อยู่อาศัยให้กับผู้ยากไร้ | C18: เพื่อบรรเทาความเดือดร้อนของประชาชน | D18: ปรับปรุงที่อยู่อาศัยให้กับผู้ยากไร้ | E18: 100000 | F18: 100000 | G18: 100000 | H18: 100000 | I18: 100000 | J18: จัดกิจกรรม ปีละ 1 ครั้ง | K18: ประชาชนมีคุณภาพชีวิตที่ดีขึ้น | L18: กองช่าง/สำนักปลัด
A19: 9 | B19: โครงการสานสายใยรักสร้างครอบครัวเข้มแข็ง | C19: 1. เพื่อจัดอบรมให้ความรู้แก่เด็ก สตรี และบุคคลทั่วไปด้านการยุติความรุนแรงต่อเด็กและสตรี 2. เพื่อพัฒนาศูนย์พัฒนาครอบครัวของเทศบาลตำบลธาตุทองให้เกิดความเข้มแข็ง | D19: 1. จัดรณรงค์เกี่ยวกับยุติความรุนแรงต่อเด็กและสตรี 2. อบรมให้ความรู้เกี่ยวกับการยุติความรุนแรงต่อเด็กและสตรี 3. อบรมให้ความรู้เกี่ยวกับการยุติการกระทำรุนแรงในครอบครัว | E19: 35000 | F19: 35000 | G19: 35000 | H19: 35000 | I19: 35000 | J19: จัดกิจกรรม ปีละ 1 ครั้ง | K19: เด็กและสตรีทั่วไปได้รับความรู้เกี่ยวกับการยุติความรุนแรงในรูปแบบต่าง ๆ | L19: สำนักปลัด
A20: 10 | B20: โครงการพัฒนาศักยภาพผู้สูงอายุในเขตเทศบาลตำบลธาตุทอง | C20: 1. จัดอบรมชมรมผู้สูงอายุเกี่ยวกับการดำเนินงานด้านการดูแลคุณภาพชีวิตของผู้สูงอายุ 2.อบรมอาสาสมัคร ดูแลผู้สูงอายุ (อผส) ในเขตเทศบาลตำบลธาตุทอง | D20: 1.จัดตั้งอาสาสมัครดูแลผู้สูงอายุที่บ้าน (อผส) ในเขตเทศบาลตำบลธาตุทอง 2.ชมรมผู้สูงอายุและอาสาสมัครดูแลผู้สูงอายุที่บ้านได้รับความรู้ และสถานการณ์ของผู้สูงอายุในเขตเทศบาลตำบลธาตุทอง | E20: 40000 | F20: 40000 | G20: 40000 | H20: 40000 | I20: 40000 | J20: จัดกิจกรรม ปีละ 1 ครั้ง | K20: 1. มีอาสาสมัครดูแลผู้สูงอายุในเขตเทศบาลตำบลธาตุทอง 2.เกิดชมรมผู้สูงอายุทุกชุมชนในเขตเทศบาลตำบลธาตุทอง | L20: สำนักปลัด
A21: 11 | B21: ส่งเสริมกิจกรรม/โครงการพัฒนาบทบาทสตรีและครอบครัว | C21: เพื่อส่งเสริมสภาวะผู้นำแก่สตรีในชุมชนและพัฒนาสตรีในด้านต่างๆ | D21: สตรีในเขตเทศบาลตำบลธาตุทอง จำนวน ๑๐๐ คน | E21: 100000 | F21: 100000 | G21: 100000 | H21: 100000 | I21: 100000 | J21: จัดกิจกรรม ปีละ 1 ครั้ง | K21: เพื่อส่งเสริมสิทธิสตรีให้มีความเท่าเทียมกัน | L21: สำนักปลัด
A22: 12 | B22: โครงการสนับสนุนกองทุนแม่ของแผ่นดิน | C22: เพื่อเสริมสร้างความเข้มแข็งของชุมชน | D22: ๑ อำเภอ ๑ ศูนย์การเรียนรู้ | E22: 100000 | F22: 100000 | G22: 100000 | H22: 100000 | I22: 100000 | J22: ๑ แห่ง | K22: ประชาชนเข้มแข็งห่างไกลยาเสพติด | L22: สำนักปลัด
... A24: 14 | B24: โครงการอุดหนุนชมรมผู้สูงอายุ เทศบาลตำบลธาตุทอง | C24: เพื่อส่งเสริมสนับสนุนกิจกรรมฝึกอาชีพแก่ผู้สูงอายุ | D24: อุดหนุนชมรมผู้สูงอายุเทศบาลตำบลธาตุทอง | E24: 100000 | F24: 100000 | G24: 100000 | H24: 100000 | I24: 100000 | J24: อุดหนุนงบประมาณชมรมผู้สูงอายุเทศบาลตำบลธาตุทอง | K24: เพื่อส่งเสริมสนับสนุนกิจกรรมฝึกอาชีพแก่ผู้สูงอายุ | L24: สำนักปลัด/ ชมรมผู้สูงอายุเทศบาลตำบลธาตุทอง
A25: รวม | E25: =SUM(E11:E24) -> 1250000 | F25: =SUM(F11:F24) -> 1250000 | G25: =SUM(G11:G24) -> 1250000 | H25: =SUM(H11:H24) -> 1250000 | I25: =SUM(I11:I24) -> 1250000

Sheet 2.1
A1: รายละเอียดโครงการพัฒนา
A2: แผนพัฒนาท้องถิ่น (พ.ศ. ๒๕๖๖ – ๒๕๗๐)
A3: เทศบาลตำบลธาตุทอง อำเภอบ่อทอง จังหวัดชลบุรี
A4: ก. | B4: ยุทธศาสตร์จังหวัดที่ 3 สร้างเสริมนวัตกรรมสู่เกษตรสร้างมูลค่า
A5: ข. | B5: ยุทธศาสตร์การพัฒนาของ อปท. ในเขตจังหวัด ที่ ๓ การพัฒนาการเกษตร/อุตสาหกรรมให้ได้มาตรฐาน
B6: ๒. ยุทธศาสตร์การพัฒนาเศรษฐกิจตามปรัชญาเศรษฐกิจพอเพียง
B7: ๒.๑ แผนงานการส่งเสริมกิจกรรมการพัฒนาและส่งเสริมการประกอบอาชีพ
A8: ที่ | B8: โครงการ | C8: วัตถุประสงค์ | D8: เป้าหมาย (ผลผลิตของโครงการ) | E8: งบประมาณ | J8: ตัวชี้วัด(KPI) | K8: ผลที่คาดว่าจะได้รับ | L8: หน่วยงานรับผิดชอบหลัก
E9: 2566 | F9: 2567 | G9: 2568 | H9: 2569 | I9: 2570
E10: (บาท) | F10: (บาท) | G10: (บาท) | H10: (บาท) | I10: (บาท)
A11: 1 | B11: โครงการอบรมการพัฒนาชีวิตตามหลักปรัชญาเศรฐกิจพอเพียง | C11: เพื่อให้ประชาชนในพื้นที่ได้รู้ถึงหลักการสร้างงานสร้างรายได้ ลดรายจ่ายเพิ่มผลผลิต โดยยึดหลักปรัชญาของเศรษฐกิจพอเพียง | D11: อุดหนุนอำเภอบ่อทอง ในการจัดอบรมตามโครงการที่ขอรับงบประมาณ | E11: 20000 | F11: 20000 | G11: 20000 | H11: 20000 | I11: 20000 | J11: อำเภอบ่อทองได้รับเงินอุดหนุนเพื่อดำเนินการตามวัตถุประสงค์ | K11: เกษตรกรในเขตเทศบาลตำบลธาตุทองมีความรู้ ความเข้าใจหลักการสร้างงานสร้างรายได้ลดรายจ่ายเพิ่มผลผลิตโดยยึดหลักปรัชญาของเศรษฐกิจพอเพียง | L11: สำนักปลัด/ที่ว่าการอำเภอบ่อทอง
A12: ๒ | B12: โครงการอบรมและส่งเสริมอาชีพประชาชนในเขตเทศบาลตำบลธาตุทอง | C12: เพื่อให้ประชาชนได้รับการพัฒนาศักยภาพและส่งเสริมอาชีพ | D12: อบรมและส่งเสริมอาชีพประชาชนในเขตเทศบาลตำบลธาตุทอง | E12: 100000 | F12: 100000 | G12: 100000 | H12: 100000 | I12: 100000 | J12: อบรมปีละ 2 ครั้ง | K12: ประชาชนได้รับการพัฒนาศักยภาพและส่งเสริมอาชีพ | L12: สำนักปลัด
A13: ๓ | B13: โครงการส่งเสริมสนับสนุนวิสาหกิจชุมชน | C13: เพื่อให้ประชาชนรวมตัวกันผลิตสินค้าการบริการ/กิจกรรมอื่น | D13: วิสาหกิจชุมชน จำนวนอย่างน้อย 1 วิสาหกิจ | E13: - | F13: ๑๐,๐๐๐ | G13: - | H13: - | I13: - | J13: 1 วิสาหกิจ | K13: ประชาชนได้รวมตัวกันเกิดความสามัคคี | L13: สำนักปลัด
A14: ๔ | B14: ส่งเสริมโครงการ/กิจกรรมด้านการอนุรักษ์พลังงานและ การสร้างจิตสำนึก | C14: เพื่อประชาชนมีความรู้ในการในการอนุรักษ์พลังงานและสร้างจิตสำนึกตระหนักในการใช้พลังงานอย่างมีคุณค่า | D14: ทุกครัวเรือน ได้รับการส่งเสริมด้านการอนุรักษ์พลังงาน และการสร้างจิตสำนึก | E14: - | F14: 10000 | G14: - | H14: - | I14: - | J14: จัดกิจกรรม ปีละ ๑ ครั้ง | K14: ประชาชนมีความรู้ในการอนุรักษ์พลังงานมีจิตสำนึกและตระหนักในการใช้พลังงานอย่างคุ้มค่า | L14: สำนักปลัด
